Workbook

Sheet Sheet1
A1: 附件
A2: 公安县事业单位2025年高层次人才引进考生综合成绩及体检入围名单
A3: 序号 | B3: 招考单位 | C3: 岗位代码及名称 | D3: 姓名 | E3: 性别 | F3: 笔试百分制成绩 | G3: 面试成绩 | H3: 综合成绩 （笔试百分制成绩*0.4+面试成绩*0.6） | I3: 排名 | J3: 是否入围体检
A4: 1 | B4: 县中医医院 | C4: 200505020201中医医师 | D4: 蒋晓雨 | E4: 女 | F4: =VLOOKUP(D4,[1]笔试成绩引用表!E$1:H$65536,4,0) -> 75.78 | G4: 83.62 | H4: =F4*0.4+G4*0.6 -> 80.484 | I4: 1 | J4: 入围
A5: 2 | C5: 200505020201中医医师 | D5: 陈慧 | E5: 女 | F5: =VLOOKUP(D5,[1]笔试成绩引用表!E$1:H$65536,4,0) -> 73.88 | G5: 84.84 | H5: =F5*0.4+G5*0.6 -> 80.456 | I5: 2
A6: 3 | C6: 200505020201中医医师 | D6: 马员 | E6: 女 | F6: =VLOOKUP(D6,[1]笔试成绩引用表!E$1:H$65536,4,0) -> 66.51 | G6: 0 | H6: =F6*0.4+G6*0.6 -> 26.604 | I6: 3
A7: 4 | B7: 县疾病预防控制中心 | C7: 200505020301公共卫生医师 | D7: 黄达倩 | E7: 女 | F7: =VLOOKUP(D7,[1]笔试成绩引用表!E$1:H$65536,4,0) -> 71.38 | G7: 84.08 | H7: =F7*0.4+G7*0.6 -> 79 | I7: 1 | J7: 入围
A8: 5 | C8: 200505020301公共卫生医师 | D8: 金雨晴 | E8: 女 | F8: =VLOOKUP(D8,[1]笔试成绩引用表!E$1:H$65536,4,0) -> 70.53 | G8: 83.04 | H8: =F8*0.4+G8*0.6 -> 78.036 | I8: 2
A9: 6 | C9: 200505020301公共卫生医师 | D9: 何婉红 | E9: 女 | F9: =VLOOKUP(D9,[1]笔试成绩引用表!E$1:H$65536,4,0) -> 66.66 | G9: 80.08 | H9: =F9*0.4+G9*0.6 -> 74.712 | I9: 3
A10: 7 | B10: 县金融服务中心 | C10: 200505030101综合服务岗 | D10: 蹇梦婷 | E10: 女 | F10: =VLOOKUP(D10,[1]笔试成绩引用表!E$1:H$65536,4,0) -> 67.87 | G10: 83.84 | H10: =F10*0.4+G10*0.6 -> 77.452 | I10: 1 | J10: 入围
A11: 8 | C11: 200505030101综合服务岗 | D11: 严沁 | E11: 女 | F11: =VLOOKUP(D11,[1]笔试成绩引用表!E$1:H$65536,4,0) -> 68.57 | G11: 81.94 | H11: =F11*0.4+G11*0.6 -> 76.592 | I11: 2
A12: 9 | C12: 200505030101综合服务岗 | D12: 胡煜琳 | E12: 女 | F12: =VLOOKUP(D12,[1]笔试成绩引用表!E$1:H$65536,4,0) -> 68 | G12: 81.84 | H12: =F12*0.4+G12*0.6 -> 76.304 | I12: 3
A13: 10 | C13: 200505030101综合服务岗 | D13: 梁芷璐 | E13: 女 | F13: =VLOOKUP(D13,[1]笔试成绩引用表!E$1:H$65536,4,0) -> 64.23 | G13: 83.62 | H13: =F13*0.4+G13*0.6 -> 75.864 | I13: 4
A14: 11 | C14: 200505030101综合服务岗 | D14: 张佳卓 | E14: 男 | F14: =VLOOKUP(D14,[1]笔试成绩引用表!E$1:H$65536,4,0) -> 63.23 | G14: 81.86 | H14: =F14*0.4+G14*0.6 -> 74.408 | I14: 5
A15: 12 | C15: 200505030101综合服务岗 | D15: 明奕兵 | E15: 女 | F15: =VLOOKUP(D15,[1]笔试成绩引用表!E$1:H$65536,4,0) -> 60.04 | G15: 83.2 | H15: =F15*0.4+G15*0.6 -> 73.936 | I15: 6
A16: 13 | C16: 200505030101综合服务岗 | D16: 刘秋红 | E16: 女 | F16: =VLOOKUP(D16,[1]笔试成绩引用表!E$1:H$65536,4,0) -> 63.71 | G16: 0 | H16: =F16*0.4+G16*0.6 -> 25.484 | I16: 7
A17: 14 | B17: 县互联网信息中心 | C17: 200505040101综合服务岗 | D17: 刘明宇 | E17: 男 | F17: =VLOOKUP(D17,[1]笔试成绩引用表!E$1:H$65536,4,0) -> 74.39 | G17: 82.44 | H17: =F17*0.4+G17*0.6 -> 79.22 | I17: 1 | J17: 入围
A18: 15 | C18: 200505040101综合服务岗 | D18: 孙浩 | E18: 男 | F18: =VLOOKUP(D18,[1]笔试成绩引用表!E$1:H$65536,4,0) -> 64.36 | G18: 82.72 | H18: =F18*0.4+G18*0.6 -> 75.376 | I18: 2
A19: 16 | C19: 200505040101综合服务岗 | D19: 邹子嫣 | E19: 女 | F19: =VLOOKUP(D19,[1]笔试成绩引用表!E$1:H$65536,4,0) -> 64.6 | G19: 81.46 | H19: =F19*0.4+G19*0.6 -> 74.716 | I19: 3
A20: 17 | C20: 200505040101综合服务岗 | D20: 邹瑾 | E20: 女 | F20: =VLOOKUP(D20,[1]笔试成绩引用表!E$1:H$65536,4,0) -> 62.25 | G20: 76.32 | H20: =F20*0.4+G20*0.6 -> 70.692 | I20: 4
A21: 18 | C21: 200505040101综合服务岗 | D21: 张恒飞 | E21: 男 | F21: =VLOOKUP(D21,[1]笔试成绩引用表!E$1:H$65536,4,0) -> 67.45 | G21: 0 | H21: =F21*0.4+G21*0.6 -> 26.98 | I21: 5
A22: 19 | B22: 县中小企业服务中心 | C22: 200505050101企业服务岗 | D22: 段杰明 | E22: 男 | F22: =VLOOKUP(D22,[1]笔试成绩引用表!E$1:H$65536,4,0) -> 78.12 | G22: 84.24 | H22: =F22*0.4+G22*0.6 -> 81.792 | I22: 1 | J22: 入围
A23: 20 | C23: 200505050101企业服务岗 | D23: 陈小云 | E23: 女 | F23: =VLOOKUP(D23,[1]笔试成绩引用表!E$1:H$65536,4,0) -> 72.05 | G23: 82.48 | H23: =F23*0.4+G23*0.6 -> 78.308 | I23: 2 | J23: 入围
A24: 21 | C24: 200505050101企业服务岗 | D24: 万丽露 | E24: 女 | F24: =VLOOKUP(D24,[1]笔试成绩引用表!E$1:H$65536,4,0) -> 67.77 | G24: 83.64 | H24: =F24*0.4+G24*0.6 -> 77.292 | I24: 3
A25: 22 | C25: 200505050101企业服务岗 | D25: 沈亚茹 | E25: 女 | F25: =VLOOKUP(D25,[1]笔试成绩引用表!E$1:H$65536,4,0) -> 73.03 | G25: 79.38 | H25: =F25*0.4+G25*0.6 -> 76.84 | I25: 4
A26: 23 | C26: 200505050101企业服务岗 | D26: 王超群 | E26: 女 | F26: =VLOOKUP(D26,[1]笔试成绩引用表!E$1:H$65536,4,0) -> 68.53 | G26: 82.24 | H26: =F26*0.4+G26*0.6 -> 76.756 | I26: 5
A27: 24 | C27: 200505050101企业服务岗 | D27: 郭淼 | E27: 女 | F27: =VLOOKUP(D27,[1]笔试成绩引用表!E$1:H$65536,4,0) -> 66.94 | G27: 81.92 | H27: =F27*0.4+G27*0.6 -> 75.928 | I27: 6
A28: 25 | C28: 200505050101企业服务岗 | D28: 程颖 | E28: 女 | F28: =VLOOKUP(D28,[1]笔试成绩引用表!E$1:H$65536,4,0) -> 66.96 | G28: 80.46 | H28: =F28*0.4+G28*0.6 -> 75.06 | I28: 7
A29: 26 | C29: 200505050101企业服务岗 | D29: 窦欣欣 | E29: 女 | F29: =VLOOKUP(D29,[1]笔试成绩引用表!E$1:H$65536,4,0) -> 64.3 | G29: 78.28 | H29: =F29*0.4+G29*0.6 -> 72.688 | I29: 8
A30: 27 | C30: 200505050101企业服务岗 | D30: 刘芳楼 | E30: 女 | F30: =VLOOKUP(D30,[1]笔试成绩引用表!E$1:H$65536,4,0) -> 62.39 | G30: 79.4 | H30: =F30*0.4+G30*0.6 -> 72.596 | I30: 9
A31: 28 | C31: 200505050101企业服务岗 | D31: 王雅 | E31: 女 | F31: =VLOOKUP(D31,[1]笔试成绩引用表!E$1:H$65536,4,0) -> 60.02 | G31: 80.16 | H31: =F31*0.4+G31*0.6 -> 72.104 | I31: 10
A32: 29 | C32: 200505050101企业服务岗 | D32: 陈锦续 | E32: 男 | F32: =VLOOKUP(D32,[1]笔试成绩引用表!E$1:H$65536,4,0) -> 76.78 | G32: 0 | H32: =F32*0.4+G32*0.6 -> 30.712 | I32: 11
A33: 30 | C33: 200505050101企业服务岗 | D33: 熊力 | E33: 男 | F33: =VLOOKUP(D33,[1]笔试成绩引用表!E$1:H$65536,4,0) -> 70.24 | G33: 0 | H33: =F33*0.4+G33*0.6 -> 28.096 | I33: 12
A34: 31 | C34: 200505050101企业服务岗 | D34: 张超 | E34: 男 | F34: =VLOOKUP(D34,[1]笔试成绩引用表!E$1:H$65536,4,0) -> 69.43 | G34: 0 | H34: =F34*0.4+G34*0.6 -> 27.772 | I34: 13
A35: 32 | C35: 200505050101企业服务岗 | D35: 陈振羽 | E35: 男 | F35: =VLOOKUP(D35,[1]笔试成绩引用表!E$1:H$65536,4,0) -> 66.82 | G35: 0 | H35: =F35*0.4+G35*0.6 -> 26.728 | I35: 14
... A42: 39 | C42: 200505050101企业服务岗 | D42: 姚勇勇 | E42: 男 | F42: =VLOOKUP(D42,[1]笔试成绩引用表!E$1:H$65536,4,0) -> 60.78 | G42: 0 | H42: =F42*0.4+G42*0.6 -> 24.312 | I42: 21
A43: 40 | B43: 县法制事务服务中心 | C43: 200505060101法律服务岗 | D43: 龙慧 | E43: 女 | F43: =VLOOKUP(D43,[1]笔试成绩引用表!E$1:H$65536,4,0) -> 71.15 | G43: 83.1 | H43: =F43*0.4+G43*0.6 -> 78.32 | I43: 1 | J43: 入围
A44: 41 | C44: 200505060101法律服务岗 | D44: 马永康 | E44: 男 | F44: =VLOOKUP(D44,[1]笔试成绩引用表!E$1:H$65536,4,0) -> 67.37 | G44: 84.54 | H44: =F44*0.4+G44*0.6 -> 77.672 | I44: 2
A45: 42 | C45: 200505060101法律服务岗 | D45: 石原昊 | E45: 男 | F45: =VLOOKUP(D45,[1]笔试成绩引用表!E$1:H$65536,4,0) -> 72.79 | G45: 0 | H45: =F45*0.4+G45*0.6 -> 29.116 | I45: 3
A46: 43 | C46: 200505060101法律服务岗 | D46: 邹敏钦 | E46: 男 | F46: =VLOOKUP(D46,[1]笔试成绩引用表!E$1:H$65536,4,0) -> 62.8 | G46: 0 | H46: =F46*0.4+G46*0.6 -> 25.12 | I46: 4
A47: 44 | C47: 200505060101法律服务岗 | D47: 阮玉洁 | E47: 女 | F47: =VLOOKUP(D47,[1]笔试成绩引用表!E$1:H$65536,4,0) -> 62.1 | G47: 0 | H47: =F47*0.4+G47*0.6 -> 24.84 | I47: 5
A48: 45 | B48: 县城市建设中心 | C48: 200505070101工程管理岗 | D48: 陈川 | E48: 男 | F48: =VLOOKUP(D48,[1]笔试成绩引用表!E$1:H$65536,4,0) -> 72.41 | G48: 84.56 | H48: =F48*0.4+G48*0.6 -> 79.7 | I48: 1 | J48: 入围
A49: 46 | C49: 200505070101工程管理岗 | D49: 易伟清 | E49: 男 | F49: =VLOOKUP(D49,[1]笔试成绩引用表!E$1:H$65536,4,0) -> 73.45 | G49: 83.22 | H49: =F49*0.4+G49*0.6 -> 79.312 | I49: 2
A50: 47 | C50: 200505070101工程管理岗 | D50: 张泽俊 | E50: 男 | F50: =VLOOKUP(D50,[1]笔试成绩引用表!E$1:H$65536,4,0) -> 68.01 | G50: 83.38 | H50: =F50*0.4+G50*0.6 -> 77.232 | I50: 3
A51: 48 | C51: 200505070101工程管理岗 | D51: 张淼 | E51: 男 | F51: =VLOOKUP(D51,[1]笔试成绩引用表!E$1:H$65536,4,0) -> 66.72 | G51: 82.12 | H51: =F51*0.4+G51*0.6 -> 75.96 | I51: 4
A52: 49 | C52: 200505070101工程管理岗 | D52: 冯旭东 | E52: 男 | F52: =VLOOKUP(D52,[1]笔试成绩引用表!E$1:H$65536,4,0) -> 64.14 | G52: 83.7 | H52: =F52*0.4+G52*0.6 -> 75.876 | I52: 5
A53: 50 | C53: 200505070101工程管理岗 | D53: 王欢 | E53: 男 | F53: =VLOOKUP(D53,[1]笔试成绩引用表!E$1:H$65536,4,0) -> 63.71 | G53: 82.8 | H53: =F53*0.4+G53*0.6 -> 75.164 | I53: 6
A54: 51 | C54: 200505070101工程管理岗 | D54: 章晶晶 | E54: 女 | F54: =VLOOKUP(D54,[1]笔试成绩引用表!E$1:H$65536,4,0) -> 62.55 | G54: 82.02 | H54: =F54*0.4+G54*0.6 -> 74.232 | I54: 7
A55: 52 | C55: 200505070101工程管理岗 | D55: 杨咏梅 | E55: 女 | F55: =VLOOKUP(D55,[1]笔试成绩引用表!E$1:H$65536,4,0) -> 60.35 | G55: 82.62 | H55: =F55*0.4+G55*0.6 -> 73.712 | I55: 8
A56: 53 | C56: 200505070101工程管理岗 | D56: 唐加林 | E56: 男 | F56: =VLOOKUP(D56,[1]笔试成绩引用表!E$1:H$65536,4,0) -> 69.2 | G56: 0 | H56: =F56*0.4+G56*0.6 -> 27.68 | I56: 9
A57: 54 | C57: 200505070101工程管理岗 | D57: 李梦晴 | E57: 女 | F57: =VLOOKUP(D57,[1]笔试成绩引用表!E$1:H$65536,4,0) -> 65.51 | G57: 0 | H57: =F57*0.4+G57*0.6 -> 26.204 | I57: 10
A58: 55 | C58: 200505070101工程管理岗 | D58: 杨科 | E58: 男 | F58: =VLOOKUP(D58,[1]笔试成绩引用表!E$1:H$65536,4,0) -> 65.42 | G58: 0 | H58: =F58*0.4+G58*0.6 -> 26.168 | I58: 11
A59: 56 | C59: 200505070101工程管理岗 | D59: 周亚霖 | E59: 男 | F59: =VLOOKUP(D59,[1]笔试成绩引用表!E$1:H$65536,4,0) -> 65.29 | G59: 0 | H59: =F59*0.4+G59*0.6 -> 26.116 | I59: 12
A60: 57 | C60: 200505070101工程管理岗 | D60: 王维俊 | E60: 男 | F60: =VLOOKUP(D60,[1]笔试成绩引用表!E$1:H$65536,4,0) -> 62.95 | G60: 0 | H60: =F60*0.4+G60*0.6 -> 25.18 | I60: 13
A61: 58 | C61: 200505070101工程管理岗 | D61: 叶子军 | E61: 男 | F61: =VLOOKUP(D61,[1]笔试成绩引用表!E$1:H$65536,4,0) -> 62.21 | G61: 0 | H61: =F61*0.4+G61*0.6 -> 24.884 | I61: 14
A62: 59 | B62: 县水产科技服务中心 | C62: 200505080201技术员 | D62: 马俊康 | E62: 男 | F62: =VLOOKUP(D62,[1]笔试成绩引用表!E$1:H$65536,4,0) -> 70.49 | G62: 85.56 | H62: =F62*0.4+G62*0.6 -> 79.532 | I62: 1 | J62: 入围
A63: 60 | C63: 200505080201技术员 | D63: 陈枫 | E63: 男 | F63: =VLOOKUP(D63,[1]笔试成绩引用表!E$1:H$65536,4,0) -> 63.05 | G63: 83.84 | H63: =F63*0.4+G63*0.6 -> 75.524 | I63: 2 | J63: 入围
A64: 61 | C64: 200505080201技术员 | D64: 周瑞玲 | E64: 女 | F64: =VLOOKUP(D64,[1]笔试成绩引用表!E$1:H$65536,4,0) -> 60.2 | G64: 85.38 | H64: =F64*0.4+G64*0.6 -> 75.308 | I64: 3
A65: 62 | C65: 200505080201技术员 | D65: 李景 | E65: 男 | F65: =VLOOKUP(D65,[1]笔试成绩引用表!E$1:H$65536,4,0) -> 70.64 | G65: 0 | H65: =F65*0.4+G65*0.6 -> 28.256 | I65: 4
A66: 63 | B66: 县市场监督管理局12315投诉举报中心 | C66: 200505090101调解员 | D66: 赵南奇 | E66: 男 | F66: =VLOOKUP(D66,[1]笔试成绩引用表!E$1:H$65536,4,0) -> 65.47 | G66: 83.34 | H66: =F66*0.4+G66*0.6 -> 76.192 | I66: 1 | J66: 入围
A67: 64 | C67: 200505090101调解员 | D67: 李京 | E67: 男 | F67: =VLOOKUP(D67,[1]笔试成绩引用表!E$1:H$65536,4,0) -> 64.25 | G67: 81.92 | H67: =F67*0.4+G67*0.6 -> 74.852 | I67: 2
A68: 65 | C68: 200505090101调解员 | D68: 杨陈成 | E68: 女 | F68: =VLOOKUP(D68,[1]笔试成绩引用表!E$1:H$65536,4,0) -> 66.23 | G68: 0 | H68: =F68*0.4+G68*0.6 -> 26.492 | I68: 3
A69: 66 | B69: 县融媒体中心 | C69: 200505100101记者 | D69: 傅程昕 | E69: 女 | F69: =VLOOKUP(D69,[1]笔试成绩引用表!E$1:H$65536,4,0) -> 69.03 | G69: 84.42 | H69: =F69*0.4+G69*0.6 -> 78.264 | I69: 1 | J69: 入围
A70: 67 | C70: 200505100101记者 | D70: 张丽峰 | E70: 女 | F70: =VLOOKUP(D70,[1]笔试成绩引用表!E$1:H$65536,4,0) -> 66.23 | G70: 84.66 | H70: =F70*0.4+G70*0.6 -> 77.288 | I70: 2
A71: 68 | C71: 200505100101记者 | D71: 叶平建 | E71: 男 | F71: =VLOOKUP(D71,[1]笔试成绩引用表!E$1:H$65536,4,0) -> 78.25 | G71: 0 | H71: =F71*0.4+G71*0.6 -> 31.3 | I71: 3
A72: 69 | C72: 200505100101记者 | D72: 郭为芳 | E72: 女 | F72: =VLOOKUP(D72,[1]笔试成绩引用表!E$1:H$65536,4,0) -> 64.27 | G72: 0 | H72: =F72*0.4+G72*0.6 -> 25.708 | I72: 4
A73: 70 | B73: 县机关事务服务中心 | C73: 200505110101综合服务岗 | D73: 郭一君 | E73: 男 | F73: =VLOOKUP(D73,[1]笔试成绩引用表!E$1:H$65536,4,0) -> 68.58 | G73: 84.52 | H73: =F73*0.4+G73*0.6 -> 78.144 | I73: 1 | J73: 入围
A74: 71 | C74: 200505110101综合服务岗 | D74: 裴炎 | E74: 男 | F74: =VLOOKUP(D74,[1]笔试成绩引用表!E$1:H$65536,4,0) -> 69.01 | G74: 82.68 | H74: =F74*0.4+G74*0.6 -> 77.212 | I74: 2
A75: 72 | C75: 200505110101综合服务岗 | D75: 赵星宇 | E75: 男 | F75: =VLOOKUP(D75,[1]笔试成绩引用表!E$1:H$65536,4,0) -> 67.56 | G75: 83.14 | H75: =F75*0.4+G75*0.6 -> 76.908 | I75: 3
A76: 73 | C76: 200505110101综合服务岗 | D76: 雷欣怡 | E76: 女 | F76: =VLOOKUP(D76,[1]笔试成绩引用表!E$1:H$65536,4,0) -> 63.66 | G76: 83.04 | H76: =F76*0.4+G76*0.6 -> 75.288 | I76: 4
A77: 74 | C77: 200505110101综合服务岗 | D77: 鲁思琪 | E77: 女 | F77: =VLOOKUP(D77,[1]笔试成绩引用表!E$1:H$65536,4,0) -> 61.34 | G77: 0 | H77: =F77*0.4+G77*0.6 -> 24.536 | I77: 5
A78: 75 | C78: 200505110101综合服务岗 | D78: 毛祥虎 | E78: 男 | F78: =VLOOKUP(D78,[1]笔试成绩引用表!E$1:H$65536,4,0) -> 60.81 | G78: 0 | H78: =F78*0.4+G78*0.6 -> 24.324 | I78: 6
A79: 76 | B79: 县公共检验检测中心 | C79: 200505120101技术员 | D79: 潘泽鹏 | E79: 男 | F79: =VLOOKUP(D79,[1]笔试成绩引用表!E$1:H$65536,4,0) -> 67.71 | G79: 85.14 | H79: =F79*0.4+G79*0.6 -> 78.168 | I79: 1 | J79: 入围
A80: 77 | C80: 200505120101技术员 | D80: 张伟 | E80: 男 | F80: =VLOOKUP(D80,[1]笔试成绩引用表!E$1:H$65536,4,0) -> 63.77 | G80: 85.04 | H80: =F80*0.4+G80*0.6 -> 76.532 | I80: 2 | J80: 入围
A81: 78 | C81: 200505120101技术员 | D81: 龚泽慧 | E81: 女 | F81: =VLOOKUP(D81,[1]笔试成绩引用表!E$1:H$65536,4,0) -> 61.41 | G81: 85.96 | H81: =F81*0.4+G81*0.6 -> 76.14 | I81: 3
A82: 79 | C82: 200505120101技术员 | D82: 王柏晶 | E82: 女 | F82: =VLOOKUP(D82,[1]笔试成绩引用表!E$1:H$65536,4,0) -> 65.12 | G82: 82.36 | H82: =F82*0.4+G82*0.6 -> 75.464 | I82: 4
A83: 80 | C83: 200505120101技术员 | D83: 廖春燕 | E83: 女 | F83: =VLOOKUP(D83,[1]笔试成绩引用表!E$1:H$65536,4,0) -> 64.92 | G83: 73.6 | H83: =F83*0.4+G83*0.6 -> 70.128 | I83: 5
A84: 81 | C84: 200505120101技术员 | D84: 张豪 | E84: 男 | F84: =VLOOKUP(D84,[1]笔试成绩引用表!E$1:H$65536,4,0) -> 61.21 | G84: 0 | H84: =F84*0.4+G84*0.6 -> 24.484 | I84: 6
