Workbook

Sheet 流水考场面试成绩通知单 
A1: =$L$1&"成绩通知单" -> 保亭黎族苗族自治县2022年人才招聘面试成绩通知单 | K1: 项目名称 | L1: 保亭黎族苗族自治县2022年人才招聘面试
K2: 单位名称 | L2: 中共保亭黎族苗族 自治县委组织部
A3: 面试日期 | B3: =$L$3 -> 44840 | E3: 面试考点 | F3: =$L$4 -> 邮政大厦 | K3: 面试日期 | L3: 44840
A4: 考生姓名 | B4: =INDEX(#REF!,MATCH('流水考场面试成绩通知单 '!$L$7,#REF!,0)) -> #REF! | E4: 准考证号 | F4: =INDEX(#REF!,MATCH('流水考场面试成绩通知单 '!$L$7,#REF!,0)) -> #REF! | K4: 面试考点 | L4: 邮政大厦
A5: 面试室号 | B5: =$L$6 -> 1 | E5: 考试号 | F5: =$N$6 -> 1
A6: 报考职位 | B6: =INDEX(#REF!,MATCH('流水考场面试成绩通知单 '!$L$7,#REF!,0)) -> #REF! | K6: 面试室号 | L6: 1 | M6: 考试号 | N6: 1 | Q6: 第1题 分数 | R6: 第2题 分数 | S6: 最终 得分 | T6: 与打印版 的比对 | U6: 提示
A7: 面试成绩 | B7: =IFERROR(INDEX(#REF!,MATCH($L7,#REF!,0)),0) -> 0 | E7: 招聘单位 | F7: =$L$2 -> 中共保亭黎族苗族 自治县委组织部 | K7: 辅助列 | L7: =$L$6&"号面试室"&$N$6&"号考生" -> 1号面试室1号考生 | Q7: =INDEX(#REF!,MATCH('流水考场面试成绩通知单 '!$L$7:$L$7,#REF!,0)) -> #REF! | R7: =INDEX(第9面试室!$BA$3:$BA$127,MATCH('流水考场面试成绩通知单 '!$L$7:$L$7,第9面试室!$B$3:$B$127,0)) -> #N/A | S7: =Q7*0.5+R7*0.5 -> #REF! | T7: =S7-B7 -> #REF! | U7: =IF(T7=0,"","需核对") -> #REF!
A9: 考生（签字）： | K9: 使用说明： 1.绿色部分为可修部分，蓝色部分为不能修改部分； 2.整个表格不可修改，如需修改需输入密码； 3.相关考试信息需提前填上； 4.面试成绩通知单的打印需填入“面试室号”及“考试号”方可生成。 5.修改完后，记得锁表，密码为考务部专用密码。
A11: 考 生 联
A13: =$L$1&"成绩通知单" -> 保亭黎族苗族自治县2022年人才招聘面试成绩通知单
A15: 面试日期 | B15: =$L$3 -> 44840 | E15: 面试考点 | F15: =$L$4 -> 邮政大厦
A16: 考生姓名 | B16: =INDEX(#REF!,MATCH('流水考场面试成绩通知单 '!$L$7,#REF!,0)) -> #REF! | E16: 准考证号 | F16: =INDEX(#REF!,MATCH('流水考场面试成绩通知单 '!$L$7,#REF!,0)) -> #REF!
A17: 面试室号 | B17: =$L$6 -> 1 | E17: 考试号 | F17: =$N$6 -> 1
A18: 报考职位 | B18: =INDEX(#REF!,MATCH('流水考场面试成绩通知单 '!$L$7,#REF!,0)) -> #REF!
A19: 面试成绩 | B19: =B7 -> 0 | E19: 招聘单位 | F19: =$L$2 -> 中共保亭黎族苗族 自治县委组织部
A21: 考生（签字）： | E21: 监督员（签字）：
A23: 统分员（签字）：
A25: 存 根 联

Sheet 第2面试室
B1: =#REF! -> #REF! | AV1: 面试室序号： | BC1: 2
A2: 序号 | B2: 辅助列 | C2: 姓名 | D2: 考试号 | E2: 准考证号 | F2: 一号面试官评分 | L2: 二号面试官评分 | R2: 三号面试官评分 | X2: 四号面试官评分 | AD2: 五号面试官评分 | AJ2: 六号面试官评分 | AP2: 七号面试官评分 | AV2: 1 | AW2: 2 | AX2: 3 | AY2: 4 | AZ2: 5 | BA2: 6 | BB2: 7 | BC2: 最高分 | BD2: 最低分 | BE2: 最终评分
A3: 1 | B3: =$BC$1&"号面试室"&A3&"号考生" -> 2号面试室1号考生 | C3: =INDEX(#REF!,MATCH(B3,#REF!,0)) -> #REF! | D3: =INDEX(#REF!,MATCH(B3,#REF!,0)) -> #REF! | E3: =INDEX(#REF!,MATCH(B3,#REF!,0)) -> #REF! | F3: 20 | G3: 10 | H3: 15 | I3: 20 | J3: 8 | K3: 7 | L3: 20 | M3: 10 | N3: 15 | O3: 20 | P3: 8 | Q3: 7 | R3: 20 | S3: 10 | T3: 15 | U3: 20 | V3: 8 | W3: 7 | X3: 20 | Y3: 10 | Z3: 15 | AA3: 20 | AB3: 8 | AC3: 7 | AD3: 20 | AE3: 10 | AF3: 15 | AG3: 20 | AH3: 8 | AI3: 7 | AJ3: 20 | AK3: 10 | AL3: 15 | AM3: 20 | AN3: 8 | AO3: 7 | AP3: 20 | AQ3: 10 | AR3: 15 | AS3: 20 | AT3: 8 | AU3: 7 | AV3: =SUM(F3:$K3) -> 80 | AW3: =SUM(L3:Q3) -> 80 | AX3: =SUM(R3:W3) -> 80 | AY3: =SUM(X3:AC3) -> 80 | AZ3: =SUM(AD3:AI3) -> 80 | BA3: =SUM(AJ3:AO3) -> 80 | BB3: =SUM(AP3:AU3) -> 80 | BC3: {=MAX(IF(AV3:BB3>0,AV3:BB3))} -> 80 | BD3: {=MIN(IF(AV3:BB3>0,AV3:BB3))} -> 80 | BE3: =ROUND(AVERAGE((SUM(AV3:BB3)-BC3-BD3)/5),2) -> 80
A4: 2 | B4: =$BC$1&"号面试室"&A4&"号考生" -> 2号面试室2号考生 | C4: =INDEX(#REF!,MATCH(B4,#REF!,0)) -> #REF! | D4: =INDEX(#REF!,MATCH(B4,#REF!,0)) -> #REF! | E4: =INDEX(#REF!,MATCH(B4,#REF!,0)) -> #REF! | F4: 20 | G4: 10 | H4: 15 | I4: 20 | J4: 8 | K4: 7 | L4: 20 | M4: 10 | N4: 15 | O4: 20 | P4: 8 | Q4: 7 | R4: 20 | S4: 10 | T4: 15 | U4: 20 | V4: 8 | W4: 7 | X4: 20 | Y4: 10 | Z4: 15 | AA4: 20 | AB4: 8 | AC4: 7 | AD4: 20 | AE4: 10 | AF4: 15 | AG4: 20 | AH4: 8 | AI4: 7 | AJ4: 20 | AK4: 10 | AL4: 15 | AM4: 20 | AN4: 8 | AO4: 7 | AP4: 20 | AQ4: 10 | AR4: 15 | AS4: 20 | AT4: 8 | AU4: 7 | AV4: =SUM(F4:$K4) -> 80 | AW4: =SUM(L4:Q4) -> 80 | AX4: =SUM(R4:W4) -> 80 | AY4: =SUM(X4:AC4) -> 80 | AZ4: =SUM(AD4:AI4) -> 80 | BA4: =SUM(AJ4:AO4) -> 80 | BB4: =SUM(AP4:AU4) -> 80 | BC4: {=MAX(IF(AV4:BB4>0,AV4:BB4))} -> 80 | BD4: {=MIN(IF(AV4:BB4>0,AV4:BB4))} -> 80 | BE4: =ROUND(AVERAGE((SUM(AV4:BB4)-BC4-BD4)/5),2) -> 80
A5: 3 | B5: =$BC$1&"号面试室"&A5&"号考生" -> 2号面试室3号考生 | C5: =INDEX(#REF!,MATCH(B5,#REF!,0)) -> #REF! | D5: =INDEX(#REF!,MATCH(B5,#REF!,0)) -> #REF! | E5: =INDEX(#REF!,MATCH(B5,#REF!,0)) -> #REF! | F5: 20 | G5: 10 | H5: 15 | I5: 20 | J5: 8 | K5: 7 | L5: 20 | M5: 10 | N5: 15 | O5: 20 | P5: 8 | Q5: 7 | R5: 20 | S5: 10 | T5: 15 | U5: 20 | V5: 8 | W5: 7 | X5: 20 | Y5: 10 | Z5: 15 | AA5: 20 | AB5: 8 | AC5: 7 | AD5: 20 | AE5: 10 | AF5: 15 | AG5: 20 | AH5: 8 | AI5: 7 | AJ5: 20 | AK5: 10 | AL5: 15 | AM5: 20 | AN5: 8 | AO5: 7 | AP5: 20 | AQ5: 10 | AR5: 15 | AS5: 20 | AT5: 8 | AU5: 7 | AV5: =SUM(F5:$K5) -> 80 | AW5: =SUM(L5:Q5) -> 80 | AX5: =SUM(R5:W5) -> 80 | AY5: =SUM(X5:AC5) -> 80 | AZ5: =SUM(AD5:AI5) -> 80 | BA5: =SUM(AJ5:AO5) -> 80 | BB5: =SUM(AP5:AU5) -> 80 | BC5: {=MAX(IF(AV5:BB5>0,AV5:BB5))} -> 80 | BD5: {=MIN(IF(AV5:BB5>0,AV5:BB5))} -> 80 | BE5: =ROUND(AVERAGE((SUM(AV5:BB5)-BC5-BD5)/5),2) -> 80
A6: 4 | B6: =$BC$1&"号面试室"&A6&"号考生" -> 2号面试室4号考生 | C6: =INDEX(#REF!,MATCH(B6,#REF!,0)) -> #REF! | D6: =INDEX(#REF!,MATCH(B6,#REF!,0)) -> #REF! | E6: =INDEX(#REF!,MATCH(B6,#REF!,0)) -> #REF! | F6: 20 | G6: 10 | H6: 15 | I6: 20 | J6: 8 | K6: 7 | L6: 20 | M6: 10 | N6: 15 | O6: 20 | P6: 8 | Q6: 7 | R6: 20 | S6: 10 | T6: 15 | U6: 20 | V6: 8 | W6: 7 | X6: 20 | Y6: 10 | Z6: 15 | AA6: 20 | AB6: 8 | AC6: 7 | AD6: 20 | AE6: 10 | AF6: 15 | AG6: 20 | AH6: 8 | AI6: 7 | AJ6: 20 | AK6: 10 | AL6: 15 | AM6: 20 | AN6: 8 | AO6: 7 | AP6: 20 | AQ6: 10 | AR6: 15 | AS6: 20 | AT6: 8 | AU6: 7 | AV6: =SUM(F6:$K6) -> 80 | AW6: =SUM(L6:Q6) -> 80 | AX6: =SUM(R6:W6) -> 80 | AY6: =SUM(X6:AC6) -> 80 | AZ6: =SUM(AD6:AI6) -> 80 | BA6: =SUM(AJ6:AO6) -> 80 | BB6: =SUM(AP6:AU6) -> 80 | BC6: {=MAX(IF(AV6:BB6>0,AV6:BB6))} -> 80 | BD6: {=MIN(IF(AV6:BB6>0,AV6:BB6))} -> 80 | BE6: =ROUND(AVERAGE((SUM(AV6:BB6)-BC6-BD6)/5),2) -> 80
A7: 5 | B7: =$BC$1&"号面试室"&A7&"号考生" -> 2号面试室5号考生 | C7: =INDEX(#REF!,MATCH(B7,#REF!,0)) -> #REF! | D7: =INDEX(#REF!,MATCH(B7,#REF!,0)) -> #REF! | E7: =INDEX(#REF!,MATCH(B7,#REF!,0)) -> #REF! | F7: 20 | G7: 10 | H7: 15 | I7: 20 | J7: 8 | K7: 7 | L7: 20 | M7: 10 | N7: 15 | O7: 20 | P7: 8 | Q7: 7 | R7: 20 | S7: 10 | T7: 15 | U7: 20 | V7: 8 | W7: 7 | X7: 20 | Y7: 10 | Z7: 15 | AA7: 20 | AB7: 8 | AC7: 7 | AD7: 20 | AE7: 10 | AF7: 15 | AG7: 20 | AH7: 8 | AI7: 7 | AJ7: 20 | AK7: 10 | AL7: 15 | AM7: 20 | AN7: 8 | AO7: 7 | AP7: 20 | AQ7: 10 | AR7: 15 | AS7: 20 | AT7: 8 | AU7: 7 | AV7: =SUM(F7:$K7) -> 80 | AW7: =SUM(L7:Q7) -> 80 | AX7: =SUM(R7:W7) -> 80 | AY7: =SUM(X7:AC7) -> 80 | AZ7: =SUM(AD7:AI7) -> 80 | BA7: =SUM(AJ7:AO7) -> 80 | BB7: =SUM(AP7:AU7) -> 80 | BC7: {=MAX(IF(AV7:BB7>0,AV7:BB7))} -> 80 | BD7: {=MIN(IF(AV7:BB7>0,AV7:BB7))} -> 80 | BE7: =ROUND(AVERAGE((SUM(AV7:BB7)-BC7-BD7)/5),2) -> 80
A8: 6 | B8: =$BC$1&"号面试室"&A8&"号考生" -> 2号面试室6号考生 | C8: =INDEX(#REF!,MATCH(B8,#REF!,0)) -> #REF! | D8: =INDEX(#REF!,MATCH(B8,#REF!,0)) -> #REF! | E8: =INDEX(#REF!,MATCH(B8,#REF!,0)) -> #REF! | F8: 20 | G8: 10 | H8: 15 | I8: 20 | J8: 8 | K8: 7 | L8: 20 | M8: 10 | N8: 15 | O8: 20 | P8: 8 | Q8: 7 | R8: 20 | S8: 10 | T8: 15 | U8: 20 | V8: 8 | W8: 7 | X8: 20 | Y8: 10 | Z8: 15 | AA8: 20 | AB8: 8 | AC8: 7 | AD8: 20 | AE8: 10 | AF8: 15 | AG8: 20 | AH8: 8 | AI8: 7 | AJ8: 20 | AK8: 10 | AL8: 15 | AM8: 20 | AN8: 8 | AO8: 7 | AP8: 20 | AQ8: 10 | AR8: 15 | AS8: 20 | AT8: 8 | AU8: 7 | AV8: =SUM(F8:$K8) -> 80 | AW8: =SUM(L8:Q8) -> 80 | AX8: =SUM(R8:W8) -> 80 | AY8: =SUM(X8:AC8) -> 80 | AZ8: =SUM(AD8:AI8) -> 80 | BA8: =SUM(AJ8:AO8) -> 80 | BB8: =SUM(AP8:AU8) -> 80 | BC8: {=MAX(IF(AV8:BB8>0,AV8:BB8))} -> 80 | BD8: {=MIN(IF(AV8:BB8>0,AV8:BB8))} -> 80 | BE8: =ROUND(AVERAGE((SUM(AV8:BB8)-BC8-BD8)/5),2) -> 80
A9: 7 | B9: =$BC$1&"号面试室"&A9&"号考生" -> 2号面试室7号考生 | C9: =INDEX(#REF!,MATCH(B9,#REF!,0)) -> #REF! | D9: =INDEX(#REF!,MATCH(B9,#REF!,0)) -> #REF! | E9: =INDEX(#REF!,MATCH(B9,#REF!,0)) -> #REF! | F9: 20 | G9: 10 | H9: 15 | I9: 20 | J9: 8 | K9: 7 | L9: 20 | M9: 10 | N9: 15 | O9: 20 | P9: 8 | Q9: 7 | R9: 20 | S9: 10 | T9: 15 | U9: 20 | V9: 8 | W9: 7 | X9: 20 | Y9: 10 | Z9: 15 | AA9: 20 | AB9: 8 | AC9: 7 | AD9: 20 | AE9: 10 | AF9: 15 | AG9: 20 | AH9: 8 | AI9: 7 | AJ9: 20 | AK9: 10 | AL9: 15 | AM9: 20 | AN9: 8 | AO9: 7 | AP9: 20 | AQ9: 10 | AR9: 15 | AS9: 20 | AT9: 8 | AU9: 7 | AV9: =SUM(F9:$K9) -> 80 | AW9: =SUM(L9:Q9) -> 80 | AX9: =SUM(R9:W9) -> 80 | AY9: =SUM(X9:AC9) -> 80 | AZ9: =SUM(AD9:AI9) -> 80 | BA9: =SUM(AJ9:AO9) -> 80 | BB9: =SUM(AP9:AU9) -> 80 | BC9: {=MAX(IF(AV9:BB9>0,AV9:BB9))} -> 80 | BD9: {=MIN(IF(AV9:BB9>0,AV9:BB9))} -> 80 | BE9: =ROUND(AVERAGE((SUM(AV9:BB9)-BC9-BD9)/5),2) -> 80
A10: 8 | B10: =$BC$1&"号面试室"&A10&"号考生" -> 2号面试室8号考生 | C10: =INDEX(#REF!,MATCH(B10,#REF!,0)) -> #REF! | D10: =INDEX(#REF!,MATCH(B10,#REF!,0)) -> #REF! | E10: =INDEX(#REF!,MATCH(B10,#REF!,0)) -> #REF! | F10: 20 | G10: 10 | H10: 15 | I10: 20 | J10: 8 | K10: 7 | L10: 20 | M10: 10 | N10: 15 | O10: 20 | P10: 8 | Q10: 7 | R10: 20 | S10: 10 | T10: 15 | U10: 20 | V10: 8 | W10: 7 | X10: 20 | Y10: 10 | Z10: 15 | AA10: 20 | AB10: 8 | AC10: 7 | AD10: 20 | AE10: 10 | AF10: 15 | AG10: 20 | AH10: 8 | AI10: 7 | AJ10: 20 | AK10: 10 | AL10: 15 | AM10: 20 | AN10: 8 | AO10: 7 | AP10: 20 | AQ10: 10 | AR10: 15 | AS10: 20 | AT10: 8 | AU10: 7 | AV10: =SUM(F10:$K10) -> 80 | AW10: =SUM(L10:Q10) -> 80 | AX10: =SUM(R10:W10) -> 80 | AY10: =SUM(X10:AC10) -> 80 | AZ10: =SUM(AD10:AI10) -> 80 | BA10: =SUM(AJ10:AO10) -> 80 | BB10: =SUM(AP10:AU10) -> 80 | BC10: {=MAX(IF(AV10:BB10>0,AV10:BB10))} -> 80 | BD10: {=MIN(IF(AV10:BB10>0,AV10:BB10))} -> 80 | BE10: =ROUND(AVERAGE((SUM(AV10:BB10)-BC10-BD10)/5),2) -> 80
A11: 9 | B11: =$BC$1&"号面试室"&A11&"号考生" -> 2号面试室9号考生 | C11: =INDEX(#REF!,MATCH(B11,#REF!,0)) -> #REF! | D11: =INDEX(#REF!,MATCH(B11,#REF!,0)) -> #REF! | E11: =INDEX(#REF!,MATCH(B11,#REF!,0)) -> #REF! | F11: 20 | G11: 10 | H11: 15 | I11: 20 | J11: 8 | K11: 7 | L11: 20 | M11: 10 | N11: 15 | O11: 20 | P11: 8 | Q11: 7 | R11: 20 | S11: 10 | T11: 15 | U11: 20 | V11: 8 | W11: 7 | X11: 20 | Y11: 10 | Z11: 15 | AA11: 20 | AB11: 8 | AC11: 7 | AD11: 20 | AE11: 10 | AF11: 15 | AG11: 20 | AH11: 8 | AI11: 7 | AJ11: 20 | AK11: 10 | AL11: 15 | AM11: 20 | AN11: 8 | AO11: 7 | AP11: 20 | AQ11: 10 | AR11: 15 | AS11: 20 | AT11: 8 | AU11: 7 | AV11: =SUM(F11:$K11) -> 80 | AW11: =SUM(L11:Q11) -> 80 | AX11: =SUM(R11:W11) -> 80 | AY11: =SUM(X11:AC11) -> 80 | AZ11: =SUM(AD11:AI11) -> 80 | BA11: =SUM(AJ11:AO11) -> 80 | BB11: =SUM(AP11:AU11) -> 80 | BC11: {=MAX(IF(AV11:BB11>0,AV11:BB11))} -> 80 | BD11: {=MIN(IF(AV11:BB11>0,AV11:BB11))} -> 80 | BE11: =ROUND(AVERAGE((SUM(AV11:BB11)-BC11-BD11)/5),2) -> 80
A12: 10 | B12: =$BC$1&"号面试室"&A12&"号考生" -> 2号面试室10号考生 | C12: =INDEX(#REF!,MATCH(B12,#REF!,0)) -> #REF! | D12: =INDEX(#REF!,MATCH(B12,#REF!,0)) -> #REF! | E12: =INDEX(#REF!,MATCH(B12,#REF!,0)) -> #REF! | F12: 20 | G12: 10 | H12: 15 | I12: 20 | J12: 8 | K12: 7 | L12: 20 | M12: 10 | N12: 15 | O12: 20 | P12: 8 | Q12: 7 | R12: 20 | S12: 10 | T12: 15 | U12: 20 | V12: 8 | W12: 7 | X12: 20 | Y12: 10 | Z12: 15 | AA12: 20 | AB12: 8 | AC12: 7 | AD12: 20 | AE12: 10 | AF12: 15 | AG12: 20 | AH12: 8 | AI12: 7 | AJ12: 20 | AK12: 10 | AL12: 15 | AM12: 20 | AN12: 8 | AO12: 7 | AP12: 20 | AQ12: 10 | AR12: 15 | AS12: 20 | AT12: 8 | AU12: 7 | AV12: =SUM(F12:$K12) -> 80 | AW12: =SUM(L12:Q12) -> 80 | AX12: =SUM(R12:W12) -> 80 | AY12: =SUM(X12:AC12) -> 80 | AZ12: =SUM(AD12:AI12) -> 80 | BA12: =SUM(AJ12:AO12) -> 80 | BB12: =SUM(AP12:AU12) -> 80 | BC12: {=MAX(IF(AV12:BB12>0,AV12:BB12))} -> 80 | BD12: {=MIN(IF(AV12:BB12>0,AV12:BB12))} -> 80 | BE12: =ROUND(AVERAGE((SUM(AV12:BB12)-BC12-BD12)/5),2) -> 80
A13: 11 | B13: =$BC$1&"号面试室"&A13&"号考生" -> 2号面试室11号考生 | C13: =INDEX(#REF!,MATCH(B13,#REF!,0)) -> #REF! | D13: =INDEX(#REF!,MATCH(B13,#REF!,0)) -> #REF! | E13: =INDEX(#REF!,MATCH(B13,#REF!,0)) -> #REF! | F13: 20 | G13: 10 | H13: 15 | I13: 20 | J13: 8 | K13: 7 | L13: 20 | M13: 10 | N13: 15 | O13: 20 | P13: 8 | Q13: 7 | R13: 20 | S13: 10 | T13: 15 | U13: 20 | V13: 8 | W13: 7 | X13: 20 | Y13: 10 | Z13: 15 | AA13: 20 | AB13: 8 | AC13: 7 | AD13: 20 | AE13: 10 | AF13: 15 | AG13: 20 | AH13: 8 | AI13: 7 | AJ13: 20 | AK13: 10 | AL13: 15 | AM13: 20 | AN13: 8 | AO13: 7 | AP13: 20 | AQ13: 10 | AR13: 15 | AS13: 20 | AT13: 8 | AU13: 7 | AV13: =SUM(F13:$K13) -> 80 | AW13: =SUM(L13:Q13) -> 80 | AX13: =SUM(R13:W13) -> 80 | AY13: =SUM(X13:AC13) -> 80 | AZ13: =SUM(AD13:AI13) -> 80 | BA13: =SUM(AJ13:AO13) -> 80 | BB13: =SUM(AP13:AU13) -> 80 | BC13: {=MAX(IF(AV13:BB13>0,AV13:BB13))} -> 80 | BD13: {=MIN(IF(AV13:BB13>0,AV13:BB13))} -> 80 | BE13: =ROUND(AVERAGE((SUM(AV13:BB13)-BC13-BD13)/5),2) -> 80
A14: 12 | B14: =$BC$1&"号面试室"&A14&"号考生" -> 2号面试室12号考生 | C14: =INDEX(#REF!,MATCH(B14,#REF!,0)) -> #REF! | D14: =INDEX(#REF!,MATCH(B14,#REF!,0)) -> #REF! | E14: =INDEX(#REF!,MATCH(B14,#REF!,0)) -> #REF! | F14: 20 | G14: 10 | H14: 15 | I14: 20 | J14: 8 | K14: 7 | L14: 20 | M14: 10 | N14: 15 | O14: 20 | P14: 8 | Q14: 7 | R14: 20 | S14: 10 | T14: 15 | U14: 20 | V14: 8 | W14: 7 | X14: 20 | Y14: 10 | Z14: 15 | AA14: 20 | AB14: 8 | AC14: 7 | AD14: 20 | AE14: 10 | AF14: 15 | AG14: 20 | AH14: 8 | AI14: 7 | AJ14: 20 | AK14: 10 | AL14: 15 | AM14: 20 | AN14: 8 | AO14: 7 | AP14: 20 | AQ14: 10 | AR14: 15 | AS14: 20 | AT14: 8 | AU14: 7 | AV14: =SUM(F14:$K14) -> 80 | AW14: =SUM(L14:Q14) -> 80 | AX14: =SUM(R14:W14) -> 80 | AY14: =SUM(X14:AC14) -> 80 | AZ14: =SUM(AD14:AI14) -> 80 | BA14: =SUM(AJ14:AO14) -> 80 | BB14: =SUM(AP14:AU14) -> 80 | BC14: {=MAX(IF(AV14:BB14>0,AV14:BB14))} -> 80 | BD14: {=MIN(IF(AV14:BB14>0,AV14:BB14))} -> 80 | BE14: =ROUND(AVERAGE((SUM(AV14:BB14)-BC14-BD14)/5),2) -> 80
... A36: 34 | B36: =$BC$1&"号面试室"&A36&"号考生" -> 2号面试室34号考生 | C36: =INDEX(#REF!,MATCH(B36,#REF!,0)) -> #REF! | D36: =INDEX(#REF!,MATCH(B36,#REF!,0)) -> #REF! | E36: =INDEX(#REF!,MATCH(B36,#REF!,0)) -> #REF! | F36: 20 | G36: 10 | H36: 15 | I36: 20 | J36: 8 | K36: 7 | L36: 20 | M36: 10 | N36: 15 | O36: 20 | P36: 8 | Q36: 7 | R36: 20 | S36: 10 | T36: 15 | U36: 20 | V36: 8 | W36: 7 | X36: 20 | Y36: 10 | Z36: 15 | AA36: 20 | AB36: 8 | AC36: 7 | AD36: 20 | AE36: 10 | AF36: 15 | AG36: 20 | AH36: 8 | AI36: 7 | AJ36: 20 | AK36: 10 | AL36: 15 | AM36: 20 | AN36: 8 | AO36: 7 | AP36: 20 | AQ36: 10 | AR36: 15 | AS36: 20 | AT36: 8 | AU36: 7 | AV36: =SUM(F36:$K36) -> 80 | AW36: =SUM(L36:Q36) -> 80 | AX36: =SUM(R36:W36) -> 80 | AY36: =SUM(X36:AC36) -> 80 | AZ36: =SUM(AD36:AI36) -> 80 | BA36: =SUM(AJ36:AO36) -> 80 | BB36: =SUM(AP36:AU36) -> 80 | BC36: {=MAX(IF(AV36:BB36>0,AV36:BB36))} -> 80 | BD36: {=MIN(IF(AV36:BB36>0,AV36:BB36))} -> 80 | BE36: =ROUND(AVERAGE((SUM(AV36:BB36)-BC36-BD36)/5),2) -> 80
A37: 35 | B37: =$BC$1&"号面试室"&A37&"号考生" -> 2号面试室35号考生 | C37: =INDEX(#REF!,MATCH(B37,#REF!,0)) -> #REF! | D37: =INDEX(#REF!,MATCH(B37,#REF!,0)) -> #REF! | E37: =INDEX(#REF!,MATCH(B37,#REF!,0)) -> #REF! | AV37: =SUM(F37:$K37) -> 0 | AW37: =SUM(L37:Q37) -> 0 | AX37: =SUM(R37:W37) -> 0 | AY37: =SUM(X37:AC37) -> 0 | AZ37: =SUM(AD37:AI37) -> 0 | BA37: =SUM(AJ37:AO37) -> 0 | BB37: =SUM(AP37:AU37) -> 0 | BC37: {=MAX(IF(AV37:BB37>0,AV37:BB37))} -> 0 | BD37: {=MIN(IF(AV37:BB37>0,AV37:BB37))} -> 0 | BE37: =ROUND(AVERAGE((SUM(AV37:BB37)-BC37-BD37)/5),2) -> 0
A38: 36 | B38: =$BC$1&"号面试室"&A38&"号考生" -> 2号面试室36号考生 | C38: =INDEX(#REF!,MATCH(B38,#REF!,0)) -> #REF! | D38: =INDEX(#REF!,MATCH(B38,#REF!,0)) -> #REF! | E38: =INDEX(#REF!,MATCH(B38,#REF!,0)) -> #REF! | AV38: =SUM(F38:$K38) -> 0 | AW38: =SUM(L38:Q38) -> 0 | AX38: =SUM(R38:W38) -> 0 | AY38: =SUM(X38:AC38) -> 0 | AZ38: =SUM(AD38:AI38) -> 0 | BA38: =SUM(AJ38:AO38) -> 0 | BB38: =SUM(AP38:AU38) -> 0 | BC38: {=MAX(IF(AV38:BB38>0,AV38:BB38))} -> 0 | BD38: {=MIN(IF(AV38:BB38>0,AV38:BB38))} -> 0 | BE38: =ROUND(AVERAGE((SUM(AV38:BB38)-BC38-BD38)/5),2) -> 0
A39: 37 | B39: =$BC$1&"号面试室"&A39&"号考生" -> 2号面试室37号考生 | C39: =INDEX(#REF!,MATCH(B39,#REF!,0)) -> #REF! | D39: =INDEX(#REF!,MATCH(B39,#REF!,0)) -> #REF! | E39: =INDEX(#REF!,MATCH(B39,#REF!,0)) -> #REF! | AV39: =SUM(F39:$K39) -> 0 | AW39: =SUM(L39:Q39) -> 0 | AX39: =SUM(R39:W39) -> 0 | AY39: =SUM(X39:AC39) -> 0 | AZ39: =SUM(AD39:AI39) -> 0 | BA39: =SUM(AJ39:AO39) -> 0 | BB39: =SUM(AP39:AU39) -> 0 | BC39: {=MAX(IF(AV39:BB39>0,AV39:BB39))} -> 0 | BD39: {=MIN(IF(AV39:BB39>0,AV39:BB39))} -> 0 | BE39: =ROUND(AVERAGE((SUM(AV39:BB39)-BC39-BD39)/5),2) -> 0
A40: 38 | B40: =$BC$1&"号面试室"&A40&"号考生" -> 2号面试室38号考生 | C40: =INDEX(#REF!,MATCH(B40,#REF!,0)) -> #REF! | D40: =INDEX(#REF!,MATCH(B40,#REF!,0)) -> #REF! | E40: =INDEX(#REF!,MATCH(B40,#REF!,0)) -> #REF! | AV40: =SUM(F40:$K40) -> 0 | AW40: =SUM(L40:Q40) -> 0 | AX40: =SUM(R40:W40) -> 0 | AY40: =SUM(X40:AC40) -> 0 | AZ40: =SUM(AD40:AI40) -> 0 | BA40: =SUM(AJ40:AO40) -> 0 | BB40: =SUM(AP40:AU40) -> 0 | BC40: {=MAX(IF(AV40:BB40>0,AV40:BB40))} -> 0 | BD40: {=MIN(IF(AV40:BB40>0,AV40:BB40))} -> 0 | BE40: =ROUND(AVERAGE((SUM(AV40:BB40)-BC40-BD40)/5),2) -> 0
A41: 39 | B41: =$BC$1&"号面试室"&A41&"号考生" -> 2号面试室39号考生 | C41: =INDEX(#REF!,MATCH(B41,#REF!,0)) -> #REF! | D41: =INDEX(#REF!,MATCH(B41,#REF!,0)) -> #REF! | E41: =INDEX(#REF!,MATCH(B41,#REF!,0)) -> #REF! | AV41: =SUM(F41:$K41) -> 0 | AW41: =SUM(L41:Q41) -> 0 | AX41: =SUM(R41:W41) -> 0 | AY41: =SUM(X41:AC41) -> 0 | AZ41: =SUM(AD41:AI41) -> 0 | BA41: =SUM(AJ41:AO41) -> 0 | BB41: =SUM(AP41:AU41) -> 0 | BC41: {=MAX(IF(AV41:BB41>0,AV41:BB41))} -> 0 | BD41: {=MIN(IF(AV41:BB41>0,AV41:BB41))} -> 0 | BE41: =ROUND(AVERAGE((SUM(AV41:BB41)-BC41-BD41)/5),2) -> 0
A42: 40 | B42: =$BC$1&"号面试室"&A42&"号考生" -> 2号面试室40号考生 | C42: =INDEX(#REF!,MATCH(B42,#REF!,0)) -> #REF! | D42: =INDEX(#REF!,MATCH(B42,#REF!,0)) -> #REF! | E42: =INDEX(#REF!,MATCH(B42,#REF!,0)) -> #REF! | AV42: =SUM(F42:$K42) -> 0 | AW42: =SUM(L42:Q42) -> 0 | AX42: =SUM(R42:W42) -> 0 | AY42: =SUM(X42:AC42) -> 0 | AZ42: =SUM(AD42:AI42) -> 0 | BA42: =SUM(AJ42:AO42) -> 0 | BB42: =SUM(AP42:AU42) -> 0 | BC42: {=MAX(IF(AV42:BB42>0,AV42:BB42))} -> 0 | BD42: {=MIN(IF(AV42:BB42>0,AV42:BB42))} -> 0 | BE42: =ROUND(AVERAGE((SUM(AV42:BB42)-BC42-BD42)/5),2) -> 0
A43: 41 | B43: =$BC$1&"号面试室"&A43&"号考生" -> 2号面试室41号考生 | C43: =INDEX(#REF!,MATCH(B43,#REF!,0)) -> #REF! | D43: =INDEX(#REF!,MATCH(B43,#REF!,0)) -> #REF! | E43: =INDEX(#REF!,MATCH(B43,#REF!,0)) -> #REF! | AV43: =SUM(F43:$K43) -> 0 | AW43: =SUM(L43:Q43) -> 0 | AX43: =SUM(R43:W43) -> 0 | AY43: =SUM(X43:AC43) -> 0 | AZ43: =SUM(AD43:AI43) -> 0 | BA43: =SUM(AJ43:AO43) -> 0 | BB43: =SUM(AP43:AU43) -> 0 | BC43: {=MAX(IF(AV43:BB43>0,AV43:BB43))} -> 0 | BD43: {=MIN(IF(AV43:BB43>0,AV43:BB43))} -> 0 | BE43: =ROUND(AVERAGE((SUM(AV43:BB43)-BC43-BD43)/5),2) -> 0
A44: 42 | B44: =$BC$1&"号面试室"&A44&"号考生" -> 2号面试室42号考生 | C44: =INDEX(#REF!,MATCH(B44,#REF!,0)) -> #REF! | D44: =INDEX(#REF!,MATCH(B44,#REF!,0)) -> #REF! | E44: =INDEX(#REF!,MATCH(B44,#REF!,0)) -> #REF! | AV44: =SUM(F44:$K44) -> 0 | AW44: =SUM(L44:Q44) -> 0 | AX44: =SUM(R44:W44) -> 0 | AY44: =SUM(X44:AC44) -> 0 | AZ44: =SUM(AD44:AI44) -> 0 | BA44: =SUM(AJ44:AO44) -> 0 | BB44: =SUM(AP44:AU44) -> 0 | BC44: {=MAX(IF(AV44:BB44>0,AV44:BB44))} -> 0 | BD44: {=MIN(IF(AV44:BB44>0,AV44:BB44))} -> 0 | BE44: =ROUND(AVERAGE((SUM(AV44:BB44)-BC44-BD44)/5),2) -> 0
A45: 43 | B45: =$BC$1&"号面试室"&A45&"号考生" -> 2号面试室43号考生 | C45: =INDEX(#REF!,MATCH(B45,#REF!,0)) -> #REF! | D45: =INDEX(#REF!,MATCH(B45,#REF!,0)) -> #REF! | E45: =INDEX(#REF!,MATCH(B45,#REF!,0)) -> #REF! | AV45: =SUM(F45:$K45) -> 0 | AW45: =SUM(L45:Q45) -> 0 | AX45: =SUM(R45:W45) -> 0 | AY45: =SUM(X45:AC45) -> 0 | AZ45: =SUM(AD45:AI45) -> 0 | BA45: =SUM(AJ45:AO45) -> 0 | BB45: =SUM(AP45:AU45) -> 0 | BC45: {=MAX(IF(AV45:BB45>0,AV45:BB45))} -> 0 | BD45: {=MIN(IF(AV45:BB45>0,AV45:BB45))} -> 0 | BE45: =ROUND(AVERAGE((SUM(AV45:BB45)-BC45-BD45)/5),2) -> 0
A46: 44 | B46: =$BC$1&"号面试室"&A46&"号考生" -> 2号面试室44号考生 | C46: =INDEX(#REF!,MATCH(B46,#REF!,0)) -> #REF! | D46: =INDEX(#REF!,MATCH(B46,#REF!,0)) -> #REF! | E46: =INDEX(#REF!,MATCH(B46,#REF!,0)) -> #REF! | AV46: =SUM(F46:$K46) -> 0 | AW46: =SUM(L46:Q46) -> 0 | AX46: =SUM(R46:W46) -> 0 | AY46: =SUM(X46:AC46) -> 0 | AZ46: =SUM(AD46:AI46) -> 0 | BA46: =SUM(AJ46:AO46) -> 0 | BB46: =SUM(AP46:AU46) -> 0 | BC46: {=MAX(IF(AV46:BB46>0,AV46:BB46))} -> 0 | BD46: {=MIN(IF(AV46:BB46>0,AV46:BB46))} -> 0 | BE46: =ROUND(AVERAGE((SUM(AV46:BB46)-BC46-BD46)/5),2) -> 0
A47: 45 | B47: =$BC$1&"号面试室"&A47&"号考生" -> 2号面试室45号考生 | C47: =INDEX(#REF!,MATCH(B47,#REF!,0)) -> #REF! | D47: =INDEX(#REF!,MATCH(B47,#REF!,0)) -> #REF! | E47: =INDEX(#REF!,MATCH(B47,#REF!,0)) -> #REF! | AV47: =SUM(F47:$K47) -> 0 | AW47: =SUM(L47:Q47) -> 0 | AX47: =SUM(R47:W47) -> 0 | AY47: =SUM(X47:AC47) -> 0 | AZ47: =SUM(AD47:AI47) -> 0 | BA47: =SUM(AJ47:AO47) -> 0 | BB47: =SUM(AP47:AU47) -> 0 | BC47: {=MAX(IF(AV47:BB47>0,AV47:BB47))} -> 0 | BD47: {=MIN(IF(AV47:BB47>0,AV47:BB47))} -> 0 | BE47: =ROUND(AVERAGE((SUM(AV47:BB47)-BC47-BD47)/5),2) -> 0
A48: 46 | B48: =$BC$1&"号面试室"&A48&"号考生" -> 2号面试室46号考生 | C48: =INDEX(#REF!,MATCH(B48,#REF!,0)) -> #REF! | D48: =INDEX(#REF!,MATCH(B48,#REF!,0)) -> #REF! | E48: =INDEX(#REF!,MATCH(B48,#REF!,0)) -> #REF! | AV48: =SUM(F48:$K48) -> 0 | AW48: =SUM(L48:Q48) -> 0 | AX48: =SUM(R48:W48) -> 0 | AY48: =SUM(X48:AC48) -> 0 | AZ48: =SUM(AD48:AI48) -> 0 | BA48: =SUM(AJ48:AO48) -> 0 | BB48: =SUM(AP48:AU48) -> 0 | BC48: {=MAX(IF(AV48:BB48>0,AV48:BB48))} -> 0 | BD48: {=MIN(IF(AV48:BB48>0,AV48:BB48))} -> 0 | BE48: =ROUND(AVERAGE((SUM(AV48:BB48)-BC48-BD48)/5),2) -> 0
... A127: 125 | B127: =$BC$1&"号面试室"&A127&"号考生" -> 2号面试室125号考生 | C127: =INDEX(#REF!,MATCH(B127,#REF!,0)) -> #REF! | D127: =INDEX(#REF!,MATCH(B127,#REF!,0)) -> #REF! | E127: =INDEX(#REF!,MATCH(B127,#REF!,0)) -> #REF! | AV127: =SUM(F127:$K127) -> 0 | AW127: =SUM(L127:Q127) -> 0 | AX127: =SUM(R127:W127) -> 0 | AY127: =SUM(X127:AC127) -> 0 | AZ127: =SUM(AD127:AI127) -> 0 | BA127: =SUM(AJ127:AO127) -> 0 | BB127: =SUM(AP127:AU127) -> 0 | BC127: {=MAX(IF(AV127:BB127>0,AV127:BB127))} -> 0 | BD127: {=MIN(IF(AV127:BB127>0,AV127:BB127))} -> 0 | BE127: =ROUND(AVERAGE((SUM(AV127:BB127)-BC127-BD127)/5),2) -> 0

Sheet 第3面试室
B1: =#REF! -> #REF! | AV1: 面试室序号： | BC1: 3
A2: 序号 | B2: 辅助列 | C2: 姓名 | D2: 考试号 | E2: 准考证号 | F2: 一号面试官评分 | L2: 二号面试官评分 | R2: 三号面试官评分 | X2: 四号面试官评分 | AD2: 五号面试官评分 | AJ2: 六号面试官评分 | AP2: 七号面试官评分 | AV2: 1 | AW2: 2 | AX2: 3 | AY2: 4 | AZ2: 5 | BA2: 6 | BB2: 7 | BC2: 最高分 | BD2: 最低分 | BE2: 最终评分
A3: 1 | B3: =$BC$1&"号面试室"&A3&"号考生" -> 3号面试室1号考生 | C3: =INDEX(#REF!,MATCH(第3面试室!B3,#REF!,0)) -> #REF! | D3: =INDEX(#REF!,MATCH(第3面试室!B3,#REF!,0)) -> #REF! | E3: =INDEX(#REF!,MATCH(第3面试室!B3,#REF!,0)) -> #REF! | F3: 20 | G3: 10 | H3: 15 | I3: 20 | J3: 8 | K3: 7 | L3: 20 | M3: 10 | N3: 15 | O3: 20 | P3: 8 | Q3: 7 | R3: 20 | S3: 10 | T3: 15 | U3: 20 | V3: 8 | W3: 7 | X3: 20 | Y3: 10 | Z3: 15 | AA3: 20 | AB3: 8 | AC3: 7 | AD3: 20 | AE3: 10 | AF3: 15 | AG3: 20 | AH3: 8 | AI3: 7 | AJ3: 20 | AK3: 10 | AL3: 15 | AM3: 20 | AN3: 8 | AO3: 7 | AP3: 20 | AQ3: 10 | AR3: 15 | AS3: 20 | AT3: 8 | AU3: 7 | AV3: =SUM(F3:$K3) -> 80 | AW3: =SUM(L3:Q3) -> 80 | AX3: =SUM(R3:W3) -> 80 | AY3: =SUM(X3:AC3) -> 80 | AZ3: =SUM(AD3:AI3) -> 80 | BA3: =SUM(AJ3:AO3) -> 80 | BB3: =SUM(AP3:AU3) -> 80 | BC3: {=MAX(IF(AV3:BB3>0,AV3:BB3))} -> 80 | BD3: {=MIN(IF(AV3:BB3>0,AV3:BB3))} -> 80 | BE3: =ROUND(AVERAGE((SUM(AV3:BB3)-BC3-BD3)/5),2) -> 80
A4: 2 | B4: =$BC$1&"号面试室"&A4&"号考生" -> 3号面试室2号考生 | C4: =INDEX(#REF!,MATCH(第3面试室!B4,#REF!,0)) -> #REF! | D4: =INDEX(#REF!,MATCH(第3面试室!B4,#REF!,0)) -> #REF! | E4: =INDEX(#REF!,MATCH(第3面试室!B4,#REF!,0)) -> #REF! | F4: 20 | G4: 10 | H4: 15 | I4: 20 | J4: 8 | K4: 7 | L4: 20 | M4: 10 | N4: 15 | O4: 20 | P4: 8 | Q4: 7 | R4: 20 | S4: 10 | T4: 15 | U4: 20 | V4: 8 | W4: 7 | X4: 20 | Y4: 10 | Z4: 15 | AA4: 20 | AB4: 8 | AC4: 7 | AD4: 20 | AE4: 10 | AF4: 15 | AG4: 20 | AH4: 8 | AI4: 7 | AJ4: 20 | AK4: 10 | AL4: 15 | AM4: 20 | AN4: 8 | AO4: 7 | AP4: 20 | AQ4: 10 | AR4: 15 | AS4: 20 | AT4: 8 | AU4: 7 | AV4: =SUM(F4:$K4) -> 80 | AW4: =SUM(L4:Q4) -> 80 | AX4: =SUM(R4:W4) -> 80 | AY4: =SUM(X4:AC4) -> 80 | AZ4: =SUM(AD4:AI4) -> 80 | BA4: =SUM(AJ4:AO4) -> 80 | BB4: =SUM(AP4:AU4) -> 80 | BC4: {=MAX(IF(AV4:BB4>0,AV4:BB4))} -> 80 | BD4: {=MIN(IF(AV4:BB4>0,AV4:BB4))} -> 80 | BE4: =ROUND(AVERAGE((SUM(AV4:BB4)-BC4-BD4)/5),2) -> 80
A5: 3 | B5: =$BC$1&"号面试室"&A5&"号考生" -> 3号面试室3号考生 | C5: =INDEX(#REF!,MATCH(第3面试室!B5,#REF!,0)) -> #REF! | D5: =INDEX(#REF!,MATCH(第3面试室!B5,#REF!,0)) -> #REF! | E5: =INDEX(#REF!,MATCH(第3面试室!B5,#REF!,0)) -> #REF! | F5: 20 | G5: 10 | H5: 15 | I5: 20 | J5: 8 | K5: 7 | L5: 20 | M5: 10 | N5: 15 | O5: 20 | P5: 8 | Q5: 7 | R5: 20 | S5: 10 | T5: 15 | U5: 20 | V5: 8 | W5: 7 | X5: 20 | Y5: 10 | Z5: 15 | AA5: 20 | AB5: 8 | AC5: 7 | AD5: 20 | AE5: 10 | AF5: 15 | AG5: 20 | AH5: 8 | AI5: 7 | AJ5: 20 | AK5: 10 | AL5: 15 | AM5: 20 | AN5: 8 | AO5: 7 | AP5: 20 | AQ5: 10 | AR5: 15 | AS5: 20 | AT5: 8 | AU5: 7 | AV5: =SUM(F5:$K5) -> 80 | AW5: =SUM(L5:Q5) -> 80 | AX5: =SUM(R5:W5) -> 80 | AY5: =SUM(X5:AC5) -> 80 | AZ5: =SUM(AD5:AI5) -> 80 | BA5: =SUM(AJ5:AO5) -> 80 | BB5: =SUM(AP5:AU5) -> 80 | BC5: {=MAX(IF(AV5:BB5>0,AV5:BB5))} -> 80 | BD5: {=MIN(IF(AV5:BB5>0,AV5:BB5))} -> 80 | BE5: =ROUND(AVERAGE((SUM(AV5:BB5)-BC5-BD5)/5),2) -> 80
A6: 4 | B6: =$BC$1&"号面试室"&A6&"号考生" -> 3号面试室4号考生 | C6: =INDEX(#REF!,MATCH(第3面试室!B6,#REF!,0)) -> #REF! | D6: =INDEX(#REF!,MATCH(第3面试室!B6,#REF!,0)) -> #REF! | E6: =INDEX(#REF!,MATCH(第3面试室!B6,#REF!,0)) -> #REF! | F6: 20 | G6: 10 | H6: 15 | I6: 20 | J6: 8 | K6: 7 | L6: 20 | M6: 10 | N6: 15 | O6: 20 | P6: 8 | Q6: 7 | R6: 20 | S6: 10 | T6: 15 | U6: 20 | V6: 8 | W6: 7 | X6: 20 | Y6: 10 | Z6: 15 | AA6: 20 | AB6: 8 | AC6: 7 | AD6: 20 | AE6: 10 | AF6: 15 | AG6: 20 | AH6: 8 | AI6: 7 | AJ6: 20 | AK6: 10 | AL6: 15 | AM6: 20 | AN6: 8 | AO6: 7 | AP6: 20 | AQ6: 10 | AR6: 15 | AS6: 20 | AT6: 8 | AU6: 7 | AV6: =SUM(F6:$K6) -> 80 | AW6: =SUM(L6:Q6) -> 80 | AX6: =SUM(R6:W6) -> 80 | AY6: =SUM(X6:AC6) -> 80 | AZ6: =SUM(AD6:AI6) -> 80 | BA6: =SUM(AJ6:AO6) -> 80 | BB6: =SUM(AP6:AU6) -> 80 | BC6: {=MAX(IF(AV6:BB6>0,AV6:BB6))} -> 80 | BD6: {=MIN(IF(AV6:BB6>0,AV6:BB6))} -> 80 | BE6: =ROUND(AVERAGE((SUM(AV6:BB6)-BC6-BD6)/5),2) -> 80
A7: 5 | B7: =$BC$1&"号面试室"&A7&"号考生" -> 3号面试室5号考生 | C7: =INDEX(#REF!,MATCH(第3面试室!B7,#REF!,0)) -> #REF! | D7: =INDEX(#REF!,MATCH(第3面试室!B7,#REF!,0)) -> #REF! | E7: =INDEX(#REF!,MATCH(第3面试室!B7,#REF!,0)) -> #REF! | F7: 20 | G7: 10 | H7: 15 | I7: 20 | J7: 8 | K7: 7 | L7: 20 | M7: 10 | N7: 15 | O7: 20 | P7: 8 | Q7: 7 | R7: 20 | S7: 10 | T7: 15 | U7: 20 | V7: 8 | W7: 7 | X7: 20 | Y7: 10 | Z7: 15 | AA7: 20 | AB7: 8 | AC7: 7 | AD7: 20 | AE7: 10 | AF7: 15 | AG7: 20 | AH7: 8 | AI7: 7 | AJ7: 20 | AK7: 10 | AL7: 15 | AM7: 20 | AN7: 8 | AO7: 7 | AP7: 20 | AQ7: 10 | AR7: 15 | AS7: 20 | AT7: 8 | AU7: 7 | AV7: =SUM(F7:$K7) -> 80 | AW7: =SUM(L7:Q7) -> 80 | AX7: =SUM(R7:W7) -> 80 | AY7: =SUM(X7:AC7) -> 80 | AZ7: =SUM(AD7:AI7) -> 80 | BA7: =SUM(AJ7:AO7) -> 80 | BB7: =SUM(AP7:AU7) -> 80 | BC7: {=MAX(IF(AV7:BB7>0,AV7:BB7))} -> 80 | BD7: {=MIN(IF(AV7:BB7>0,AV7:BB7))} -> 80 | BE7: =ROUND(AVERAGE((SUM(AV7:BB7)-BC7-BD7)/5),2) -> 80
A8: 6 | B8: =$BC$1&"号面试室"&A8&"号考生" -> 3号面试室6号考生 | C8: =INDEX(#REF!,MATCH(第3面试室!B8,#REF!,0)) -> #REF! | D8: =INDEX(#REF!,MATCH(第3面试室!B8,#REF!,0)) -> #REF! | E8: =INDEX(#REF!,MATCH(第3面试室!B8,#REF!,0)) -> #REF! | F8: 20 | G8: 10 | H8: 15 | I8: 20 | J8: 8 | K8: 7 | L8: 20 | M8: 10 | N8: 15 | O8: 20 | P8: 8 | Q8: 7 | R8: 20 | S8: 10 | T8: 15 | U8: 20 | V8: 8 | W8: 7 | X8: 20 | Y8: 10 | Z8: 15 | AA8: 20 | AB8: 8 | AC8: 7 | AD8: 20 | AE8: 10 | AF8: 15 | AG8: 20 | AH8: 8 | AI8: 7 | AJ8: 20 | AK8: 10 | AL8: 15 | AM8: 20 | AN8: 8 | AO8: 7 | AP8: 20 | AQ8: 10 | AR8: 15 | AS8: 20 | AT8: 8 | AU8: 7 | AV8: =SUM(F8:$K8) -> 80 | AW8: =SUM(L8:Q8) -> 80 | AX8: =SUM(R8:W8) -> 80 | AY8: =SUM(X8:AC8) -> 80 | AZ8: =SUM(AD8:AI8) -> 80 | BA8: =SUM(AJ8:AO8) -> 80 | BB8: =SUM(AP8:AU8) -> 80 | BC8: {=MAX(IF(AV8:BB8>0,AV8:BB8))} -> 80 | BD8: {=MIN(IF(AV8:BB8>0,AV8:BB8))} -> 80 | BE8: =ROUND(AVERAGE((SUM(AV8:BB8)-BC8-BD8)/5),2) -> 80
A9: 7 | B9: =$BC$1&"号面试室"&A9&"号考生" -> 3号面试室7号考生 | C9: =INDEX(#REF!,MATCH(第3面试室!B9,#REF!,0)) -> #REF! | D9: =INDEX(#REF!,MATCH(第3面试室!B9,#REF!,0)) -> #REF! | E9: =INDEX(#REF!,MATCH(第3面试室!B9,#REF!,0)) -> #REF! | F9: 20 | G9: 10 | H9: 15 | I9: 20 | J9: 8 | K9: 7 | L9: 20 | M9: 10 | N9: 15 | O9: 20 | P9: 8 | Q9: 7 | R9: 20 | S9: 10 | T9: 15 | U9: 20 | V9: 8 | W9: 7 | X9: 20 | Y9: 10 | Z9: 15 | AA9: 20 | AB9: 8 | AC9: 7 | AD9: 20 | AE9: 10 | AF9: 15 | AG9: 20 | AH9: 8 | AI9: 7 | AJ9: 20 | AK9: 10 | AL9: 15 | AM9: 20 | AN9: 8 | AO9: 7 | AP9: 20 | AQ9: 10 | AR9: 15 | AS9: 20 | AT9: 8 | AU9: 7 | AV9: =SUM(F9:$K9) -> 80 | AW9: =SUM(L9:Q9) -> 80 | AX9: =SUM(R9:W9) -> 80 | AY9: =SUM(X9:AC9) -> 80 | AZ9: =SUM(AD9:AI9) -> 80 | BA9: =SUM(AJ9:AO9) -> 80 | BB9: =SUM(AP9:AU9) -> 80 | BC9: {=MAX(IF(AV9:BB9>0,AV9:BB9))} -> 80 | BD9: {=MIN(IF(AV9:BB9>0,AV9:BB9))} -> 80 | BE9: =ROUND(AVERAGE((SUM(AV9:BB9)-BC9-BD9)/5),2) -> 80
A10: 8 | B10: =$BC$1&"号面试室"&A10&"号考生" -> 3号面试室8号考生 | C10: =INDEX(#REF!,MATCH(第3面试室!B10,#REF!,0)) -> #REF! | D10: =INDEX(#REF!,MATCH(第3面试室!B10,#REF!,0)) -> #REF! | E10: =INDEX(#REF!,MATCH(第3面试室!B10,#REF!,0)) -> #REF! | F10: 20 | G10: 10 | H10: 15 | I10: 20 | J10: 8 | K10: 7 | L10: 20 | M10: 10 | N10: 15 | O10: 20 | P10: 8 | Q10: 7 | R10: 20 | S10: 10 | T10: 15 | U10: 20 | V10: 8 | W10: 7 | X10: 20 | Y10: 10 | Z10: 15 | AA10: 20 | AB10: 8 | AC10: 7 | AD10: 20 | AE10: 10 | AF10: 15 | AG10: 20 | AH10: 8 | AI10: 7 | AJ10: 20 | AK10: 10 | AL10: 15 | AM10: 20 | AN10: 8 | AO10: 7 | AP10: 20 | AQ10: 10 | AR10: 15 | AS10: 20 | AT10: 8 | AU10: 7 | AV10: =SUM(F10:$K10) -> 80 | AW10: =SUM(L10:Q10) -> 80 | AX10: =SUM(R10:W10) -> 80 | AY10: =SUM(X10:AC10) -> 80 | AZ10: =SUM(AD10:AI10) -> 80 | BA10: =SUM(AJ10:AO10) -> 80 | BB10: =SUM(AP10:AU10) -> 80 | BC10: {=MAX(IF(AV10:BB10>0,AV10:BB10))} -> 80 | BD10: {=MIN(IF(AV10:BB10>0,AV10:BB10))} -> 80 | BE10: =ROUND(AVERAGE((SUM(AV10:BB10)-BC10-BD10)/5),2) -> 80
A11: 9 | B11: =$BC$1&"号面试室"&A11&"号考生" -> 3号面试室9号考生 | C11: =INDEX(#REF!,MATCH(第3面试室!B11,#REF!,0)) -> #REF! | D11: =INDEX(#REF!,MATCH(第3面试室!B11,#REF!,0)) -> #REF! | E11: =INDEX(#REF!,MATCH(第3面试室!B11,#REF!,0)) -> #REF! | F11: 20 | G11: 10 | H11: 15 | I11: 20 | J11: 8 | K11: 7 | L11: 20 | M11: 10 | N11: 15 | O11: 20 | P11: 8 | Q11: 7 | R11: 20 | S11: 10 | T11: 15 | U11: 20 | V11: 8 | W11: 7 | X11: 20 | Y11: 10 | Z11: 15 | AA11: 20 | AB11: 8 | AC11: 7 | AD11: 20 | AE11: 10 | AF11: 15 | AG11: 20 | AH11: 8 | AI11: 7 | AJ11: 20 | AK11: 10 | AL11: 15 | AM11: 20 | AN11: 8 | AO11: 7 | AP11: 20 | AQ11: 10 | AR11: 15 | AS11: 20 | AT11: 8 | AU11: 7 | AV11: =SUM(F11:$K11) -> 80 | AW11: =SUM(L11:Q11) -> 80 | AX11: =SUM(R11:W11) -> 80 | AY11: =SUM(X11:AC11) -> 80 | AZ11: =SUM(AD11:AI11) -> 80 | BA11: =SUM(AJ11:AO11) -> 80 | BB11: =SUM(AP11:AU11) -> 80 | BC11: {=MAX(IF(AV11:BB11>0,AV11:BB11))} -> 80 | BD11: {=MIN(IF(AV11:BB11>0,AV11:BB11))} -> 80 | BE11: =ROUND(AVERAGE((SUM(AV11:BB11)-BC11-BD11)/5),2) -> 80
A12: 10 | B12: =$BC$1&"号面试室"&A12&"号考生" -> 3号面试室10号考生 | C12: =INDEX(#REF!,MATCH(第3面试室!B12,#REF!,0)) -> #REF! | D12: =INDEX(#REF!,MATCH(第3面试室!B12,#REF!,0)) -> #REF! | E12: =INDEX(#REF!,MATCH(第3面试室!B12,#REF!,0)) -> #REF! | F12: 20 | G12: 10 | H12: 15 | I12: 20 | J12: 8 | K12: 7 | L12: 20 | M12: 10 | N12: 15 | O12: 20 | P12: 8 | Q12: 7 | R12: 20 | S12: 10 | T12: 15 | U12: 20 | V12: 8 | W12: 7 | X12: 20 | Y12: 10 | Z12: 15 | AA12: 20 | AB12: 8 | AC12: 7 | AD12: 20 | AE12: 10 | AF12: 15 | AG12: 20 | AH12: 8 | AI12: 7 | AJ12: 20 | AK12: 10 | AL12: 15 | AM12: 20 | AN12: 8 | AO12: 7 | AP12: 20 | AQ12: 10 | AR12: 15 | AS12: 20 | AT12: 8 | AU12: 7 | AV12: =SUM(F12:$K12) -> 80 | AW12: =SUM(L12:Q12) -> 80 | AX12: =SUM(R12:W12) -> 80 | AY12: =SUM(X12:AC12) -> 80 | AZ12: =SUM(AD12:AI12) -> 80 | BA12: =SUM(AJ12:AO12) -> 80 | BB12: =SUM(AP12:AU12) -> 80 | BC12: {=MAX(IF(AV12:BB12>0,AV12:BB12))} -> 80 | BD12: {=MIN(IF(AV12:BB12>0,AV12:BB12))} -> 80 | BE12: =ROUND(AVERAGE((SUM(AV12:BB12)-BC12-BD12)/5),2) -> 80
A13: 11 | B13: =$BC$1&"号面试室"&A13&"号考生" -> 3号面试室11号考生 | C13: =INDEX(#REF!,MATCH(第3面试室!B13,#REF!,0)) -> #REF! | D13: =INDEX(#REF!,MATCH(第3面试室!B13,#REF!,0)) -> #REF! | E13: =INDEX(#REF!,MATCH(第3面试室!B13,#REF!,0)) -> #REF! | F13: 20 | G13: 10 | H13: 15 | I13: 20 | J13: 8 | K13: 7 | L13: 20 | M13: 10 | N13: 15 | O13: 20 | P13: 8 | Q13: 7 | R13: 20 | S13: 10 | T13: 15 | U13: 20 | V13: 8 | W13: 7 | X13: 20 | Y13: 10 | Z13: 15 | AA13: 20 | AB13: 8 | AC13: 7 | AD13: 20 | AE13: 10 | AF13: 15 | AG13: 20 | AH13: 8 | AI13: 7 | AJ13: 20 | AK13: 10 | AL13: 15 | AM13: 20 | AN13: 8 | AO13: 7 | AP13: 20 | AQ13: 10 | AR13: 15 | AS13: 20 | AT13: 8 | AU13: 7 | AV13: =SUM(F13:$K13) -> 80 | AW13: =SUM(L13:Q13) -> 80 | AX13: =SUM(R13:W13) -> 80 | AY13: =SUM(X13:AC13) -> 80 | AZ13: =SUM(AD13:AI13) -> 80 | BA13: =SUM(AJ13:AO13) -> 80 | BB13: =SUM(AP13:AU13) -> 80 | BC13: {=MAX(IF(AV13:BB13>0,AV13:BB13))} -> 80 | BD13: {=MIN(IF(AV13:BB13>0,AV13:BB13))} -> 80 | BE13: =ROUND(AVERAGE((SUM(AV13:BB13)-BC13-BD13)/5),2) -> 80
A14: 12 | B14: =$BC$1&"号面试室"&A14&"号考生" -> 3号面试室12号考生 | C14: =INDEX(#REF!,MATCH(第3面试室!B14,#REF!,0)) -> #REF! | D14: =INDEX(#REF!,MATCH(第3面试室!B14,#REF!,0)) -> #REF! | E14: =INDEX(#REF!,MATCH(第3面试室!B14,#REF!,0)) -> #REF! | F14: 20 | G14: 10 | H14: 15 | I14: 20 | J14: 8 | K14: 7 | L14: 20 | M14: 10 | N14: 15 | O14: 20 | P14: 8 | Q14: 7 | R14: 20 | S14: 10 | T14: 15 | U14: 20 | V14: 8 | W14: 7 | X14: 20 | Y14: 10 | Z14: 15 | AA14: 20 | AB14: 8 | AC14: 7 | AD14: 20 | AE14: 10 | AF14: 15 | AG14: 20 | AH14: 8 | AI14: 7 | AJ14: 20 | AK14: 10 | AL14: 15 | AM14: 20 | AN14: 8 | AO14: 7 | AP14: 20 | AQ14: 10 | AR14: 15 | AS14: 20 | AT14: 8 | AU14: 7 | AV14: =SUM(F14:$K14) -> 80 | AW14: =SUM(L14:Q14) -> 80 | AX14: =SUM(R14:W14) -> 80 | AY14: =SUM(X14:AC14) -> 80 | AZ14: =SUM(AD14:AI14) -> 80 | BA14: =SUM(AJ14:AO14) -> 80 | BB14: =SUM(AP14:AU14) -> 80 | BC14: {=MAX(IF(AV14:BB14>0,AV14:BB14))} -> 80 | BD14: {=MIN(IF(AV14:BB14>0,AV14:BB14))} -> 80 | BE14: =ROUND(AVERAGE((SUM(AV14:BB14)-BC14-BD14)/5),2) -> 80
... A35: 33 | B35: =$BC$1&"号面试室"&A35&"号考生" -> 3号面试室33号考生 | C35: =INDEX(#REF!,MATCH(第3面试室!B35,#REF!,0)) -> #REF! | D35: =INDEX(#REF!,MATCH(第3面试室!B35,#REF!,0)) -> #REF! | E35: =INDEX(#REF!,MATCH(第3面试室!B35,#REF!,0)) -> #REF! | F35: 20 | G35: 10 | H35: 15 | I35: 20 | J35: 8 | K35: 7 | L35: 20 | M35: 10 | N35: 15 | O35: 20 | P35: 8 | Q35: 7 | R35: 20 | S35: 10 | T35: 15 | U35: 20 | V35: 8 | W35: 7 | X35: 20 | Y35: 10 | Z35: 15 | AA35: 20 | AB35: 8 | AC35: 7 | AD35: 20 | AE35: 10 | AF35: 15 | AG35: 20 | AH35: 8 | AI35: 7 | AJ35: 20 | AK35: 10 | AL35: 15 | AM35: 20 | AN35: 8 | AO35: 7 | AP35: 20 | AQ35: 10 | AR35: 15 | AS35: 20 | AT35: 8 | AU35: 7 | AV35: =SUM(F35:$K35) -> 80 | AW35: =SUM(L35:Q35) -> 80 | AX35: =SUM(R35:W35) -> 80 | AY35: =SUM(X35:AC35) -> 80 | AZ35: =SUM(AD35:AI35) -> 80 | BA35: =SUM(AJ35:AO35) -> 80 | BB35: =SUM(AP35:AU35) -> 80 | BC35: {=MAX(IF(AV35:BB35>0,AV35:BB35))} -> 80 | BD35: {=MIN(IF(AV35:BB35>0,AV35:BB35))} -> 80 | BE35: =ROUND(AVERAGE((SUM(AV35:BB35)-BC35-BD35)/5),2) -> 80
A36: 34 | B36: =$BC$1&"号面试室"&A36&"号考生" -> 3号面试室34号考生 | C36: =INDEX(#REF!,MATCH(第3面试室!B36,#REF!,0)) -> #REF! | D36: =INDEX(#REF!,MATCH(第3面试室!B36,#REF!,0)) -> #REF! | E36: =INDEX(#REF!,MATCH(第3面试室!B36,#REF!,0)) -> #REF! | AV36: =SUM(F36:$K36) -> 0 | AW36: =SUM(L36:Q36) -> 0 | AX36: =SUM(R36:W36) -> 0 | AY36: =SUM(X36:AC36) -> 0 | AZ36: =SUM(AD36:AI36) -> 0 | BA36: =SUM(AJ36:AO36) -> 0 | BB36: =SUM(AP36:AU36) -> 0 | BC36: {=MAX(IF(AV36:BB36>0,AV36:BB36))} -> 0 | BD36: {=MIN(IF(AV36:BB36>0,AV36:BB36))} -> 0 | BE36: =ROUND(AVERAGE((SUM(AV36:BB36)-BC36-BD36)/5),2) -> 0
A37: 35 | B37: =$BC$1&"号面试室"&A37&"号考生" -> 3号面试室35号考生 | C37: =INDEX(#REF!,MATCH(第3面试室!B37,#REF!,0)) -> #REF! | D37: =INDEX(#REF!,MATCH(第3面试室!B37,#REF!,0)) -> #REF! | E37: =INDEX(#REF!,MATCH(第3面试室!B37,#REF!,0)) -> #REF! | AV37: =SUM(F37:$K37) -> 0 | AW37: =SUM(L37:Q37) -> 0 | AX37: =SUM(R37:W37) -> 0 | AY37: =SUM(X37:AC37) -> 0 | AZ37: =SUM(AD37:AI37) -> 0 | BA37: =SUM(AJ37:AO37) -> 0 | BB37: =SUM(AP37:AU37) -> 0 | BC37: {=MAX(IF(AV37:BB37>0,AV37:BB37))} -> 0 | BD37: {=MIN(IF(AV37:BB37>0,AV37:BB37))} -> 0 | BE37: =ROUND(AVERAGE((SUM(AV37:BB37)-BC37-BD37)/5),2) -> 0
A38: 36 | B38: =$BC$1&"号面试室"&A38&"号考生" -> 3号面试室36号考生 | C38: =INDEX(#REF!,MATCH(第3面试室!B38,#REF!,0)) -> #REF! | D38: =INDEX(#REF!,MATCH(第3面试室!B38,#REF!,0)) -> #REF! | E38: =INDEX(#REF!,MATCH(第3面试室!B38,#REF!,0)) -> #REF! | AV38: =SUM(F38:$K38) -> 0 | AW38: =SUM(L38:Q38) -> 0 | AX38: =SUM(R38:W38) -> 0 | AY38: =SUM(X38:AC38) -> 0 | AZ38: =SUM(AD38:AI38) -> 0 | BA38: =SUM(AJ38:AO38) -> 0 | BB38: =SUM(AP38:AU38) -> 0 | BC38: {=MAX(IF(AV38:BB38>0,AV38:BB38))} -> 0 | BD38: {=MIN(IF(AV38:BB38>0,AV38:BB38))} -> 0 | BE38: =ROUND(AVERAGE((SUM(AV38:BB38)-BC38-BD38)/5),2) -> 0
A39: 37 | B39: =$BC$1&"号面试室"&A39&"号考生" -> 3号面试室37号考生 | C39: =INDEX(#REF!,MATCH(第3面试室!B39,#REF!,0)) -> #REF! | D39: =INDEX(#REF!,MATCH(第3面试室!B39,#REF!,0)) -> #REF! | E39: =INDEX(#REF!,MATCH(第3面试室!B39,#REF!,0)) -> #REF! | AV39: =SUM(F39:$K39) -> 0 | AW39: =SUM(L39:Q39) -> 0 | AX39: =SUM(R39:W39) -> 0 | AY39: =SUM(X39:AC39) -> 0 | AZ39: =SUM(AD39:AI39) -> 0 | BA39: =SUM(AJ39:AO39) -> 0 | BB39: =SUM(AP39:AU39) -> 0 | BC39: {=MAX(IF(AV39:BB39>0,AV39:BB39))} -> 0 | BD39: {=MIN(IF(AV39:BB39>0,AV39:BB39))} -> 0 | BE39: =ROUND(AVERAGE((SUM(AV39:BB39)-BC39-BD39)/5),2) -> 0
A40: 38 | B40: =$BC$1&"号面试室"&A40&"号考生" -> 3号面试室38号考生 | C40: =INDEX(#REF!,MATCH(第3面试室!B40,#REF!,0)) -> #REF! | D40: =INDEX(#REF!,MATCH(第3面试室!B40,#REF!,0)) -> #REF! | E40: =INDEX(#REF!,MATCH(第3面试室!B40,#REF!,0)) -> #REF! | AV40: =SUM(F40:$K40) -> 0 | AW40: =SUM(L40:Q40) -> 0 | AX40: =SUM(R40:W40) -> 0 | AY40: =SUM(X40:AC40) -> 0 | AZ40: =SUM(AD40:AI40) -> 0 | BA40: =SUM(AJ40:AO40) -> 0 | BB40: =SUM(AP40:AU40) -> 0 | BC40: {=MAX(IF(AV40:BB40>0,AV40:BB40))} -> 0 | BD40: {=MIN(IF(AV40:BB40>0,AV40:BB40))} -> 0 | BE40: =ROUND(AVERAGE((SUM(AV40:BB40)-BC40-BD40)/5),2) -> 0
A41: 39 | B41: =$BC$1&"号面试室"&A41&"号考生" -> 3号面试室39号考生 | C41: =INDEX(#REF!,MATCH(第3面试室!B41,#REF!,0)) -> #REF! | D41: =INDEX(#REF!,MATCH(第3面试室!B41,#REF!,0)) -> #REF! | E41: =INDEX(#REF!,MATCH(第3面试室!B41,#REF!,0)) -> #REF! | AV41: =SUM(F41:$K41) -> 0 | AW41: =SUM(L41:Q41) -> 0 | AX41: =SUM(R41:W41) -> 0 | AY41: =SUM(X41:AC41) -> 0 | AZ41: =SUM(AD41:AI41) -> 0 | BA41: =SUM(AJ41:AO41) -> 0 | BB41: =SUM(AP41:AU41) -> 0 | BC41: {=MAX(IF(AV41:BB41>0,AV41:BB41))} -> 0 | BD41: {=MIN(IF(AV41:BB41>0,AV41:BB41))} -> 0 | BE41: =ROUND(AVERAGE((SUM(AV41:BB41)-BC41-BD41)/5),2) -> 0
A42: 40 | B42: =$BC$1&"号面试室"&A42&"号考生" -> 3号面试室40号考生 | C42: =INDEX(#REF!,MATCH(第3面试室!B42,#REF!,0)) -> #REF! | D42: =INDEX(#REF!,MATCH(第3面试室!B42,#REF!,0)) -> #REF! | E42: =INDEX(#REF!,MATCH(第3面试室!B42,#REF!,0)) -> #REF! | AV42: =SUM(F42:$K42) -> 0 | AW42: =SUM(L42:Q42) -> 0 | AX42: =SUM(R42:W42) -> 0 | AY42: =SUM(X42:AC42) -> 0 | AZ42: =SUM(AD42:AI42) -> 0 | BA42: =SUM(AJ42:AO42) -> 0 | BB42: =SUM(AP42:AU42) -> 0 | BC42: {=MAX(IF(AV42:BB42>0,AV42:BB42))} -> 0 | BD42: {=MIN(IF(AV42:BB42>0,AV42:BB42))} -> 0 | BE42: =ROUND(AVERAGE((SUM(AV42:BB42)-BC42-BD42)/5),2) -> 0
A43: 41 | B43: =$BC$1&"号面试室"&A43&"号考生" -> 3号面试室41号考生 | C43: =INDEX(#REF!,MATCH(第3面试室!B43,#REF!,0)) -> #REF! | D43: =INDEX(#REF!,MATCH(第3面试室!B43,#REF!,0)) -> #REF! | E43: =INDEX(#REF!,MATCH(第3面试室!B43,#REF!,0)) -> #REF! | AV43: =SUM(F43:$K43) -> 0 | AW43: =SUM(L43:Q43) -> 0 | AX43: =SUM(R43:W43) -> 0 | AY43: =SUM(X43:AC43) -> 0 | AZ43: =SUM(AD43:AI43) -> 0 | BA43: =SUM(AJ43:AO43) -> 0 | BB43: =SUM(AP43:AU43) -> 0 | BC43: {=MAX(IF(AV43:BB43>0,AV43:BB43))} -> 0 | BD43: {=MIN(IF(AV43:BB43>0,AV43:BB43))} -> 0 | BE43: =ROUND(AVERAGE((SUM(AV43:BB43)-BC43-BD43)/5),2) -> 0
A44: 42 | B44: =$BC$1&"号面试室"&A44&"号考生" -> 3号面试室42号考生 | C44: =INDEX(#REF!,MATCH(第3面试室!B44,#REF!,0)) -> #REF! | D44: =INDEX(#REF!,MATCH(第3面试室!B44,#REF!,0)) -> #REF! | E44: =INDEX(#REF!,MATCH(第3面试室!B44,#REF!,0)) -> #REF! | AV44: =SUM(F44:$K44) -> 0 | AW44: =SUM(L44:Q44) -> 0 | AX44: =SUM(R44:W44) -> 0 | AY44: =SUM(X44:AC44) -> 0 | AZ44: =SUM(AD44:AI44) -> 0 | BA44: =SUM(AJ44:AO44) -> 0 | BB44: =SUM(AP44:AU44) -> 0 | BC44: {=MAX(IF(AV44:BB44>0,AV44:BB44))} -> 0 | BD44: {=MIN(IF(AV44:BB44>0,AV44:BB44))} -> 0 | BE44: =ROUND(AVERAGE((SUM(AV44:BB44)-BC44-BD44)/5),2) -> 0
A45: 43 | B45: =$BC$1&"号面试室"&A45&"号考生" -> 3号面试室43号考生 | C45: =INDEX(#REF!,MATCH(第3面试室!B45,#REF!,0)) -> #REF! | D45: =INDEX(#REF!,MATCH(第3面试室!B45,#REF!,0)) -> #REF! | E45: =INDEX(#REF!,MATCH(第3面试室!B45,#REF!,0)) -> #REF! | AV45: =SUM(F45:$K45) -> 0 | AW45: =SUM(L45:Q45) -> 0 | AX45: =SUM(R45:W45) -> 0 | AY45: =SUM(X45:AC45) -> 0 | AZ45: =SUM(AD45:AI45) -> 0 | BA45: =SUM(AJ45:AO45) -> 0 | BB45: =SUM(AP45:AU45) -> 0 | BC45: {=MAX(IF(AV45:BB45>0,AV45:BB45))} -> 0 | BD45: {=MIN(IF(AV45:BB45>0,AV45:BB45))} -> 0 | BE45: =ROUND(AVERAGE((SUM(AV45:BB45)-BC45-BD45)/5),2) -> 0
A46: 44 | B46: =$BC$1&"号面试室"&A46&"号考生" -> 3号面试室44号考生 | C46: =INDEX(#REF!,MATCH(第3面试室!B46,#REF!,0)) -> #REF! | D46: =INDEX(#REF!,MATCH(第3面试室!B46,#REF!,0)) -> #REF! | E46: =INDEX(#REF!,MATCH(第3面试室!B46,#REF!,0)) -> #REF! | AV46: =SUM(F46:$K46) -> 0 | AW46: =SUM(L46:Q46) -> 0 | AX46: =SUM(R46:W46) -> 0 | AY46: =SUM(X46:AC46) -> 0 | AZ46: =SUM(AD46:AI46) -> 0 | BA46: =SUM(AJ46:AO46) -> 0 | BB46: =SUM(AP46:AU46) -> 0 | BC46: {=MAX(IF(AV46:BB46>0,AV46:BB46))} -> 0 | BD46: {=MIN(IF(AV46:BB46>0,AV46:BB46))} -> 0 | BE46: =ROUND(AVERAGE((SUM(AV46:BB46)-BC46-BD46)/5),2) -> 0
A47: 45 | B47: =$BC$1&"号面试室"&A47&"号考生" -> 3号面试室45号考生 | C47: =INDEX(#REF!,MATCH(第3面试室!B47,#REF!,0)) -> #REF! | D47: =INDEX(#REF!,MATCH(第3面试室!B47,#REF!,0)) -> #REF! | E47: =INDEX(#REF!,MATCH(第3面试室!B47,#REF!,0)) -> #REF! | AV47: =SUM(F47:$K47) -> 0 | AW47: =SUM(L47:Q47) -> 0 | AX47: =SUM(R47:W47) -> 0 | AY47: =SUM(X47:AC47) -> 0 | AZ47: =SUM(AD47:AI47) -> 0 | BA47: =SUM(AJ47:AO47) -> 0 | BB47: =SUM(AP47:AU47) -> 0 | BC47: {=MAX(IF(AV47:BB47>0,AV47:BB47))} -> 0 | BD47: {=MIN(IF(AV47:BB47>0,AV47:BB47))} -> 0 | BE47: =ROUND(AVERAGE((SUM(AV47:BB47)-BC47-BD47)/5),2) -> 0
... A57: 55 | B57: =$BC$1&"号面试室"&A57&"号考生" -> 3号面试室55号考生 | C57: =INDEX(#REF!,MATCH(第3面试室!B57,#REF!,0)) -> #REF! | D57: =INDEX(#REF!,MATCH(第3面试室!B57,#REF!,0)) -> #REF! | E57: =INDEX(#REF!,MATCH(第3面试室!B57,#REF!,0)) -> #REF! | AV57: =SUM(F57:$K57) -> 0 | AW57: =SUM(L57:Q57) -> 0 | AX57: =SUM(R57:W57) -> 0 | AY57: =SUM(X57:AC57) -> 0 | AZ57: =SUM(AD57:AI57) -> 0 | BA57: =SUM(AJ57:AO57) -> 0 | BB57: =SUM(AP57:AU57) -> 0 | BC57: {=MAX(IF(AV57:BB57>0,AV57:BB57))} -> 0 | BD57: {=MIN(IF(AV57:BB57>0,AV57:BB57))} -> 0 | BE57: =ROUND(AVERAGE((SUM(AV57:BB57)-BC57-BD57)/5),2) -> 0

Sheet 第4面试室
B1: =#REF! -> #REF! | AV1: 面试室序号： | BC1: 4
A2: 序号 | B2: 辅助列 | C2: 姓名 | D2: 考试号 | E2: 准考证号 | F2: 一号面试官评分 | L2: 二号面试官评分 | R2: 三号面试官评分 | X2: 四号面试官评分 | AD2: 五号面试官评分 | AJ2: 六号面试官评分 | AP2: 七号面试官评分 | AV2: 1 | AW2: 2 | AX2: 3 | AY2: 4 | AZ2: 5 | BA2: 6 | BB2: 7 | BC2: 最高分 | BD2: 最低分 | BE2: 最终评分
A3: 1 | B3: =$BC$1&"号面试室"&A3&"号考生" -> 4号面试室1号考生 | C3: =INDEX(#REF!,MATCH(B3,#REF!,0)) -> #REF! | D3: =INDEX(#REF!,MATCH(第4面试室!B3,#REF!,0)) -> #REF! | E3: =INDEX(#REF!,MATCH(第4面试室!B3,#REF!,0)) -> #REF! | F3: 20 | G3: 10 | H3: 15 | I3: 20 | J3: 8 | K3: 7 | L3: 20 | M3: 10 | N3: 15 | O3: 20 | P3: 8 | Q3: 7 | R3: 20 | S3: 10 | T3: 15 | U3: 20 | V3: 8 | W3: 7 | X3: 20 | Y3: 10 | Z3: 15 | AA3: 20 | AB3: 8 | AC3: 7 | AD3: 20 | AE3: 10 | AF3: 15 | AG3: 20 | AH3: 8 | AI3: 7 | AJ3: 20 | AK3: 10 | AL3: 15 | AM3: 20 | AN3: 8 | AO3: 7 | AP3: 20 | AQ3: 10 | AR3: 15 | AS3: 20 | AT3: 8 | AU3: 7 | AV3: =SUM(F3:$K3) -> 80 | AW3: =SUM(L3:Q3) -> 80 | AX3: =SUM(R3:W3) -> 80 | AY3: =SUM(X3:AC3) -> 80 | AZ3: =SUM(AD3:AI3) -> 80 | BA3: =SUM(AJ3:AO3) -> 80 | BB3: =SUM(AP3:AU3) -> 80 | BC3: {=MAX(IF(AV3:BB3>0,AV3:BB3))} -> 80 | BD3: {=MIN(IF(AV3:BB3>0,AV3:BB3))} -> 80 | BE3: =ROUND(AVERAGE((SUM(AV3:BB3)-BC3-BD3)/5),2) -> 80
A4: 2 | B4: =$BC$1&"号面试室"&A4&"号考生" -> 4号面试室2号考生 | C4: =INDEX(#REF!,MATCH(B4,#REF!,0)) -> #REF! | D4: =INDEX(#REF!,MATCH(第4面试室!B4,#REF!,0)) -> #REF! | E4: =INDEX(#REF!,MATCH(第4面试室!B4,#REF!,0)) -> #REF! | F4: 20 | G4: 10 | H4: 15 | I4: 20 | J4: 8 | K4: 7 | L4: 20 | M4: 10 | N4: 15 | O4: 20 | P4: 8 | Q4: 7 | R4: 20 | S4: 10 | T4: 15 | U4: 20 | V4: 8 | W4: 7 | X4: 20 | Y4: 10 | Z4: 15 | AA4: 20 | AB4: 8 | AC4: 7 | AD4: 20 | AE4: 10 | AF4: 15 | AG4: 20 | AH4: 8 | AI4: 7 | AJ4: 20 | AK4: 10 | AL4: 15 | AM4: 20 | AN4: 8 | AO4: 7 | AP4: 20 | AQ4: 10 | AR4: 15 | AS4: 20 | AT4: 8 | AU4: 7 | AV4: =SUM(F4:$K4) -> 80 | AW4: =SUM(L4:Q4) -> 80 | AX4: =SUM(R4:W4) -> 80 | AY4: =SUM(X4:AC4) -> 80 | AZ4: =SUM(AD4:AI4) -> 80 | BA4: =SUM(AJ4:AO4) -> 80 | BB4: =SUM(AP4:AU4) -> 80 | BC4: {=MAX(IF(AV4:BB4>0,AV4:BB4))} -> 80 | BD4: {=MIN(IF(AV4:BB4>0,AV4:BB4))} -> 80 | BE4: =ROUND(AVERAGE((SUM(AV4:BB4)-BC4-BD4)/5),2) -> 80
A5: 3 | B5: =$BC$1&"号面试室"&A5&"号考生" -> 4号面试室3号考生 | C5: =INDEX(#REF!,MATCH(B5,#REF!,0)) -> #REF! | D5: =INDEX(#REF!,MATCH(第4面试室!B5,#REF!,0)) -> #REF! | E5: =INDEX(#REF!,MATCH(第4面试室!B5,#REF!,0)) -> #REF! | F5: 20 | G5: 10 | H5: 15 | I5: 20 | J5: 8 | K5: 7 | L5: 20 | M5: 10 | N5: 15 | O5: 20 | P5: 8 | Q5: 7 | R5: 20 | S5: 10 | T5: 15 | U5: 20 | V5: 8 | W5: 7 | X5: 20 | Y5: 10 | Z5: 15 | AA5: 20 | AB5: 8 | AC5: 7 | AD5: 20 | AE5: 10 | AF5: 15 | AG5: 20 | AH5: 8 | AI5: 7 | AJ5: 20 | AK5: 10 | AL5: 15 | AM5: 20 | AN5: 8 | AO5: 7 | AP5: 20 | AQ5: 10 | AR5: 15 | AS5: 20 | AT5: 8 | AU5: 7 | AV5: =SUM(F5:$K5) -> 80 | AW5: =SUM(L5:Q5) -> 80 | AX5: =SUM(R5:W5) -> 80 | AY5: =SUM(X5:AC5) -> 80 | AZ5: =SUM(AD5:AI5) -> 80 | BA5: =SUM(AJ5:AO5) -> 80 | BB5: =SUM(AP5:AU5) -> 80 | BC5: {=MAX(IF(AV5:BB5>0,AV5:BB5))} -> 80 | BD5: {=MIN(IF(AV5:BB5>0,AV5:BB5))} -> 80 | BE5: =ROUND(AVERAGE((SUM(AV5:BB5)-BC5-BD5)/5),2) -> 80
A6: 4 | B6: =$BC$1&"号面试室"&A6&"号考生" -> 4号面试室4号考生 | C6: =INDEX(#REF!,MATCH(B6,#REF!,0)) -> #REF! | D6: =INDEX(#REF!,MATCH(第4面试室!B6,#REF!,0)) -> #REF! | E6: =INDEX(#REF!,MATCH(第4面试室!B6,#REF!,0)) -> #REF! | F6: 20 | G6: 10 | H6: 15 | I6: 20 | J6: 8 | K6: 7 | L6: 20 | M6: 10 | N6: 15 | O6: 20 | P6: 8 | Q6: 7 | R6: 20 | S6: 10 | T6: 15 | U6: 20 | V6: 8 | W6: 7 | X6: 20 | Y6: 10 | Z6: 15 | AA6: 20 | AB6: 8 | AC6: 7 | AD6: 20 | AE6: 10 | AF6: 15 | AG6: 20 | AH6: 8 | AI6: 7 | AJ6: 20 | AK6: 10 | AL6: 15 | AM6: 20 | AN6: 8 | AO6: 7 | AP6: 20 | AQ6: 10 | AR6: 15 | AS6: 20 | AT6: 8 | AU6: 7 | AV6: =SUM(F6:$K6) -> 80 | AW6: =SUM(L6:Q6) -> 80 | AX6: =SUM(R6:W6) -> 80 | AY6: =SUM(X6:AC6) -> 80 | AZ6: =SUM(AD6:AI6) -> 80 | BA6: =SUM(AJ6:AO6) -> 80 | BB6: =SUM(AP6:AU6) -> 80 | BC6: {=MAX(IF(AV6:BB6>0,AV6:BB6))} -> 80 | BD6: {=MIN(IF(AV6:BB6>0,AV6:BB6))} -> 80 | BE6: =ROUND(AVERAGE((SUM(AV6:BB6)-BC6-BD6)/5),2) -> 80
A7: 5 | B7: =$BC$1&"号面试室"&A7&"号考生" -> 4号面试室5号考生 | C7: =INDEX(#REF!,MATCH(B7,#REF!,0)) -> #REF! | D7: =INDEX(#REF!,MATCH(第4面试室!B7,#REF!,0)) -> #REF! | E7: =INDEX(#REF!,MATCH(第4面试室!B7,#REF!,0)) -> #REF! | F7: 20 | G7: 10 | H7: 15 | I7: 20 | J7: 8 | K7: 7 | L7: 20 | M7: 10 | N7: 15 | O7: 20 | P7: 8 | Q7: 7 | R7: 20 | S7: 10 | T7: 15 | U7: 20 | V7: 8 | W7: 7 | X7: 20 | Y7: 10 | Z7: 15 | AA7: 20 | AB7: 8 | AC7: 7 | AD7: 20 | AE7: 10 | AF7: 15 | AG7: 20 | AH7: 8 | AI7: 7 | AJ7: 20 | AK7: 10 | AL7: 15 | AM7: 20 | AN7: 8 | AO7: 7 | AP7: 20 | AQ7: 10 | AR7: 15 | AS7: 20 | AT7: 8 | AU7: 7 | AV7: =SUM(F7:$K7) -> 80 | AW7: =SUM(L7:Q7) -> 80 | AX7: =SUM(R7:W7) -> 80 | AY7: =SUM(X7:AC7) -> 80 | AZ7: =SUM(AD7:AI7) -> 80 | BA7: =SUM(AJ7:AO7) -> 80 | BB7: =SUM(AP7:AU7) -> 80 | BC7: {=MAX(IF(AV7:BB7>0,AV7:BB7))} -> 80 | BD7: {=MIN(IF(AV7:BB7>0,AV7:BB7))} -> 80 | BE7: =ROUND(AVERAGE((SUM(AV7:BB7)-BC7-BD7)/5),2) -> 80
A8: 6 | B8: =$BC$1&"号面试室"&A8&"号考生" -> 4号面试室6号考生 | C8: =INDEX(#REF!,MATCH(B8,#REF!,0)) -> #REF! | D8: =INDEX(#REF!,MATCH(第4面试室!B8,#REF!,0)) -> #REF! | E8: =INDEX(#REF!,MATCH(第4面试室!B8,#REF!,0)) -> #REF! | F8: 20 | G8: 10 | H8: 15 | I8: 20 | J8: 8 | K8: 7 | L8: 20 | M8: 10 | N8: 15 | O8: 20 | P8: 8 | Q8: 7 | R8: 20 | S8: 10 | T8: 15 | U8: 20 | V8: 8 | W8: 7 | X8: 20 | Y8: 10 | Z8: 15 | AA8: 20 | AB8: 8 | AC8: 7 | AD8: 20 | AE8: 10 | AF8: 15 | AG8: 20 | AH8: 8 | AI8: 7 | AJ8: 20 | AK8: 10 | AL8: 15 | AM8: 20 | AN8: 8 | AO8: 7 | AP8: 20 | AQ8: 10 | AR8: 15 | AS8: 20 | AT8: 8 | AU8: 7 | AV8: =SUM(F8:$K8) -> 80 | AW8: =SUM(L8:Q8) -> 80 | AX8: =SUM(R8:W8) -> 80 | AY8: =SUM(X8:AC8) -> 80 | AZ8: =SUM(AD8:AI8) -> 80 | BA8: =SUM(AJ8:AO8) -> 80 | BB8: =SUM(AP8:AU8) -> 80 | BC8: {=MAX(IF(AV8:BB8>0,AV8:BB8))} -> 80 | BD8: {=MIN(IF(AV8:BB8>0,AV8:BB8))} -> 80 | BE8: =ROUND(AVERAGE((SUM(AV8:BB8)-BC8-BD8)/5),2) -> 80
A9: 7 | B9: =$BC$1&"号面试室"&A9&"号考生" -> 4号面试室7号考生 | C9: =INDEX(#REF!,MATCH(B9,#REF!,0)) -> #REF! | D9: =INDEX(#REF!,MATCH(第4面试室!B9,#REF!,0)) -> #REF! | E9: =INDEX(#REF!,MATCH(第4面试室!B9,#REF!,0)) -> #REF! | F9: 20 | G9: 10 | H9: 15 | I9: 20 | J9: 8 | K9: 7 | L9: 20 | M9: 10 | N9: 15 | O9: 20 | P9: 8 | Q9: 7 | R9: 20 | S9: 10 | T9: 15 | U9: 20 | V9: 8 | W9: 7 | X9: 20 | Y9: 10 | Z9: 15 | AA9: 20 | AB9: 8 | AC9: 7 | AD9: 20 | AE9: 10 | AF9: 15 | AG9: 20 | AH9: 8 | AI9: 7 | AJ9: 20 | AK9: 10 | AL9: 15 | AM9: 20 | AN9: 8 | AO9: 7 | AP9: 20 | AQ9: 10 | AR9: 15 | AS9: 20 | AT9: 8 | AU9: 7 | AV9: =SUM(F9:$K9) -> 80 | AW9: =SUM(L9:Q9) -> 80 | AX9: =SUM(R9:W9) -> 80 | AY9: =SUM(X9:AC9) -> 80 | AZ9: =SUM(AD9:AI9) -> 80 | BA9: =SUM(AJ9:AO9) -> 80 | BB9: =SUM(AP9:AU9) -> 80 | BC9: {=MAX(IF(AV9:BB9>0,AV9:BB9))} -> 80 | BD9: {=MIN(IF(AV9:BB9>0,AV9:BB9))} -> 80 | BE9: =ROUND(AVERAGE((SUM(AV9:BB9)-BC9-BD9)/5),2) -> 80
A10: 8 | B10: =$BC$1&"号面试室"&A10&"号考生" -> 4号面试室8号考生 | C10: =INDEX(#REF!,MATCH(B10,#REF!,0)) -> #REF! | D10: =INDEX(#REF!,MATCH(第4面试室!B10,#REF!,0)) -> #REF! | E10: =INDEX(#REF!,MATCH(第4面试室!B10,#REF!,0)) -> #REF! | F10: 20 | G10: 10 | H10: 15 | I10: 20 | J10: 8 | K10: 7 | L10: 20 | M10: 10 | N10: 15 | O10: 20 | P10: 8 | Q10: 7 | R10: 20 | S10: 10 | T10: 15 | U10: 20 | V10: 8 | W10: 7 | X10: 20 | Y10: 10 | Z10: 15 | AA10: 20 | AB10: 8 | AC10: 7 | AD10: 20 | AE10: 10 | AF10: 15 | AG10: 20 | AH10: 8 | AI10: 7 | AJ10: 20 | AK10: 10 | AL10: 15 | AM10: 20 | AN10: 8 | AO10: 7 | AP10: 20 | AQ10: 10 | AR10: 15 | AS10: 20 | AT10: 8 | AU10: 7 | AV10: =SUM(F10:$K10) -> 80 | AW10: =SUM(L10:Q10) -> 80 | AX10: =SUM(R10:W10) -> 80 | AY10: =SUM(X10:AC10) -> 80 | AZ10: =SUM(AD10:AI10) -> 80 | BA10: =SUM(AJ10:AO10) -> 80 | BB10: =SUM(AP10:AU10) -> 80 | BC10: {=MAX(IF(AV10:BB10>0,AV10:BB10))} -> 80 | BD10: {=MIN(IF(AV10:BB10>0,AV10:BB10))} -> 80 | BE10: =ROUND(AVERAGE((SUM(AV10:BB10)-BC10-BD10)/5),2) -> 80
A11: 9 | B11: =$BC$1&"号面试室"&A11&"号考生" -> 4号面试室9号考生 | C11: =INDEX(#REF!,MATCH(B11,#REF!,0)) -> #REF! | D11: =INDEX(#REF!,MATCH(第4面试室!B11,#REF!,0)) -> #REF! | E11: =INDEX(#REF!,MATCH(第4面试室!B11,#REF!,0)) -> #REF! | F11: 20 | G11: 10 | H11: 15 | I11: 20 | J11: 8 | K11: 7 | L11: 20 | M11: 10 | N11: 15 | O11: 20 | P11: 8 | Q11: 7 | R11: 20 | S11: 10 | T11: 15 | U11: 20 | V11: 8 | W11: 7 | X11: 20 | Y11: 10 | Z11: 15 | AA11: 20 | AB11: 8 | AC11: 7 | AD11: 20 | AE11: 10 | AF11: 15 | AG11: 20 | AH11: 8 | AI11: 7 | AJ11: 20 | AK11: 10 | AL11: 15 | AM11: 20 | AN11: 8 | AO11: 7 | AP11: 20 | AQ11: 10 | AR11: 15 | AS11: 20 | AT11: 8 | AU11: 7 | AV11: =SUM(F11:$K11) -> 80 | AW11: =SUM(L11:Q11) -> 80 | AX11: =SUM(R11:W11) -> 80 | AY11: =SUM(X11:AC11) -> 80 | AZ11: =SUM(AD11:AI11) -> 80 | BA11: =SUM(AJ11:AO11) -> 80 | BB11: =SUM(AP11:AU11) -> 80 | BC11: {=MAX(IF(AV11:BB11>0,AV11:BB11))} -> 80 | BD11: {=MIN(IF(AV11:BB11>0,AV11:BB11))} -> 80 | BE11: =ROUND(AVERAGE((SUM(AV11:BB11)-BC11-BD11)/5),2) -> 80
A12: 10 | B12: =$BC$1&"号面试室"&A12&"号考生" -> 4号面试室10号考生 | C12: =INDEX(#REF!,MATCH(B12,#REF!,0)) -> #REF! | D12: =INDEX(#REF!,MATCH(第4面试室!B12,#REF!,0)) -> #REF! | E12: =INDEX(#REF!,MATCH(第4面试室!B12,#REF!,0)) -> #REF! | F12: 20 | G12: 10 | H12: 15 | I12: 20 | J12: 8 | K12: 7 | L12: 20 | M12: 10 | N12: 15 | O12: 20 | P12: 8 | Q12: 7 | R12: 20 | S12: 10 | T12: 15 | U12: 20 | V12: 8 | W12: 7 | X12: 20 | Y12: 10 | Z12: 15 | AA12: 20 | AB12: 8 | AC12: 7 | AD12: 20 | AE12: 10 | AF12: 15 | AG12: 20 | AH12: 8 | AI12: 7 | AJ12: 20 | AK12: 10 | AL12: 15 | AM12: 20 | AN12: 8 | AO12: 7 | AP12: 20 | AQ12: 10 | AR12: 15 | AS12: 20 | AT12: 8 | AU12: 7 | AV12: =SUM(F12:$K12) -> 80 | AW12: =SUM(L12:Q12) -> 80 | AX12: =SUM(R12:W12) -> 80 | AY12: =SUM(X12:AC12) -> 80 | AZ12: =SUM(AD12:AI12) -> 80 | BA12: =SUM(AJ12:AO12) -> 80 | BB12: =SUM(AP12:AU12) -> 80 | BC12: {=MAX(IF(AV12:BB12>0,AV12:BB12))} -> 80 | BD12: {=MIN(IF(AV12:BB12>0,AV12:BB12))} -> 80 | BE12: =ROUND(AVERAGE((SUM(AV12:BB12)-BC12-BD12)/5),2) -> 80
A13: 11 | B13: =$BC$1&"号面试室"&A13&"号考生" -> 4号面试室11号考生 | C13: =INDEX(#REF!,MATCH(B13,#REF!,0)) -> #REF! | D13: =INDEX(#REF!,MATCH(第4面试室!B13,#REF!,0)) -> #REF! | E13: =INDEX(#REF!,MATCH(第4面试室!B13,#REF!,0)) -> #REF! | F13: 20 | G13: 10 | H13: 15 | I13: 20 | J13: 8 | K13: 7 | L13: 20 | M13: 10 | N13: 15 | O13: 20 | P13: 8 | Q13: 7 | R13: 20 | S13: 10 | T13: 15 | U13: 20 | V13: 8 | W13: 7 | X13: 20 | Y13: 10 | Z13: 15 | AA13: 20 | AB13: 8 | AC13: 7 | AD13: 20 | AE13: 10 | AF13: 15 | AG13: 20 | AH13: 8 | AI13: 7 | AJ13: 20 | AK13: 10 | AL13: 15 | AM13: 20 | AN13: 8 | AO13: 7 | AP13: 20 | AQ13: 10 | AR13: 15 | AS13: 20 | AT13: 8 | AU13: 7 | AV13: =SUM(F13:$K13) -> 80 | AW13: =SUM(L13:Q13) -> 80 | AX13: =SUM(R13:W13) -> 80 | AY13: =SUM(X13:AC13) -> 80 | AZ13: =SUM(AD13:AI13) -> 80 | BA13: =SUM(AJ13:AO13) -> 80 | BB13: =SUM(AP13:AU13) -> 80 | BC13: {=MAX(IF(AV13:BB13>0,AV13:BB13))} -> 80 | BD13: {=MIN(IF(AV13:BB13>0,AV13:BB13))} -> 80 | BE13: =ROUND(AVERAGE((SUM(AV13:BB13)-BC13-BD13)/5),2) -> 80
A14: 12 | B14: =$BC$1&"号面试室"&A14&"号考生" -> 4号面试室12号考生 | C14: =INDEX(#REF!,MATCH(B14,#REF!,0)) -> #REF! | D14: =INDEX(#REF!,MATCH(第4面试室!B14,#REF!,0)) -> #REF! | E14: =INDEX(#REF!,MATCH(第4面试室!B14,#REF!,0)) -> #REF! | F14: 20 | G14: 10 | H14: 15 | I14: 20 | J14: 8 | K14: 7 | L14: 20 | M14: 10 | N14: 15 | O14: 20 | P14: 8 | Q14: 7 | R14: 20 | S14: 10 | T14: 15 | U14: 20 | V14: 8 | W14: 7 | X14: 20 | Y14: 10 | Z14: 15 | AA14: 20 | AB14: 8 | AC14: 7 | AD14: 20 | AE14: 10 | AF14: 15 | AG14: 20 | AH14: 8 | AI14: 7 | AJ14: 20 | AK14: 10 | AL14: 15 | AM14: 20 | AN14: 8 | AO14: 7 | AP14: 20 | AQ14: 10 | AR14: 15 | AS14: 20 | AT14: 8 | AU14: 7 | AV14: =SUM(F14:$K14) -> 80 | AW14: =SUM(L14:Q14) -> 80 | AX14: =SUM(R14:W14) -> 80 | AY14: =SUM(X14:AC14) -> 80 | AZ14: =SUM(AD14:AI14) -> 80 | BA14: =SUM(AJ14:AO14) -> 80 | BB14: =SUM(AP14:AU14) -> 80 | BC14: {=MAX(IF(AV14:BB14>0,AV14:BB14))} -> 80 | BD14: {=MIN(IF(AV14:BB14>0,AV14:BB14))} -> 80 | BE14: =ROUND(AVERAGE((SUM(AV14:BB14)-BC14-BD14)/5),2) -> 80
... A33: 31 | B33: =$BC$1&"号面试室"&A33&"号考生" -> 4号面试室31号考生 | C33: =INDEX(#REF!,MATCH(B33,#REF!,0)) -> #REF! | D33: =INDEX(#REF!,MATCH(第4面试室!B33,#REF!,0)) -> #REF! | E33: =INDEX(#REF!,MATCH(第4面试室!B33,#REF!,0)) -> #REF! | F33: 20 | G33: 10 | H33: 15 | I33: 20 | J33: 8 | K33: 7 | L33: 20 | M33: 10 | N33: 15 | O33: 20 | P33: 8 | Q33: 7 | R33: 20 | S33: 10 | T33: 15 | U33: 20 | V33: 8 | W33: 7 | X33: 20 | Y33: 10 | Z33: 15 | AA33: 20 | AB33: 8 | AC33: 7 | AD33: 20 | AE33: 10 | AF33: 15 | AG33: 20 | AH33: 8 | AI33: 7 | AJ33: 20 | AK33: 10 | AL33: 15 | AM33: 20 | AN33: 8 | AO33: 7 | AP33: 20 | AQ33: 10 | AR33: 15 | AS33: 20 | AT33: 8 | AU33: 7 | AV33: =SUM(F33:$K33) -> 80 | AW33: =SUM(L33:Q33) -> 80 | AX33: =SUM(R33:W33) -> 80 | AY33: =SUM(X33:AC33) -> 80 | AZ33: =SUM(AD33:AI33) -> 80 | BA33: =SUM(AJ33:AO33) -> 80 | BB33: =SUM(AP33:AU33) -> 80 | BC33: {=MAX(IF(AV33:BB33>0,AV33:BB33))} -> 80 | BD33: {=MIN(IF(AV33:BB33>0,AV33:BB33))} -> 80 | BE33: =ROUND(AVERAGE((SUM(AV33:BB33)-BC33-BD33)/5),2) -> 80
A34: 32 | B34: =$BC$1&"号面试室"&A34&"号考生" -> 4号面试室32号考生 | C34: =INDEX(#REF!,MATCH(B34,#REF!,0)) -> #REF! | D34: =INDEX(#REF!,MATCH(第4面试室!B34,#REF!,0)) -> #REF! | E34: =INDEX(#REF!,MATCH(第4面试室!B34,#REF!,0)) -> #REF! | AV34: =SUM(F34:$K34) -> 0 | AW34: =SUM(L34:Q34) -> 0 | AX34: =SUM(R34:W34) -> 0 | AY34: =SUM(X34:AC34) -> 0 | AZ34: =SUM(AD34:AI34) -> 0 | BA34: =SUM(AJ34:AO34) -> 0 | BB34: =SUM(AP34:AU34) -> 0 | BC34: {=MAX(IF(AV34:BB34>0,AV34:BB34))} -> 0 | BD34: {=MIN(IF(AV34:BB34>0,AV34:BB34))} -> 0 | BE34: =ROUND(AVERAGE((SUM(AV34:BB34)-BC34-BD34)/5),2) -> 0
A35: 33 | B35: =$BC$1&"号面试室"&A35&"号考生" -> 4号面试室33号考生 | C35: =INDEX(#REF!,MATCH(B35,#REF!,0)) -> #REF! | D35: =INDEX(#REF!,MATCH(第4面试室!B35,#REF!,0)) -> #REF! | E35: =INDEX(#REF!,MATCH(第4面试室!B35,#REF!,0)) -> #REF! | AV35: =SUM(F35:$K35) -> 0 | AW35: =SUM(L35:Q35) -> 0 | AX35: =SUM(R35:W35) -> 0 | AY35: =SUM(X35:AC35) -> 0 | AZ35: =SUM(AD35:AI35) -> 0 | BA35: =SUM(AJ35:AO35) -> 0 | BB35: =SUM(AP35:AU35) -> 0 | BC35: {=MAX(IF(AV35:BB35>0,AV35:BB35))} -> 0 | BD35: {=MIN(IF(AV35:BB35>0,AV35:BB35))} -> 0 | BE35: =ROUND(AVERAGE((SUM(AV35:BB35)-BC35-BD35)/5),2) -> 0
A36: 34 | B36: =$BC$1&"号面试室"&A36&"号考生" -> 4号面试室34号考生 | C36: =INDEX(#REF!,MATCH(B36,#REF!,0)) -> #REF! | D36: =INDEX(#REF!,MATCH(第4面试室!B36,#REF!,0)) -> #REF! | E36: =INDEX(#REF!,MATCH(第4面试室!B36,#REF!,0)) -> #REF! | AV36: =SUM(F36:$K36) -> 0 | AW36: =SUM(L36:Q36) -> 0 | AX36: =SUM(R36:W36) -> 0 | AY36: =SUM(X36:AC36) -> 0 | AZ36: =SUM(AD36:AI36) -> 0 | BA36: =SUM(AJ36:AO36) -> 0 | BB36: =SUM(AP36:AU36) -> 0 | BC36: {=MAX(IF(AV36:BB36>0,AV36:BB36))} -> 0 | BD36: {=MIN(IF(AV36:BB36>0,AV36:BB36))} -> 0 | BE36: =ROUND(AVERAGE((SUM(AV36:BB36)-BC36-BD36)/5),2) -> 0
A37: 35 | B37: =$BC$1&"号面试室"&A37&"号考生" -> 4号面试室35号考生 | C37: =INDEX(#REF!,MATCH(B37,#REF!,0)) -> #REF! | D37: =INDEX(#REF!,MATCH(第4面试室!B37,#REF!,0)) -> #REF! | E37: =INDEX(#REF!,MATCH(第4面试室!B37,#REF!,0)) -> #REF! | AV37: =SUM(F37:$K37) -> 0 | AW37: =SUM(L37:Q37) -> 0 | AX37: =SUM(R37:W37) -> 0 | AY37: =SUM(X37:AC37) -> 0 | AZ37: =SUM(AD37:AI37) -> 0 | BA37: =SUM(AJ37:AO37) -> 0 | BB37: =SUM(AP37:AU37) -> 0 | BC37: {=MAX(IF(AV37:BB37>0,AV37:BB37))} -> 0 | BD37: {=MIN(IF(AV37:BB37>0,AV37:BB37))} -> 0 | BE37: =ROUND(AVERAGE((SUM(AV37:BB37)-BC37-BD37)/5),2) -> 0
A38: 36 | B38: =$BC$1&"号面试室"&A38&"号考生" -> 4号面试室36号考生 | C38: =INDEX(#REF!,MATCH(B38,#REF!,0)) -> #REF! | D38: =INDEX(#REF!,MATCH(第4面试室!B38,#REF!,0)) -> #REF! | E38: =INDEX(#REF!,MATCH(第4面试室!B38,#REF!,0)) -> #REF! | AV38: =SUM(F38:$K38) -> 0 | AW38: =SUM(L38:Q38) -> 0 | AX38: =SUM(R38:W38) -> 0 | AY38: =SUM(X38:AC38) -> 0 | AZ38: =SUM(AD38:AI38) -> 0 | BA38: =SUM(AJ38:AO38) -> 0 | BB38: =SUM(AP38:AU38) -> 0 | BC38: {=MAX(IF(AV38:BB38>0,AV38:BB38))} -> 0 | BD38: {=MIN(IF(AV38:BB38>0,AV38:BB38))} -> 0 | BE38: =ROUND(AVERAGE((SUM(AV38:BB38)-BC38-BD38)/5),2) -> 0
A39: 37 | B39: =$BC$1&"号面试室"&A39&"号考生" -> 4号面试室37号考生 | C39: =INDEX(#REF!,MATCH(B39,#REF!,0)) -> #REF! | D39: =INDEX(#REF!,MATCH(第4面试室!B39,#REF!,0)) -> #REF! | E39: =INDEX(#REF!,MATCH(第4面试室!B39,#REF!,0)) -> #REF! | AV39: =SUM(F39:$K39) -> 0 | AW39: =SUM(L39:Q39) -> 0 | AX39: =SUM(R39:W39) -> 0 | AY39: =SUM(X39:AC39) -> 0 | AZ39: =SUM(AD39:AI39) -> 0 | BA39: =SUM(AJ39:AO39) -> 0 | BB39: =SUM(AP39:AU39) -> 0 | BC39: {=MAX(IF(AV39:BB39>0,AV39:BB39))} -> 0 | BD39: {=MIN(IF(AV39:BB39>0,AV39:BB39))} -> 0 | BE39: =ROUND(AVERAGE((SUM(AV39:BB39)-BC39-BD39)/5),2) -> 0
A40: 38 | B40: =$BC$1&"号面试室"&A40&"号考生" -> 4号面试室38号考生 | C40: =INDEX(#REF!,MATCH(B40,#REF!,0)) -> #REF! | D40: =INDEX(#REF!,MATCH(第4面试室!B40,#REF!,0)) -> #REF! | E40: =INDEX(#REF!,MATCH(第4面试室!B40,#REF!,0)) -> #REF! | AV40: =SUM(F40:$K40) -> 0 | AW40: =SUM(L40:Q40) -> 0 | AX40: =SUM(R40:W40) -> 0 | AY40: =SUM(X40:AC40) -> 0 | AZ40: =SUM(AD40:AI40) -> 0 | BA40: =SUM(AJ40:AO40) -> 0 | BB40: =SUM(AP40:AU40) -> 0 | BC40: {=MAX(IF(AV40:BB40>0,AV40:BB40))} -> 0 | BD40: {=MIN(IF(AV40:BB40>0,AV40:BB40))} -> 0 | BE40: =ROUND(AVERAGE((SUM(AV40:BB40)-BC40-BD40)/5),2) -> 0
A41: 39 | B41: =$BC$1&"号面试室"&A41&"号考生" -> 4号面试室39号考生 | C41: =INDEX(#REF!,MATCH(B41,#REF!,0)) -> #REF! | D41: =INDEX(#REF!,MATCH(第4面试室!B41,#REF!,0)) -> #REF! | E41: =INDEX(#REF!,MATCH(第4面试室!B41,#REF!,0)) -> #REF! | AV41: =SUM(F41:$K41) -> 0 | AW41: =SUM(L41:Q41) -> 0 | AX41: =SUM(R41:W41) -> 0 | AY41: =SUM(X41:AC41) -> 0 | AZ41: =SUM(AD41:AI41) -> 0 | BA41: =SUM(AJ41:AO41) -> 0 | BB41: =SUM(AP41:AU41) -> 0 | BC41: {=MAX(IF(AV41:BB41>0,AV41:BB41))} -> 0 | BD41: {=MIN(IF(AV41:BB41>0,AV41:BB41))} -> 0 | BE41: =ROUND(AVERAGE((SUM(AV41:BB41)-BC41-BD41)/5),2) -> 0
A42: 40 | B42: =$BC$1&"号面试室"&A42&"号考生" -> 4号面试室40号考生 | C42: =INDEX(#REF!,MATCH(B42,#REF!,0)) -> #REF! | D42: =INDEX(#REF!,MATCH(第4面试室!B42,#REF!,0)) -> #REF! | E42: =INDEX(#REF!,MATCH(第4面试室!B42,#REF!,0)) -> #REF! | AV42: =SUM(F42:$K42) -> 0 | AW42: =SUM(L42:Q42) -> 0 | AX42: =SUM(R42:W42) -> 0 | AY42: =SUM(X42:AC42) -> 0 | AZ42: =SUM(AD42:AI42) -> 0 | BA42: =SUM(AJ42:AO42) -> 0 | BB42: =SUM(AP42:AU42) -> 0 | BC42: {=MAX(IF(AV42:BB42>0,AV42:BB42))} -> 0 | BD42: {=MIN(IF(AV42:BB42>0,AV42:BB42))} -> 0 | BE42: =ROUND(AVERAGE((SUM(AV42:BB42)-BC42-BD42)/5),2) -> 0
A43: 41 | B43: =$BC$1&"号面试室"&A43&"号考生" -> 4号面试室41号考生 | C43: =INDEX(#REF!,MATCH(B43,#REF!,0)) -> #REF! | D43: =INDEX(#REF!,MATCH(第4面试室!B43,#REF!,0)) -> #REF! | E43: =INDEX(#REF!,MATCH(第4面试室!B43,#REF!,0)) -> #REF! | AV43: =SUM(F43:$K43) -> 0 | AW43: =SUM(L43:Q43) -> 0 | AX43: =SUM(R43:W43) -> 0 | AY43: =SUM(X43:AC43) -> 0 | AZ43: =SUM(AD43:AI43) -> 0 | BA43: =SUM(AJ43:AO43) -> 0 | BB43: =SUM(AP43:AU43) -> 0 | BC43: {=MAX(IF(AV43:BB43>0,AV43:BB43))} -> 0 | BD43: {=MIN(IF(AV43:BB43>0,AV43:BB43))} -> 0 | BE43: =ROUND(AVERAGE((SUM(AV43:BB43)-BC43-BD43)/5),2) -> 0
A44: 42 | B44: =$BC$1&"号面试室"&A44&"号考生" -> 4号面试室42号考生 | C44: =INDEX(#REF!,MATCH(B44,#REF!,0)) -> #REF! | D44: =INDEX(#REF!,MATCH(第4面试室!B44,#REF!,0)) -> #REF! | E44: =INDEX(#REF!,MATCH(第4面试室!B44,#REF!,0)) -> #REF! | AV44: =SUM(F44:$K44) -> 0 | AW44: =SUM(L44:Q44) -> 0 | AX44: =SUM(R44:W44) -> 0 | AY44: =SUM(X44:AC44) -> 0 | AZ44: =SUM(AD44:AI44) -> 0 | BA44: =SUM(AJ44:AO44) -> 0 | BB44: =SUM(AP44:AU44) -> 0 | BC44: {=MAX(IF(AV44:BB44>0,AV44:BB44))} -> 0 | BD44: {=MIN(IF(AV44:BB44>0,AV44:BB44))} -> 0 | BE44: =ROUND(AVERAGE((SUM(AV44:BB44)-BC44-BD44)/5),2) -> 0
A45: 43 | B45: =$BC$1&"号面试室"&A45&"号考生" -> 4号面试室43号考生 | C45: =INDEX(#REF!,MATCH(B45,#REF!,0)) -> #REF! | D45: =INDEX(#REF!,MATCH(第4面试室!B45,#REF!,0)) -> #REF! | E45: =INDEX(#REF!,MATCH(第4面试室!B45,#REF!,0)) -> #REF! | AV45: =SUM(F45:$K45) -> 0 | AW45: =SUM(L45:Q45) -> 0 | AX45: =SUM(R45:W45) -> 0 | AY45: =SUM(X45:AC45) -> 0 | AZ45: =SUM(AD45:AI45) -> 0 | BA45: =SUM(AJ45:AO45) -> 0 | BB45: =SUM(AP45:AU45) -> 0 | BC45: {=MAX(IF(AV45:BB45>0,AV45:BB45))} -> 0 | BD45: {=MIN(IF(AV45:BB45>0,AV45:BB45))} -> 0 | BE45: =ROUND(AVERAGE((SUM(AV45:BB45)-BC45-BD45)/5),2) -> 0
... A57: 55 | B57: =$BC$1&"号面试室"&A57&"号考生" -> 4号面试室55号考生 | C57: =INDEX(#REF!,MATCH(B57,#REF!,0)) -> #REF! | D57: =INDEX(#REF!,MATCH(第4面试室!B57,#REF!,0)) -> #REF! | E57: =INDEX(#REF!,MATCH(第4面试室!B57,#REF!,0)) -> #REF! | AV57: =SUM(F57:$K57) -> 0 | AW57: =SUM(L57:Q57) -> 0 | AX57: =SUM(R57:W57) -> 0 | AY57: =SUM(X57:AC57) -> 0 | AZ57: =SUM(AD57:AI57) -> 0 | BA57: =SUM(AJ57:AO57) -> 0 | BB57: =SUM(AP57:AU57) -> 0 | BC57: {=MAX(IF(AV57:BB57>0,AV57:BB57))} -> 0 | BD57: {=MIN(IF(AV57:BB57>0,AV57:BB57))} -> 0 | BE57: =ROUND(AVERAGE((SUM(AV57:BB57)-BC57-BD57)/5),2) -> 0

Sheet 第5面试室
B1: =#REF! -> #REF! | AV1: 面试室序号： | BC1: 5
A2: 序号 | B2: 辅助列 | C2: 姓名 | D2: 考试号 | E2: 准考证号 | F2: 一号面试官评分 | L2: 二号面试官评分 | R2: 三号面试官评分 | X2: 四号面试官评分 | AD2: 五号面试官评分 | AJ2: 六号面试官评分 | AP2: 七号面试官评分 | AV2: 1 | AW2: 2 | AX2: 3 | AY2: 4 | AZ2: 5 | BA2: 6 | BB2: 7 | BC2: 最高分 | BD2: 最低分 | BE2: 最终评分
A3: 1 | B3: =$BC$1&"号面试室"&A3&"号考生" -> 5号面试室1号考生 | C3: =INDEX(#REF!,MATCH(B3,#REF!,0)) -> #REF! | D3: =INDEX(#REF!,MATCH(第5面试室!B3,#REF!,0)) -> #REF! | E3: =INDEX(#REF!,MATCH(第5面试室!B3,#REF!,0)) -> #REF! | F3: 20 | G3: 10 | H3: 15 | I3: 20 | J3: 8 | K3: 7 | L3: 20 | M3: 10 | N3: 15 | O3: 20 | P3: 8 | Q3: 7 | R3: 20 | S3: 10 | T3: 15 | U3: 20 | V3: 8 | W3: 7 | X3: 20 | Y3: 10 | Z3: 15 | AA3: 20 | AB3: 8 | AC3: 7 | AD3: 20 | AE3: 10 | AF3: 15 | AG3: 20 | AH3: 8 | AI3: 7 | AJ3: 20 | AK3: 10 | AL3: 15 | AM3: 20 | AN3: 8 | AO3: 7 | AP3: 20 | AQ3: 10 | AR3: 15 | AS3: 20 | AT3: 8 | AU3: 7 | AV3: =SUM(F3:$K3) -> 80 | AW3: =SUM(L3:Q3) -> 80 | AX3: =SUM(R3:W3) -> 80 | AY3: =SUM(X3:AC3) -> 80 | AZ3: =SUM(AD3:AI3) -> 80 | BA3: =SUM(AJ3:AO3) -> 80 | BB3: =SUM(AP3:AU3) -> 80 | BC3: {=MAX(IF(AV3:BB3>0,AV3:BB3))} -> 80 | BD3: {=MIN(IF(AV3:BB3>0,AV3:BB3))} -> 80 | BE3: =ROUND(AVERAGE((SUM(AV3:BB3)-BC3-BD3)/5),2) -> 80
A4: 2 | B4: =$BC$1&"号面试室"&A4&"号考生" -> 5号面试室2号考生 | C4: =INDEX(#REF!,MATCH(B4,#REF!,0)) -> #REF! | D4: =INDEX(#REF!,MATCH(第5面试室!B4,#REF!,0)) -> #REF! | E4: =INDEX(#REF!,MATCH(第5面试室!B4,#REF!,0)) -> #REF! | F4: 20 | G4: 10 | H4: 15 | I4: 20 | J4: 8 | K4: 7 | L4: 20 | M4: 10 | N4: 15 | O4: 20 | P4: 8 | Q4: 7 | R4: 20 | S4: 10 | T4: 15 | U4: 20 | V4: 8 | W4: 7 | X4: 20 | Y4: 10 | Z4: 15 | AA4: 20 | AB4: 8 | AC4: 7 | AD4: 20 | AE4: 10 | AF4: 15 | AG4: 20 | AH4: 8 | AI4: 7 | AJ4: 20 | AK4: 10 | AL4: 15 | AM4: 20 | AN4: 8 | AO4: 7 | AP4: 20 | AQ4: 10 | AR4: 15 | AS4: 20 | AT4: 8 | AU4: 7 | AV4: =SUM(F4:$K4) -> 80 | AW4: =SUM(L4:Q4) -> 80 | AX4: =SUM(R4:W4) -> 80 | AY4: =SUM(X4:AC4) -> 80 | AZ4: =SUM(AD4:AI4) -> 80 | BA4: =SUM(AJ4:AO4) -> 80 | BB4: =SUM(AP4:AU4) -> 80 | BC4: {=MAX(IF(AV4:BB4>0,AV4:BB4))} -> 80 | BD4: {=MIN(IF(AV4:BB4>0,AV4:BB4))} -> 80 | BE4: =ROUND(AVERAGE((SUM(AV4:BB4)-BC4-BD4)/5),2) -> 80
A5: 3 | B5: =$BC$1&"号面试室"&A5&"号考生" -> 5号面试室3号考生 | C5: =INDEX(#REF!,MATCH(B5,#REF!,0)) -> #REF! | D5: =INDEX(#REF!,MATCH(第5面试室!B5,#REF!,0)) -> #REF! | E5: =INDEX(#REF!,MATCH(第5面试室!B5,#REF!,0)) -> #REF! | F5: 20 | G5: 10 | H5: 15 | I5: 20 | J5: 8 | K5: 7 | L5: 20 | M5: 10 | N5: 15 | O5: 20 | P5: 8 | Q5: 7 | R5: 20 | S5: 10 | T5: 15 | U5: 20 | V5: 8 | W5: 7 | X5: 20 | Y5: 10 | Z5: 15 | AA5: 20 | AB5: 8 | AC5: 7 | AD5: 20 | AE5: 10 | AF5: 15 | AG5: 20 | AH5: 8 | AI5: 7 | AJ5: 20 | AK5: 10 | AL5: 15 | AM5: 20 | AN5: 8 | AO5: 7 | AP5: 20 | AQ5: 10 | AR5: 15 | AS5: 20 | AT5: 8 | AU5: 7 | AV5: =SUM(F5:$K5) -> 80 | AW5: =SUM(L5:Q5) -> 80 | AX5: =SUM(R5:W5) -> 80 | AY5: =SUM(X5:AC5) -> 80 | AZ5: =SUM(AD5:AI5) -> 80 | BA5: =SUM(AJ5:AO5) -> 80 | BB5: =SUM(AP5:AU5) -> 80 | BC5: {=MAX(IF(AV5:BB5>0,AV5:BB5))} -> 80 | BD5: {=MIN(IF(AV5:BB5>0,AV5:BB5))} -> 80 | BE5: =ROUND(AVERAGE((SUM(AV5:BB5)-BC5-BD5)/5),2) -> 80
A6: 4 | B6: =$BC$1&"号面试室"&A6&"号考生" -> 5号面试室4号考生 | C6: =INDEX(#REF!,MATCH(B6,#REF!,0)) -> #REF! | D6: =INDEX(#REF!,MATCH(第5面试室!B6,#REF!,0)) -> #REF! | E6: =INDEX(#REF!,MATCH(第5面试室!B6,#REF!,0)) -> #REF! | F6: 20 | G6: 10 | H6: 15 | I6: 20 | J6: 8 | K6: 7 | L6: 20 | M6: 10 | N6: 15 | O6: 20 | P6: 8 | Q6: 7 | R6: 20 | S6: 10 | T6: 15 | U6: 20 | V6: 8 | W6: 7 | X6: 20 | Y6: 10 | Z6: 15 | AA6: 20 | AB6: 8 | AC6: 7 | AD6: 20 | AE6: 10 | AF6: 15 | AG6: 20 | AH6: 8 | AI6: 7 | AJ6: 20 | AK6: 10 | AL6: 15 | AM6: 20 | AN6: 8 | AO6: 7 | AP6: 20 | AQ6: 10 | AR6: 15 | AS6: 20 | AT6: 8 | AU6: 7 | AV6: =SUM(F6:$K6) -> 80 | AW6: =SUM(L6:Q6) -> 80 | AX6: =SUM(R6:W6) -> 80 | AY6: =SUM(X6:AC6) -> 80 | AZ6: =SUM(AD6:AI6) -> 80 | BA6: =SUM(AJ6:AO6) -> 80 | BB6: =SUM(AP6:AU6) -> 80 | BC6: {=MAX(IF(AV6:BB6>0,AV6:BB6))} -> 80 | BD6: {=MIN(IF(AV6:BB6>0,AV6:BB6))} -> 80 | BE6: =ROUND(AVERAGE((SUM(AV6:BB6)-BC6-BD6)/5),2) -> 80
A7: 5 | B7: =$BC$1&"号面试室"&A7&"号考生" -> 5号面试室5号考生 | C7: =INDEX(#REF!,MATCH(B7,#REF!,0)) -> #REF! | D7: =INDEX(#REF!,MATCH(第5面试室!B7,#REF!,0)) -> #REF! | E7: =INDEX(#REF!,MATCH(第5面试室!B7,#REF!,0)) -> #REF! | F7: 20 | G7: 10 | H7: 15 | I7: 20 | J7: 8 | K7: 7 | L7: 20 | M7: 10 | N7: 15 | O7: 20 | P7: 8 | Q7: 7 | R7: 20 | S7: 10 | T7: 15 | U7: 20 | V7: 8 | W7: 7 | X7: 20 | Y7: 10 | Z7: 15 | AA7: 20 | AB7: 8 | AC7: 7 | AD7: 20 | AE7: 10 | AF7: 15 | AG7: 20 | AH7: 8 | AI7: 7 | AJ7: 20 | AK7: 10 | AL7: 15 | AM7: 20 | AN7: 8 | AO7: 7 | AP7: 20 | AQ7: 10 | AR7: 15 | AS7: 20 | AT7: 8 | AU7: 7 | AV7: =SUM(F7:$K7) -> 80 | AW7: =SUM(L7:Q7) -> 80 | AX7: =SUM(R7:W7) -> 80 | AY7: =SUM(X7:AC7) -> 80 | AZ7: =SUM(AD7:AI7) -> 80 | BA7: =SUM(AJ7:AO7) -> 80 | BB7: =SUM(AP7:AU7) -> 80 | BC7: {=MAX(IF(AV7:BB7>0,AV7:BB7))} -> 80 | BD7: {=MIN(IF(AV7:BB7>0,AV7:BB7))} -> 80 | BE7: =ROUND(AVERAGE((SUM(AV7:BB7)-BC7-BD7)/5),2) -> 80
A8: 6 | B8: =$BC$1&"号面试室"&A8&"号考生" -> 5号面试室6号考生 | C8: =INDEX(#REF!,MATCH(B8,#REF!,0)) -> #REF! | D8: =INDEX(#REF!,MATCH(第5面试室!B8,#REF!,0)) -> #REF! | E8: =INDEX(#REF!,MATCH(第5面试室!B8,#REF!,0)) -> #REF! | F8: 20 | G8: 10 | H8: 15 | I8: 20 | J8: 8 | K8: 7 | L8: 20 | M8: 10 | N8: 15 | O8: 20 | P8: 8 | Q8: 7 | R8: 20 | S8: 10 | T8: 15 | U8: 20 | V8: 8 | W8: 7 | X8: 20 | Y8: 10 | Z8: 15 | AA8: 20 | AB8: 8 | AC8: 7 | AD8: 20 | AE8: 10 | AF8: 15 | AG8: 20 | AH8: 8 | AI8: 7 | AJ8: 20 | AK8: 10 | AL8: 15 | AM8: 20 | AN8: 8 | AO8: 7 | AP8: 20 | AQ8: 10 | AR8: 15 | AS8: 20 | AT8: 8 | AU8: 7 | AV8: =SUM(F8:$K8) -> 80 | AW8: =SUM(L8:Q8) -> 80 | AX8: =SUM(R8:W8) -> 80 | AY8: =SUM(X8:AC8) -> 80 | AZ8: =SUM(AD8:AI8) -> 80 | BA8: =SUM(AJ8:AO8) -> 80 | BB8: =SUM(AP8:AU8) -> 80 | BC8: {=MAX(IF(AV8:BB8>0,AV8:BB8))} -> 80 | BD8: {=MIN(IF(AV8:BB8>0,AV8:BB8))} -> 80 | BE8: =ROUND(AVERAGE((SUM(AV8:BB8)-BC8-BD8)/5),2) -> 80
A9: 7 | B9: =$BC$1&"号面试室"&A9&"号考生" -> 5号面试室7号考生 | C9: =INDEX(#REF!,MATCH(B9,#REF!,0)) -> #REF! | D9: =INDEX(#REF!,MATCH(第5面试室!B9,#REF!,0)) -> #REF! | E9: =INDEX(#REF!,MATCH(第5面试室!B9,#REF!,0)) -> #REF! | F9: 20 | G9: 10 | H9: 15 | I9: 20 | J9: 8 | K9: 7 | L9: 20 | M9: 10 | N9: 15 | O9: 20 | P9: 8 | Q9: 7 | R9: 20 | S9: 10 | T9: 15 | U9: 20 | V9: 8 | W9: 7 | X9: 20 | Y9: 10 | Z9: 15 | AA9: 20 | AB9: 8 | AC9: 7 | AD9: 20 | AE9: 10 | AF9: 15 | AG9: 20 | AH9: 8 | AI9: 7 | AJ9: 20 | AK9: 10 | AL9: 15 | AM9: 20 | AN9: 8 | AO9: 7 | AP9: 20 | AQ9: 10 | AR9: 15 | AS9: 20 | AT9: 8 | AU9: 7 | AV9: =SUM(F9:$K9) -> 80 | AW9: =SUM(L9:Q9) -> 80 | AX9: =SUM(R9:W9) -> 80 | AY9: =SUM(X9:AC9) -> 80 | AZ9: =SUM(AD9:AI9) -> 80 | BA9: =SUM(AJ9:AO9) -> 80 | BB9: =SUM(AP9:AU9) -> 80 | BC9: {=MAX(IF(AV9:BB9>0,AV9:BB9))} -> 80 | BD9: {=MIN(IF(AV9:BB9>0,AV9:BB9))} -> 80 | BE9: =ROUND(AVERAGE((SUM(AV9:BB9)-BC9-BD9)/5),2) -> 80
A10: 8 | B10: =$BC$1&"号面试室"&A10&"号考生" -> 5号面试室8号考生 | C10: =INDEX(#REF!,MATCH(B10,#REF!,0)) -> #REF! | D10: =INDEX(#REF!,MATCH(第5面试室!B10,#REF!,0)) -> #REF! | E10: =INDEX(#REF!,MATCH(第5面试室!B10,#REF!,0)) -> #REF! | F10: 20 | G10: 10 | H10: 15 | I10: 20 | J10: 8 | K10: 7 | L10: 20 | M10: 10 | N10: 15 | O10: 20 | P10: 8 | Q10: 7 | R10: 20 | S10: 10 | T10: 15 | U10: 20 | V10: 8 | W10: 7 | X10: 20 | Y10: 10 | Z10: 15 | AA10: 20 | AB10: 8 | AC10: 7 | AD10: 20 | AE10: 10 | AF10: 15 | AG10: 20 | AH10: 8 | AI10: 7 | AJ10: 20 | AK10: 10 | AL10: 15 | AM10: 20 | AN10: 8 | AO10: 7 | AP10: 20 | AQ10: 10 | AR10: 15 | AS10: 20 | AT10: 8 | AU10: 7 | AV10: =SUM(F10:$K10) -> 80 | AW10: =SUM(L10:Q10) -> 80 | AX10: =SUM(R10:W10) -> 80 | AY10: =SUM(X10:AC10) -> 80 | AZ10: =SUM(AD10:AI10) -> 80 | BA10: =SUM(AJ10:AO10) -> 80 | BB10: =SUM(AP10:AU10) -> 80 | BC10: {=MAX(IF(AV10:BB10>0,AV10:BB10))} -> 80 | BD10: {=MIN(IF(AV10:BB10>0,AV10:BB10))} -> 80 | BE10: =ROUND(AVERAGE((SUM(AV10:BB10)-BC10-BD10)/5),2) -> 80
A11: 9 | B11: =$BC$1&"号面试室"&A11&"号考生" -> 5号面试室9号考生 | C11: =INDEX(#REF!,MATCH(B11,#REF!,0)) -> #REF! | D11: =INDEX(#REF!,MATCH(第5面试室!B11,#REF!,0)) -> #REF! | E11: =INDEX(#REF!,MATCH(第5面试室!B11,#REF!,0)) -> #REF! | F11: 20 | G11: 10 | H11: 15 | I11: 20 | J11: 8 | K11: 7 | L11: 20 | M11: 10 | N11: 15 | O11: 20 | P11: 8 | Q11: 7 | R11: 20 | S11: 10 | T11: 15 | U11: 20 | V11: 8 | W11: 7 | X11: 20 | Y11: 10 | Z11: 15 | AA11: 20 | AB11: 8 | AC11: 7 | AD11: 20 | AE11: 10 | AF11: 15 | AG11: 20 | AH11: 8 | AI11: 7 | AJ11: 20 | AK11: 10 | AL11: 15 | AM11: 20 | AN11: 8 | AO11: 7 | AP11: 20 | AQ11: 10 | AR11: 15 | AS11: 20 | AT11: 8 | AU11: 7 | AV11: =SUM(F11:$K11) -> 80 | AW11: =SUM(L11:Q11) -> 80 | AX11: =SUM(R11:W11) -> 80 | AY11: =SUM(X11:AC11) -> 80 | AZ11: =SUM(AD11:AI11) -> 80 | BA11: =SUM(AJ11:AO11) -> 80 | BB11: =SUM(AP11:AU11) -> 80 | BC11: {=MAX(IF(AV11:BB11>0,AV11:BB11))} -> 80 | BD11: {=MIN(IF(AV11:BB11>0,AV11:BB11))} -> 80 | BE11: =ROUND(AVERAGE((SUM(AV11:BB11)-BC11-BD11)/5),2) -> 80
A12: 10 | B12: =$BC$1&"号面试室"&A12&"号考生" -> 5号面试室10号考生 | C12: =INDEX(#REF!,MATCH(B12,#REF!,0)) -> #REF! | D12: =INDEX(#REF!,MATCH(第5面试室!B12,#REF!,0)) -> #REF! | E12: =INDEX(#REF!,MATCH(第5面试室!B12,#REF!,0)) -> #REF! | F12: 20 | G12: 10 | H12: 15 | I12: 20 | J12: 8 | K12: 7 | L12: 20 | M12: 10 | N12: 15 | O12: 20 | P12: 8 | Q12: 7 | R12: 20 | S12: 10 | T12: 15 | U12: 20 | V12: 8 | W12: 7 | X12: 20 | Y12: 10 | Z12: 15 | AA12: 20 | AB12: 8 | AC12: 7 | AD12: 20 | AE12: 10 | AF12: 15 | AG12: 20 | AH12: 8 | AI12: 7 | AJ12: 20 | AK12: 10 | AL12: 15 | AM12: 20 | AN12: 8 | AO12: 7 | AP12: 20 | AQ12: 10 | AR12: 15 | AS12: 20 | AT12: 8 | AU12: 7 | AV12: =SUM(F12:$K12) -> 80 | AW12: =SUM(L12:Q12) -> 80 | AX12: =SUM(R12:W12) -> 80 | AY12: =SUM(X12:AC12) -> 80 | AZ12: =SUM(AD12:AI12) -> 80 | BA12: =SUM(AJ12:AO12) -> 80 | BB12: =SUM(AP12:AU12) -> 80 | BC12: {=MAX(IF(AV12:BB12>0,AV12:BB12))} -> 80 | BD12: {=MIN(IF(AV12:BB12>0,AV12:BB12))} -> 80 | BE12: =ROUND(AVERAGE((SUM(AV12:BB12)-BC12-BD12)/5),2) -> 80
A13: 11 | B13: =$BC$1&"号面试室"&A13&"号考生" -> 5号面试室11号考生 | C13: =INDEX(#REF!,MATCH(B13,#REF!,0)) -> #REF! | D13: =INDEX(#REF!,MATCH(第5面试室!B13,#REF!,0)) -> #REF! | E13: =INDEX(#REF!,MATCH(第5面试室!B13,#REF!,0)) -> #REF! | F13: 20 | G13: 10 | H13: 15 | I13: 20 | J13: 8 | K13: 7 | L13: 20 | M13: 10 | N13: 15 | O13: 20 | P13: 8 | Q13: 7 | R13: 20 | S13: 10 | T13: 15 | U13: 20 | V13: 8 | W13: 7 | X13: 20 | Y13: 10 | Z13: 15 | AA13: 20 | AB13: 8 | AC13: 7 | AD13: 20 | AE13: 10 | AF13: 15 | AG13: 20 | AH13: 8 | AI13: 7 | AJ13: 20 | AK13: 10 | AL13: 15 | AM13: 20 | AN13: 8 | AO13: 7 | AP13: 20 | AQ13: 10 | AR13: 15 | AS13: 20 | AT13: 8 | AU13: 7 | AV13: =SUM(F13:$K13) -> 80 | AW13: =SUM(L13:Q13) -> 80 | AX13: =SUM(R13:W13) -> 80 | AY13: =SUM(X13:AC13) -> 80 | AZ13: =SUM(AD13:AI13) -> 80 | BA13: =SUM(AJ13:AO13) -> 80 | BB13: =SUM(AP13:AU13) -> 80 | BC13: {=MAX(IF(AV13:BB13>0,AV13:BB13))} -> 80 | BD13: {=MIN(IF(AV13:BB13>0,AV13:BB13))} -> 80 | BE13: =ROUND(AVERAGE((SUM(AV13:BB13)-BC13-BD13)/5),2) -> 80
A14: 12 | B14: =$BC$1&"号面试室"&A14&"号考生" -> 5号面试室12号考生 | C14: =INDEX(#REF!,MATCH(B14,#REF!,0)) -> #REF! | D14: =INDEX(#REF!,MATCH(第5面试室!B14,#REF!,0)) -> #REF! | E14: =INDEX(#REF!,MATCH(第5面试室!B14,#REF!,0)) -> #REF! | F14: 20 | G14: 10 | H14: 15 | I14: 20 | J14: 8 | K14: 7 | L14: 20 | M14: 10 | N14: 15 | O14: 20 | P14: 8 | Q14: 7 | R14: 20 | S14: 10 | T14: 15 | U14: 20 | V14: 8 | W14: 7 | X14: 20 | Y14: 10 | Z14: 15 | AA14: 20 | AB14: 8 | AC14: 7 | AD14: 20 | AE14: 10 | AF14: 15 | AG14: 20 | AH14: 8 | AI14: 7 | AJ14: 20 | AK14: 10 | AL14: 15 | AM14: 20 | AN14: 8 | AO14: 7 | AP14: 20 | AQ14: 10 | AR14: 15 | AS14: 20 | AT14: 8 | AU14: 7 | AV14: =SUM(F14:$K14) -> 80 | AW14: =SUM(L14:Q14) -> 80 | AX14: =SUM(R14:W14) -> 80 | AY14: =SUM(X14:AC14) -> 80 | AZ14: =SUM(AD14:AI14) -> 80 | BA14: =SUM(AJ14:AO14) -> 80 | BB14: =SUM(AP14:AU14) -> 80 | BC14: {=MAX(IF(AV14:BB14>0,AV14:BB14))} -> 80 | BD14: {=MIN(IF(AV14:BB14>0,AV14:BB14))} -> 80 | BE14: =ROUND(AVERAGE((SUM(AV14:BB14)-BC14-BD14)/5),2) -> 80
... A35: 33 | B35: =$BC$1&"号面试室"&A35&"号考生" -> 5号面试室33号考生 | C35: =INDEX(#REF!,MATCH(B35,#REF!,0)) -> #REF! | D35: =INDEX(#REF!,MATCH(第5面试室!B35,#REF!,0)) -> #REF! | E35: =INDEX(#REF!,MATCH(第5面试室!B35,#REF!,0)) -> #REF! | F35: 20 | G35: 10 | H35: 15 | I35: 20 | J35: 8 | K35: 7 | L35: 20 | M35: 10 | N35: 15 | O35: 20 | P35: 8 | Q35: 7 | R35: 20 | S35: 10 | T35: 15 | U35: 20 | V35: 8 | W35: 7 | X35: 20 | Y35: 10 | Z35: 15 | AA35: 20 | AB35: 8 | AC35: 7 | AD35: 20 | AE35: 10 | AF35: 15 | AG35: 20 | AH35: 8 | AI35: 7 | AJ35: 20 | AK35: 10 | AL35: 15 | AM35: 20 | AN35: 8 | AO35: 7 | AP35: 20 | AQ35: 10 | AR35: 15 | AS35: 20 | AT35: 8 | AU35: 7 | AV35: =SUM(F35:$K35) -> 80 | AW35: =SUM(L35:Q35) -> 80 | AX35: =SUM(R35:W35) -> 80 | AY35: =SUM(X35:AC35) -> 80 | AZ35: =SUM(AD35:AI35) -> 80 | BA35: =SUM(AJ35:AO35) -> 80 | BB35: =SUM(AP35:AU35) -> 80 | BC35: {=MAX(IF(AV35:BB35>0,AV35:BB35))} -> 80 | BD35: {=MIN(IF(AV35:BB35>0,AV35:BB35))} -> 80 | BE35: =ROUND(AVERAGE((SUM(AV35:BB35)-BC35-BD35)/5),2) -> 80
A36: 34 | B36: =$BC$1&"号面试室"&A36&"号考生" -> 5号面试室34号考生 | C36: =INDEX(#REF!,MATCH(B36,#REF!,0)) -> #REF! | D36: =INDEX(#REF!,MATCH(第5面试室!B36,#REF!,0)) -> #REF! | E36: =INDEX(#REF!,MATCH(第5面试室!B36,#REF!,0)) -> #REF! | AV36: =SUM(F36:$K36) -> 0 | AW36: =SUM(L36:Q36) -> 0 | AX36: =SUM(R36:W36) -> 0 | AY36: =SUM(X36:AC36) -> 0 | AZ36: =SUM(AD36:AI36) -> 0 | BA36: =SUM(AJ36:AO36) -> 0 | BB36: =SUM(AP36:AU36) -> 0 | BC36: {=MAX(IF(AV36:BB36>0,AV36:BB36))} -> 0 | BD36: {=MIN(IF(AV36:BB36>0,AV36:BB36))} -> 0 | BE36: =ROUND(AVERAGE((SUM(AV36:BB36)-BC36-BD36)/5),2) -> 0
A37: 35 | B37: =$BC$1&"号面试室"&A37&"号考生" -> 5号面试室35号考生 | C37: =INDEX(#REF!,MATCH(B37,#REF!,0)) -> #REF! | D37: =INDEX(#REF!,MATCH(第5面试室!B37,#REF!,0)) -> #REF! | E37: =INDEX(#REF!,MATCH(第5面试室!B37,#REF!,0)) -> #REF! | AV37: =SUM(F37:$K37) -> 0 | AW37: =SUM(L37:Q37) -> 0 | AX37: =SUM(R37:W37) -> 0 | AY37: =SUM(X37:AC37) -> 0 | AZ37: =SUM(AD37:AI37) -> 0 | BA37: =SUM(AJ37:AO37) -> 0 | BB37: =SUM(AP37:AU37) -> 0 | BC37: {=MAX(IF(AV37:BB37>0,AV37:BB37))} -> 0 | BD37: {=MIN(IF(AV37:BB37>0,AV37:BB37))} -> 0 | BE37: =ROUND(AVERAGE((SUM(AV37:BB37)-BC37-BD37)/5),2) -> 0
A38: 36 | B38: =$BC$1&"号面试室"&A38&"号考生" -> 5号面试室36号考生 | C38: =INDEX(#REF!,MATCH(B38,#REF!,0)) -> #REF! | D38: =INDEX(#REF!,MATCH(第5面试室!B38,#REF!,0)) -> #REF! | E38: =INDEX(#REF!,MATCH(第5面试室!B38,#REF!,0)) -> #REF! | AV38: =SUM(F38:$K38) -> 0 | AW38: =SUM(L38:Q38) -> 0 | AX38: =SUM(R38:W38) -> 0 | AY38: =SUM(X38:AC38) -> 0 | AZ38: =SUM(AD38:AI38) -> 0 | BA38: =SUM(AJ38:AO38) -> 0 | BB38: =SUM(AP38:AU38) -> 0 | BC38: {=MAX(IF(AV38:BB38>0,AV38:BB38))} -> 0 | BD38: {=MIN(IF(AV38:BB38>0,AV38:BB38))} -> 0 | BE38: =ROUND(AVERAGE((SUM(AV38:BB38)-BC38-BD38)/5),2) -> 0
A39: 37 | B39: =$BC$1&"号面试室"&A39&"号考生" -> 5号面试室37号考生 | C39: =INDEX(#REF!,MATCH(B39,#REF!,0)) -> #REF! | D39: =INDEX(#REF!,MATCH(第5面试室!B39,#REF!,0)) -> #REF! | E39: =INDEX(#REF!,MATCH(第5面试室!B39,#REF!,0)) -> #REF! | AV39: =SUM(F39:$K39) -> 0 | AW39: =SUM(L39:Q39) -> 0 | AX39: =SUM(R39:W39) -> 0 | AY39: =SUM(X39:AC39) -> 0 | AZ39: =SUM(AD39:AI39) -> 0 | BA39: =SUM(AJ39:AO39) -> 0 | BB39: =SUM(AP39:AU39) -> 0 | BC39: {=MAX(IF(AV39:BB39>0,AV39:BB39))} -> 0 | BD39: {=MIN(IF(AV39:BB39>0,AV39:BB39))} -> 0 | BE39: =ROUND(AVERAGE((SUM(AV39:BB39)-BC39-BD39)/5),2) -> 0
A40: 38 | B40: =$BC$1&"号面试室"&A40&"号考生" -> 5号面试室38号考生 | C40: =INDEX(#REF!,MATCH(B40,#REF!,0)) -> #REF! | D40: =INDEX(#REF!,MATCH(第5面试室!B40,#REF!,0)) -> #REF! | E40: =INDEX(#REF!,MATCH(第5面试室!B40,#REF!,0)) -> #REF! | AV40: =SUM(F40:$K40) -> 0 | AW40: =SUM(L40:Q40) -> 0 | AX40: =SUM(R40:W40) -> 0 | AY40: =SUM(X40:AC40) -> 0 | AZ40: =SUM(AD40:AI40) -> 0 | BA40: =SUM(AJ40:AO40) -> 0 | BB40: =SUM(AP40:AU40) -> 0 | BC40: {=MAX(IF(AV40:BB40>0,AV40:BB40))} -> 0 | BD40: {=MIN(IF(AV40:BB40>0,AV40:BB40))} -> 0 | BE40: =ROUND(AVERAGE((SUM(AV40:BB40)-BC40-BD40)/5),2) -> 0
A41: 39 | B41: =$BC$1&"号面试室"&A41&"号考生" -> 5号面试室39号考生 | C41: =INDEX(#REF!,MATCH(B41,#REF!,0)) -> #REF! | D41: =INDEX(#REF!,MATCH(第5面试室!B41,#REF!,0)) -> #REF! | E41: =INDEX(#REF!,MATCH(第5面试室!B41,#REF!,0)) -> #REF! | AV41: =SUM(F41:$K41) -> 0 | AW41: =SUM(L41:Q41) -> 0 | AX41: =SUM(R41:W41) -> 0 | AY41: =SUM(X41:AC41) -> 0 | AZ41: =SUM(AD41:AI41) -> 0 | BA41: =SUM(AJ41:AO41) -> 0 | BB41: =SUM(AP41:AU41) -> 0 | BC41: {=MAX(IF(AV41:BB41>0,AV41:BB41))} -> 0 | BD41: {=MIN(IF(AV41:BB41>0,AV41:BB41))} -> 0 | BE41: =ROUND(AVERAGE((SUM(AV41:BB41)-BC41-BD41)/5),2) -> 0
A42: 40 | B42: =$BC$1&"号面试室"&A42&"号考生" -> 5号面试室40号考生 | C42: =INDEX(#REF!,MATCH(B42,#REF!,0)) -> #REF! | D42: =INDEX(#REF!,MATCH(第5面试室!B42,#REF!,0)) -> #REF! | E42: =INDEX(#REF!,MATCH(第5面试室!B42,#REF!,0)) -> #REF! | AV42: =SUM(F42:$K42) -> 0 | AW42: =SUM(L42:Q42) -> 0 | AX42: =SUM(R42:W42) -> 0 | AY42: =SUM(X42:AC42) -> 0 | AZ42: =SUM(AD42:AI42) -> 0 | BA42: =SUM(AJ42:AO42) -> 0 | BB42: =SUM(AP42:AU42) -> 0 | BC42: {=MAX(IF(AV42:BB42>0,AV42:BB42))} -> 0 | BD42: {=MIN(IF(AV42:BB42>0,AV42:BB42))} -> 0 | BE42: =ROUND(AVERAGE((SUM(AV42:BB42)-BC42-BD42)/5),2) -> 0
A43: 41 | B43: =$BC$1&"号面试室"&A43&"号考生" -> 5号面试室41号考生 | C43: =INDEX(#REF!,MATCH(B43,#REF!,0)) -> #REF! | D43: =INDEX(#REF!,MATCH(第5面试室!B43,#REF!,0)) -> #REF! | E43: =INDEX(#REF!,MATCH(第5面试室!B43,#REF!,0)) -> #REF! | AV43: =SUM(F43:$K43) -> 0 | AW43: =SUM(L43:Q43) -> 0 | AX43: =SUM(R43:W43) -> 0 | AY43: =SUM(X43:AC43) -> 0 | AZ43: =SUM(AD43:AI43) -> 0 | BA43: =SUM(AJ43:AO43) -> 0 | BB43: =SUM(AP43:AU43) -> 0 | BC43: {=MAX(IF(AV43:BB43>0,AV43:BB43))} -> 0 | BD43: {=MIN(IF(AV43:BB43>0,AV43:BB43))} -> 0 | BE43: =ROUND(AVERAGE((SUM(AV43:BB43)-BC43-BD43)/5),2) -> 0
A44: 42 | B44: =$BC$1&"号面试室"&A44&"号考生" -> 5号面试室42号考生 | C44: =INDEX(#REF!,MATCH(B44,#REF!,0)) -> #REF! | D44: =INDEX(#REF!,MATCH(第5面试室!B44,#REF!,0)) -> #REF! | E44: =INDEX(#REF!,MATCH(第5面试室!B44,#REF!,0)) -> #REF! | AV44: =SUM(F44:$K44) -> 0 | AW44: =SUM(L44:Q44) -> 0 | AX44: =SUM(R44:W44) -> 0 | AY44: =SUM(X44:AC44) -> 0 | AZ44: =SUM(AD44:AI44) -> 0 | BA44: =SUM(AJ44:AO44) -> 0 | BB44: =SUM(AP44:AU44) -> 0 | BC44: {=MAX(IF(AV44:BB44>0,AV44:BB44))} -> 0 | BD44: {=MIN(IF(AV44:BB44>0,AV44:BB44))} -> 0 | BE44: =ROUND(AVERAGE((SUM(AV44:BB44)-BC44-BD44)/5),2) -> 0
A45: 43 | B45: =$BC$1&"号面试室"&A45&"号考生" -> 5号面试室43号考生 | C45: =INDEX(#REF!,MATCH(B45,#REF!,0)) -> #REF! | D45: =INDEX(#REF!,MATCH(第5面试室!B45,#REF!,0)) -> #REF! | E45: =INDEX(#REF!,MATCH(第5面试室!B45,#REF!,0)) -> #REF! | AV45: =SUM(F45:$K45) -> 0 | AW45: =SUM(L45:Q45) -> 0 | AX45: =SUM(R45:W45) -> 0 | AY45: =SUM(X45:AC45) -> 0 | AZ45: =SUM(AD45:AI45) -> 0 | BA45: =SUM(AJ45:AO45) -> 0 | BB45: =SUM(AP45:AU45) -> 0 | BC45: {=MAX(IF(AV45:BB45>0,AV45:BB45))} -> 0 | BD45: {=MIN(IF(AV45:BB45>0,AV45:BB45))} -> 0 | BE45: =ROUND(AVERAGE((SUM(AV45:BB45)-BC45-BD45)/5),2) -> 0
A46: 44 | B46: =$BC$1&"号面试室"&A46&"号考生" -> 5号面试室44号考生 | C46: =INDEX(#REF!,MATCH(B46,#REF!,0)) -> #REF! | D46: =INDEX(#REF!,MATCH(第5面试室!B46,#REF!,0)) -> #REF! | E46: =INDEX(#REF!,MATCH(第5面试室!B46,#REF!,0)) -> #REF! | AV46: =SUM(F46:$K46) -> 0 | AW46: =SUM(L46:Q46) -> 0 | AX46: =SUM(R46:W46) -> 0 | AY46: =SUM(X46:AC46) -> 0 | AZ46: =SUM(AD46:AI46) -> 0 | BA46: =SUM(AJ46:AO46) -> 0 | BB46: =SUM(AP46:AU46) -> 0 | BC46: {=MAX(IF(AV46:BB46>0,AV46:BB46))} -> 0 | BD46: {=MIN(IF(AV46:BB46>0,AV46:BB46))} -> 0 | BE46: =ROUND(AVERAGE((SUM(AV46:BB46)-BC46-BD46)/5),2) -> 0
A47: 45 | B47: =$BC$1&"号面试室"&A47&"号考生" -> 5号面试室45号考生 | C47: =INDEX(#REF!,MATCH(B47,#REF!,0)) -> #REF! | D47: =INDEX(#REF!,MATCH(第5面试室!B47,#REF!,0)) -> #REF! | E47: =INDEX(#REF!,MATCH(第5面试室!B47,#REF!,0)) -> #REF! | AV47: =SUM(F47:$K47) -> 0 | AW47: =SUM(L47:Q47) -> 0 | AX47: =SUM(R47:W47) -> 0 | AY47: =SUM(X47:AC47) -> 0 | AZ47: =SUM(AD47:AI47) -> 0 | BA47: =SUM(AJ47:AO47) -> 0 | BB47: =SUM(AP47:AU47) -> 0 | BC47: {=MAX(IF(AV47:BB47>0,AV47:BB47))} -> 0 | BD47: {=MIN(IF(AV47:BB47>0,AV47:BB47))} -> 0 | BE47: =ROUND(AVERAGE((SUM(AV47:BB47)-BC47-BD47)/5),2) -> 0
... A57: 55 | B57: =$BC$1&"号面试室"&A57&"号考生" -> 5号面试室55号考生 | C57: =INDEX(#REF!,MATCH(B57,#REF!,0)) -> #REF! | D57: =INDEX(#REF!,MATCH(第5面试室!B57,#REF!,0)) -> #REF! | E57: =INDEX(#REF!,MATCH(第5面试室!B57,#REF!,0)) -> #REF! | AV57: =SUM(F57:$K57) -> 0 | AW57: =SUM(L57:Q57) -> 0 | AX57: =SUM(R57:W57) -> 0 | AY57: =SUM(X57:AC57) -> 0 | AZ57: =SUM(AD57:AI57) -> 0 | BA57: =SUM(AJ57:AO57) -> 0 | BB57: =SUM(AP57:AU57) -> 0 | BC57: {=MAX(IF(AV57:BB57>0,AV57:BB57))} -> 0 | BD57: {=MIN(IF(AV57:BB57>0,AV57:BB57))} -> 0 | BE57: =ROUND(AVERAGE((SUM(AV57:BB57)-BC57-BD57)/5),2) -> 0

Sheet 第6面试室
B1: =#REF! -> #REF! | AV1: 面试室序号： | BC1: 6
A2: 序号 | B2: 辅助列 | C2: 姓名 | D2: 考试号 | E2: 准考证号 | F2: 一号面试官评分 | L2: 二号面试官评分 | R2: 三号面试官评分 | X2: 四号面试官评分 | AD2: 五号面试官评分 | AJ2: 六号面试官评分 | AP2: 七号面试官评分 | AV2: 1 | AW2: 2 | AX2: 3 | AY2: 4 | AZ2: 5 | BA2: 6 | BB2: 7 | BC2: 最高分 | BD2: 最低分 | BE2: 最终评分
A3: 1 | B3: =$BC$1&"号面试室"&A3&"号考生" -> 6号面试室1号考生 | C3: =INDEX(#REF!,MATCH(B3,#REF!,0)) -> #REF! | D3: =INDEX(#REF!,MATCH(B3,#REF!,0)) -> #REF! | E3: =INDEX(#REF!,MATCH(B3,#REF!,0)) -> #REF! | F3: 20 | G3: 10 | H3: 15 | I3: 20 | J3: 8 | K3: 7 | L3: 20 | M3: 10 | N3: 15 | O3: 20 | P3: 8 | Q3: 7 | R3: 20 | S3: 10 | T3: 15 | U3: 20 | V3: 8 | W3: 7 | X3: 20 | Y3: 10 | Z3: 15 | AA3: 20 | AB3: 8 | AC3: 7 | AD3: 20 | AE3: 10 | AF3: 15 | AG3: 20 | AH3: 8 | AI3: 7 | AJ3: 20 | AK3: 10 | AL3: 15 | AM3: 20 | AN3: 8 | AO3: 7 | AP3: 20 | AQ3: 10 | AR3: 15 | AS3: 20 | AT3: 8 | AU3: 7 | AV3: =SUM(F3:$K3) -> 80 | AW3: =SUM(L3:Q3) -> 80 | AX3: =SUM(R3:W3) -> 80 | AY3: =SUM(X3:AC3) -> 80 | AZ3: =SUM(AD3:AI3) -> 80 | BA3: =SUM(AJ3:AO3) -> 80 | BB3: =SUM(AP3:AU3) -> 80 | BC3: {=MAX(IF(AV3:BB3>0,AV3:BB3))} -> 80 | BD3: {=MIN(IF(AV3:BB3>0,AV3:BB3))} -> 80 | BE3: =ROUND(AVERAGE((SUM(AV3:BB3)-BC3-BD3)/5),2) -> 80
A4: 2 | B4: =$BC$1&"号面试室"&A4&"号考生" -> 6号面试室2号考生 | C4: =INDEX(#REF!,MATCH(B4,#REF!,0)) -> #REF! | D4: =INDEX(#REF!,MATCH(B4,#REF!,0)) -> #REF! | E4: =INDEX(#REF!,MATCH(B4,#REF!,0)) -> #REF! | F4: 20 | G4: 10 | H4: 15 | I4: 20 | J4: 8 | K4: 7 | L4: 20 | M4: 10 | N4: 15 | O4: 20 | P4: 8 | Q4: 7 | R4: 20 | S4: 10 | T4: 15 | U4: 20 | V4: 8 | W4: 7 | X4: 20 | Y4: 10 | Z4: 15 | AA4: 20 | AB4: 8 | AC4: 7 | AD4: 20 | AE4: 10 | AF4: 15 | AG4: 20 | AH4: 8 | AI4: 7 | AJ4: 20 | AK4: 10 | AL4: 15 | AM4: 20 | AN4: 8 | AO4: 7 | AP4: 20 | AQ4: 10 | AR4: 15 | AS4: 20 | AT4: 8 | AU4: 7 | AV4: =SUM(F4:$K4) -> 80 | AW4: =SUM(L4:Q4) -> 80 | AX4: =SUM(R4:W4) -> 80 | AY4: =SUM(X4:AC4) -> 80 | AZ4: =SUM(AD4:AI4) -> 80 | BA4: =SUM(AJ4:AO4) -> 80 | BB4: =SUM(AP4:AU4) -> 80 | BC4: {=MAX(IF(AV4:BB4>0,AV4:BB4))} -> 80 | BD4: {=MIN(IF(AV4:BB4>0,AV4:BB4))} -> 80 | BE4: =ROUND(AVERAGE((SUM(AV4:BB4)-BC4-BD4)/5),2) -> 80
A5: 3 | B5: =$BC$1&"号面试室"&A5&"号考生" -> 6号面试室3号考生 | C5: =INDEX(#REF!,MATCH(B5,#REF!,0)) -> #REF! | D5: =INDEX(#REF!,MATCH(B5,#REF!,0)) -> #REF! | E5: =INDEX(#REF!,MATCH(B5,#REF!,0)) -> #REF! | F5: 20 | G5: 10 | H5: 15 | I5: 20 | J5: 8 | K5: 7 | L5: 20 | M5: 10 | N5: 15 | O5: 20 | P5: 8 | Q5: 7 | R5: 20 | S5: 10 | T5: 15 | U5: 20 | V5: 8 | W5: 7 | X5: 20 | Y5: 10 | Z5: 15 | AA5: 20 | AB5: 8 | AC5: 7 | AD5: 20 | AE5: 10 | AF5: 15 | AG5: 20 | AH5: 8 | AI5: 7 | AJ5: 20 | AK5: 10 | AL5: 15 | AM5: 20 | AN5: 8 | AO5: 7 | AP5: 20 | AQ5: 10 | AR5: 15 | AS5: 20 | AT5: 8 | AU5: 7 | AV5: =SUM(F5:$K5) -> 80 | AW5: =SUM(L5:Q5) -> 80 | AX5: =SUM(R5:W5) -> 80 | AY5: =SUM(X5:AC5) -> 80 | AZ5: =SUM(AD5:AI5) -> 80 | BA5: =SUM(AJ5:AO5) -> 80 | BB5: =SUM(AP5:AU5) -> 80 | BC5: {=MAX(IF(AV5:BB5>0,AV5:BB5))} -> 80 | BD5: {=MIN(IF(AV5:BB5>0,AV5:BB5))} -> 80 | BE5: =ROUND(AVERAGE((SUM(AV5:BB5)-BC5-BD5)/5),2) -> 80
A6: 4 | B6: =$BC$1&"号面试室"&A6&"号考生" -> 6号面试室4号考生 | C6: =INDEX(#REF!,MATCH(B6,#REF!,0)) -> #REF! | D6: =INDEX(#REF!,MATCH(B6,#REF!,0)) -> #REF! | E6: =INDEX(#REF!,MATCH(B6,#REF!,0)) -> #REF! | F6: 20 | G6: 10 | H6: 15 | I6: 20 | J6: 8 | K6: 7 | L6: 20 | M6: 10 | N6: 15 | O6: 20 | P6: 8 | Q6: 7 | R6: 20 | S6: 10 | T6: 15 | U6: 20 | V6: 8 | W6: 7 | X6: 20 | Y6: 10 | Z6: 15 | AA6: 20 | AB6: 8 | AC6: 7 | AD6: 20 | AE6: 10 | AF6: 15 | AG6: 20 | AH6: 8 | AI6: 7 | AJ6: 20 | AK6: 10 | AL6: 15 | AM6: 20 | AN6: 8 | AO6: 7 | AP6: 20 | AQ6: 10 | AR6: 15 | AS6: 20 | AT6: 8 | AU6: 7 | AV6: =SUM(F6:$K6) -> 80 | AW6: =SUM(L6:Q6) -> 80 | AX6: =SUM(R6:W6) -> 80 | AY6: =SUM(X6:AC6) -> 80 | AZ6: =SUM(AD6:AI6) -> 80 | BA6: =SUM(AJ6:AO6) -> 80 | BB6: =SUM(AP6:AU6) -> 80 | BC6: {=MAX(IF(AV6:BB6>0,AV6:BB6))} -> 80 | BD6: {=MIN(IF(AV6:BB6>0,AV6:BB6))} -> 80 | BE6: =ROUND(AVERAGE((SUM(AV6:BB6)-BC6-BD6)/5),2) -> 80
A7: 5 | B7: =$BC$1&"号面试室"&A7&"号考生" -> 6号面试室5号考生 | C7: =INDEX(#REF!,MATCH(B7,#REF!,0)) -> #REF! | D7: =INDEX(#REF!,MATCH(B7,#REF!,0)) -> #REF! | E7: =INDEX(#REF!,MATCH(B7,#REF!,0)) -> #REF! | F7: 20 | G7: 10 | H7: 15 | I7: 20 | J7: 8 | K7: 7 | L7: 20 | M7: 10 | N7: 15 | O7: 20 | P7: 8 | Q7: 7 | R7: 20 | S7: 10 | T7: 15 | U7: 20 | V7: 8 | W7: 7 | X7: 20 | Y7: 10 | Z7: 15 | AA7: 20 | AB7: 8 | AC7: 7 | AD7: 20 | AE7: 10 | AF7: 15 | AG7: 20 | AH7: 8 | AI7: 7 | AJ7: 20 | AK7: 10 | AL7: 15 | AM7: 20 | AN7: 8 | AO7: 7 | AP7: 20 | AQ7: 10 | AR7: 15 | AS7: 20 | AT7: 8 | AU7: 7 | AV7: =SUM(F7:$K7) -> 80 | AW7: =SUM(L7:Q7) -> 80 | AX7: =SUM(R7:W7) -> 80 | AY7: =SUM(X7:AC7) -> 80 | AZ7: =SUM(AD7:AI7) -> 80 | BA7: =SUM(AJ7:AO7) -> 80 | BB7: =SUM(AP7:AU7) -> 80 | BC7: {=MAX(IF(AV7:BB7>0,AV7:BB7))} -> 80 | BD7: {=MIN(IF(AV7:BB7>0,AV7:BB7))} -> 80 | BE7: =ROUND(AVERAGE((SUM(AV7:BB7)-BC7-BD7)/5),2) -> 80
A8: 6 | B8: =$BC$1&"号面试室"&A8&"号考生" -> 6号面试室6号考生 | C8: =INDEX(#REF!,MATCH(B8,#REF!,0)) -> #REF! | D8: =INDEX(#REF!,MATCH(B8,#REF!,0)) -> #REF! | E8: =INDEX(#REF!,MATCH(B8,#REF!,0)) -> #REF! | F8: 20 | G8: 10 | H8: 15 | I8: 20 | J8: 8 | K8: 7 | L8: 20 | M8: 10 | N8: 15 | O8: 20 | P8: 8 | Q8: 7 | R8: 20 | S8: 10 | T8: 15 | U8: 20 | V8: 8 | W8: 7 | X8: 20 | Y8: 10 | Z8: 15 | AA8: 20 | AB8: 8 | AC8: 7 | AD8: 20 | AE8: 10 | AF8: 15 | AG8: 20 | AH8: 8 | AI8: 7 | AJ8: 20 | AK8: 10 | AL8: 15 | AM8: 20 | AN8: 8 | AO8: 7 | AP8: 20 | AQ8: 10 | AR8: 15 | AS8: 20 | AT8: 8 | AU8: 7 | AV8: =SUM(F8:$K8) -> 80 | AW8: =SUM(L8:Q8) -> 80 | AX8: =SUM(R8:W8) -> 80 | AY8: =SUM(X8:AC8) -> 80 | AZ8: =SUM(AD8:AI8) -> 80 | BA8: =SUM(AJ8:AO8) -> 80 | BB8: =SUM(AP8:AU8) -> 80 | BC8: {=MAX(IF(AV8:BB8>0,AV8:BB8))} -> 80 | BD8: {=MIN(IF(AV8:BB8>0,AV8:BB8))} -> 80 | BE8: =ROUND(AVERAGE((SUM(AV8:BB8)-BC8-BD8)/5),2) -> 80
A9: 7 | B9: =$BC$1&"号面试室"&A9&"号考生" -> 6号面试室7号考生 | C9: =INDEX(#REF!,MATCH(B9,#REF!,0)) -> #REF! | D9: =INDEX(#REF!,MATCH(B9,#REF!,0)) -> #REF! | E9: =INDEX(#REF!,MATCH(B9,#REF!,0)) -> #REF! | F9: 20 | G9: 10 | H9: 15 | I9: 20 | J9: 8 | K9: 7 | L9: 20 | M9: 10 | N9: 15 | O9: 20 | P9: 8 | Q9: 7 | R9: 20 | S9: 10 | T9: 15 | U9: 20 | V9: 8 | W9: 7 | X9: 20 | Y9: 10 | Z9: 15 | AA9: 20 | AB9: 8 | AC9: 7 | AD9: 20 | AE9: 10 | AF9: 15 | AG9: 20 | AH9: 8 | AI9: 7 | AJ9: 20 | AK9: 10 | AL9: 15 | AM9: 20 | AN9: 8 | AO9: 7 | AP9: 20 | AQ9: 10 | AR9: 15 | AS9: 20 | AT9: 8 | AU9: 7 | AV9: =SUM(F9:$K9) -> 80 | AW9: =SUM(L9:Q9) -> 80 | AX9: =SUM(R9:W9) -> 80 | AY9: =SUM(X9:AC9) -> 80 | AZ9: =SUM(AD9:AI9) -> 80 | BA9: =SUM(AJ9:AO9) -> 80 | BB9: =SUM(AP9:AU9) -> 80 | BC9: {=MAX(IF(AV9:BB9>0,AV9:BB9))} -> 80 | BD9: {=MIN(IF(AV9:BB9>0,AV9:BB9))} -> 80 | BE9: =ROUND(AVERAGE((SUM(AV9:BB9)-BC9-BD9)/5),2) -> 80
A10: 8 | B10: =$BC$1&"号面试室"&A10&"号考生" -> 6号面试室8号考生 | C10: =INDEX(#REF!,MATCH(B10,#REF!,0)) -> #REF! | D10: =INDEX(#REF!,MATCH(B10,#REF!,0)) -> #REF! | E10: =INDEX(#REF!,MATCH(B10,#REF!,0)) -> #REF! | F10: 20 | G10: 10 | H10: 15 | I10: 20 | J10: 8 | K10: 7 | L10: 20 | M10: 10 | N10: 15 | O10: 20 | P10: 8 | Q10: 7 | R10: 20 | S10: 10 | T10: 15 | U10: 20 | V10: 8 | W10: 7 | X10: 20 | Y10: 10 | Z10: 15 | AA10: 20 | AB10: 8 | AC10: 7 | AD10: 20 | AE10: 10 | AF10: 15 | AG10: 20 | AH10: 8 | AI10: 7 | AJ10: 20 | AK10: 10 | AL10: 15 | AM10: 20 | AN10: 8 | AO10: 7 | AP10: 20 | AQ10: 10 | AR10: 15 | AS10: 20 | AT10: 8 | AU10: 7 | AV10: =SUM(F10:$K10) -> 80 | AW10: =SUM(L10:Q10) -> 80 | AX10: =SUM(R10:W10) -> 80 | AY10: =SUM(X10:AC10) -> 80 | AZ10: =SUM(AD10:AI10) -> 80 | BA10: =SUM(AJ10:AO10) -> 80 | BB10: =SUM(AP10:AU10) -> 80 | BC10: {=MAX(IF(AV10:BB10>0,AV10:BB10))} -> 80 | BD10: {=MIN(IF(AV10:BB10>0,AV10:BB10))} -> 80 | BE10: =ROUND(AVERAGE((SUM(AV10:BB10)-BC10-BD10)/5),2) -> 80
A11: 9 | B11: =$BC$1&"号面试室"&A11&"号考生" -> 6号面试室9号考生 | C11: =INDEX(#REF!,MATCH(B11,#REF!,0)) -> #REF! | D11: =INDEX(#REF!,MATCH(B11,#REF!,0)) -> #REF! | E11: =INDEX(#REF!,MATCH(B11,#REF!,0)) -> #REF! | F11: 20 | G11: 10 | H11: 15 | I11: 20 | J11: 8 | K11: 7 | L11: 20 | M11: 10 | N11: 15 | O11: 20 | P11: 8 | Q11: 7 | R11: 20 | S11: 10 | T11: 15 | U11: 20 | V11: 8 | W11: 7 | X11: 20 | Y11: 10 | Z11: 15 | AA11: 20 | AB11: 8 | AC11: 7 | AD11: 20 | AE11: 10 | AF11: 15 | AG11: 20 | AH11: 8 | AI11: 7 | AJ11: 20 | AK11: 10 | AL11: 15 | AM11: 20 | AN11: 8 | AO11: 7 | AP11: 20 | AQ11: 10 | AR11: 15 | AS11: 20 | AT11: 8 | AU11: 7 | AV11: =SUM(F11:$K11) -> 80 | AW11: =SUM(L11:Q11) -> 80 | AX11: =SUM(R11:W11) -> 80 | AY11: =SUM(X11:AC11) -> 80 | AZ11: =SUM(AD11:AI11) -> 80 | BA11: =SUM(AJ11:AO11) -> 80 | BB11: =SUM(AP11:AU11) -> 80 | BC11: {=MAX(IF(AV11:BB11>0,AV11:BB11))} -> 80 | BD11: {=MIN(IF(AV11:BB11>0,AV11:BB11))} -> 80 | BE11: =ROUND(AVERAGE((SUM(AV11:BB11)-BC11-BD11)/5),2) -> 80
A12: 10 | B12: =$BC$1&"号面试室"&A12&"号考生" -> 6号面试室10号考生 | C12: =INDEX(#REF!,MATCH(B12,#REF!,0)) -> #REF! | D12: =INDEX(#REF!,MATCH(B12,#REF!,0)) -> #REF! | E12: =INDEX(#REF!,MATCH(B12,#REF!,0)) -> #REF! | F12: 20 | G12: 10 | H12: 15 | I12: 20 | J12: 8 | K12: 7 | L12: 20 | M12: 10 | N12: 15 | O12: 20 | P12: 8 | Q12: 7 | R12: 20 | S12: 10 | T12: 15 | U12: 20 | V12: 8 | W12: 7 | X12: 20 | Y12: 10 | Z12: 15 | AA12: 20 | AB12: 8 | AC12: 7 | AD12: 20 | AE12: 10 | AF12: 15 | AG12: 20 | AH12: 8 | AI12: 7 | AJ12: 20 | AK12: 10 | AL12: 15 | AM12: 20 | AN12: 8 | AO12: 7 | AP12: 20 | AQ12: 10 | AR12: 15 | AS12: 20 | AT12: 8 | AU12: 7 | AV12: =SUM(F12:$K12) -> 80 | AW12: =SUM(L12:Q12) -> 80 | AX12: =SUM(R12:W12) -> 80 | AY12: =SUM(X12:AC12) -> 80 | AZ12: =SUM(AD12:AI12) -> 80 | BA12: =SUM(AJ12:AO12) -> 80 | BB12: =SUM(AP12:AU12) -> 80 | BC12: {=MAX(IF(AV12:BB12>0,AV12:BB12))} -> 80 | BD12: {=MIN(IF(AV12:BB12>0,AV12:BB12))} -> 80 | BE12: =ROUND(AVERAGE((SUM(AV12:BB12)-BC12-BD12)/5),2) -> 80
A13: 11 | B13: =$BC$1&"号面试室"&A13&"号考生" -> 6号面试室11号考生 | C13: =INDEX(#REF!,MATCH(B13,#REF!,0)) -> #REF! | D13: =INDEX(#REF!,MATCH(B13,#REF!,0)) -> #REF! | E13: =INDEX(#REF!,MATCH(B13,#REF!,0)) -> #REF! | F13: 20 | G13: 10 | H13: 15 | I13: 20 | J13: 8 | K13: 7 | L13: 20 | M13: 10 | N13: 15 | O13: 20 | P13: 8 | Q13: 7 | R13: 20 | S13: 10 | T13: 15 | U13: 20 | V13: 8 | W13: 7 | X13: 20 | Y13: 10 | Z13: 15 | AA13: 20 | AB13: 8 | AC13: 7 | AD13: 20 | AE13: 10 | AF13: 15 | AG13: 20 | AH13: 8 | AI13: 7 | AJ13: 20 | AK13: 10 | AL13: 15 | AM13: 20 | AN13: 8 | AO13: 7 | AP13: 20 | AQ13: 10 | AR13: 15 | AS13: 20 | AT13: 8 | AU13: 7 | AV13: =SUM(F13:$K13) -> 80 | AW13: =SUM(L13:Q13) -> 80 | AX13: =SUM(R13:W13) -> 80 | AY13: =SUM(X13:AC13) -> 80 | AZ13: =SUM(AD13:AI13) -> 80 | BA13: =SUM(AJ13:AO13) -> 80 | BB13: =SUM(AP13:AU13) -> 80 | BC13: {=MAX(IF(AV13:BB13>0,AV13:BB13))} -> 80 | BD13: {=MIN(IF(AV13:BB13>0,AV13:BB13))} -> 80 | BE13: =ROUND(AVERAGE((SUM(AV13:BB13)-BC13-BD13)/5),2) -> 80
A14: 12 | B14: =$BC$1&"号面试室"&A14&"号考生" -> 6号面试室12号考生 | C14: =INDEX(#REF!,MATCH(B14,#REF!,0)) -> #REF! | D14: =INDEX(#REF!,MATCH(B14,#REF!,0)) -> #REF! | E14: =INDEX(#REF!,MATCH(B14,#REF!,0)) -> #REF! | F14: 20 | G14: 10 | H14: 15 | I14: 20 | J14: 8 | K14: 7 | L14: 20 | M14: 10 | N14: 15 | O14: 20 | P14: 8 | Q14: 7 | R14: 20 | S14: 10 | T14: 15 | U14: 20 | V14: 8 | W14: 7 | X14: 20 | Y14: 10 | Z14: 15 | AA14: 20 | AB14: 8 | AC14: 7 | AD14: 20 | AE14: 10 | AF14: 15 | AG14: 20 | AH14: 8 | AI14: 7 | AJ14: 20 | AK14: 10 | AL14: 15 | AM14: 20 | AN14: 8 | AO14: 7 | AP14: 20 | AQ14: 10 | AR14: 15 | AS14: 20 | AT14: 8 | AU14: 7 | AV14: =SUM(F14:$K14) -> 80 | AW14: =SUM(L14:Q14) -> 80 | AX14: =SUM(R14:W14) -> 80 | AY14: =SUM(X14:AC14) -> 80 | AZ14: =SUM(AD14:AI14) -> 80 | BA14: =SUM(AJ14:AO14) -> 80 | BB14: =SUM(AP14:AU14) -> 80 | BC14: {=MAX(IF(AV14:BB14>0,AV14:BB14))} -> 80 | BD14: {=MIN(IF(AV14:BB14>0,AV14:BB14))} -> 80 | BE14: =ROUND(AVERAGE((SUM(AV14:BB14)-BC14-BD14)/5),2) -> 80
... A33: 31 | B33: =$BC$1&"号面试室"&A33&"号考生" -> 6号面试室31号考生 | C33: =INDEX(#REF!,MATCH(B33,#REF!,0)) -> #REF! | D33: =INDEX(#REF!,MATCH(B33,#REF!,0)) -> #REF! | E33: =INDEX(#REF!,MATCH(B33,#REF!,0)) -> #REF! | F33: 20 | G33: 10 | H33: 15 | I33: 20 | J33: 8 | K33: 7 | L33: 20 | M33: 10 | N33: 15 | O33: 20 | P33: 8 | Q33: 7 | R33: 20 | S33: 10 | T33: 15 | U33: 20 | V33: 8 | W33: 7 | X33: 20 | Y33: 10 | Z33: 15 | AA33: 20 | AB33: 8 | AC33: 7 | AD33: 20 | AE33: 10 | AF33: 15 | AG33: 20 | AH33: 8 | AI33: 7 | AJ33: 20 | AK33: 10 | AL33: 15 | AM33: 20 | AN33: 8 | AO33: 7 | AP33: 20 | AQ33: 10 | AR33: 15 | AS33: 20 | AT33: 8 | AU33: 7 | AV33: =SUM(F33:$K33) -> 80 | AW33: =SUM(L33:Q33) -> 80 | AX33: =SUM(R33:W33) -> 80 | AY33: =SUM(X33:AC33) -> 80 | AZ33: =SUM(AD33:AI33) -> 80 | BA33: =SUM(AJ33:AO33) -> 80 | BB33: =SUM(AP33:AU33) -> 80 | BC33: {=MAX(IF(AV33:BB33>0,AV33:BB33))} -> 80 | BD33: {=MIN(IF(AV33:BB33>0,AV33:BB33))} -> 80 | BE33: =ROUND(AVERAGE((SUM(AV33:BB33)-BC33-BD33)/5),2) -> 80
A34: 32 | B34: =$BC$1&"号面试室"&A34&"号考生" -> 6号面试室32号考生 | C34: =INDEX(#REF!,MATCH(B34,#REF!,0)) -> #REF! | D34: =INDEX(#REF!,MATCH(B34,#REF!,0)) -> #REF! | E34: =INDEX(#REF!,MATCH(B34,#REF!,0)) -> #REF! | AV34: =SUM(F34:$K34) -> 0 | AW34: =SUM(L34:Q34) -> 0 | AX34: =SUM(R34:W34) -> 0 | AY34: =SUM(X34:AC34) -> 0 | AZ34: =SUM(AD34:AI34) -> 0 | BA34: =SUM(AJ34:AO34) -> 0 | BB34: =SUM(AP34:AU34) -> 0 | BC34: {=MAX(IF(AV34:BB34>0,AV34:BB34))} -> 0 | BD34: {=MIN(IF(AV34:BB34>0,AV34:BB34))} -> 0 | BE34: =ROUND(AVERAGE((SUM(AV34:BB34)-BC34-BD34)/5),2) -> 0
A35: 33 | B35: =$BC$1&"号面试室"&A35&"号考生" -> 6号面试室33号考生 | C35: =INDEX(#REF!,MATCH(B35,#REF!,0)) -> #REF! | D35: =INDEX(#REF!,MATCH(B35,#REF!,0)) -> #REF! | E35: =INDEX(#REF!,MATCH(B35,#REF!,0)) -> #REF! | AV35: =SUM(F35:$K35) -> 0 | AW35: =SUM(L35:Q35) -> 0 | AX35: =SUM(R35:W35) -> 0 | AY35: =SUM(X35:AC35) -> 0 | AZ35: =SUM(AD35:AI35) -> 0 | BA35: =SUM(AJ35:AO35) -> 0 | BB35: =SUM(AP35:AU35) -> 0 | BC35: {=MAX(IF(AV35:BB35>0,AV35:BB35))} -> 0 | BD35: {=MIN(IF(AV35:BB35>0,AV35:BB35))} -> 0 | BE35: =ROUND(AVERAGE((SUM(AV35:BB35)-BC35-BD35)/5),2) -> 0
A36: 34 | B36: =$BC$1&"号面试室"&A36&"号考生" -> 6号面试室34号考生 | C36: =INDEX(#REF!,MATCH(B36,#REF!,0)) -> #REF! | D36: =INDEX(#REF!,MATCH(B36,#REF!,0)) -> #REF! | E36: =INDEX(#REF!,MATCH(B36,#REF!,0)) -> #REF! | AV36: =SUM(F36:$K36) -> 0 | AW36: =SUM(L36:Q36) -> 0 | AX36: =SUM(R36:W36) -> 0 | AY36: =SUM(X36:AC36) -> 0 | AZ36: =SUM(AD36:AI36) -> 0 | BA36: =SUM(AJ36:AO36) -> 0 | BB36: =SUM(AP36:AU36) -> 0 | BC36: {=MAX(IF(AV36:BB36>0,AV36:BB36))} -> 0 | BD36: {=MIN(IF(AV36:BB36>0,AV36:BB36))} -> 0 | BE36: =ROUND(AVERAGE((SUM(AV36:BB36)-BC36-BD36)/5),2) -> 0
A37: 35 | B37: =$BC$1&"号面试室"&A37&"号考生" -> 6号面试室35号考生 | C37: =INDEX(#REF!,MATCH(B37,#REF!,0)) -> #REF! | D37: =INDEX(#REF!,MATCH(B37,#REF!,0)) -> #REF! | E37: =INDEX(#REF!,MATCH(B37,#REF!,0)) -> #REF! | AV37: =SUM(F37:$K37) -> 0 | AW37: =SUM(L37:Q37) -> 0 | AX37: =SUM(R37:W37) -> 0 | AY37: =SUM(X37:AC37) -> 0 | AZ37: =SUM(AD37:AI37) -> 0 | BA37: =SUM(AJ37:AO37) -> 0 | BB37: =SUM(AP37:AU37) -> 0 | BC37: {=MAX(IF(AV37:BB37>0,AV37:BB37))} -> 0 | BD37: {=MIN(IF(AV37:BB37>0,AV37:BB37))} -> 0 | BE37: =ROUND(AVERAGE((SUM(AV37:BB37)-BC37-BD37)/5),2) -> 0
A38: 36 | B38: =$BC$1&"号面试室"&A38&"号考生" -> 6号面试室36号考生 | C38: =INDEX(#REF!,MATCH(B38,#REF!,0)) -> #REF! | D38: =INDEX(#REF!,MATCH(B38,#REF!,0)) -> #REF! | E38: =INDEX(#REF!,MATCH(B38,#REF!,0)) -> #REF! | AV38: =SUM(F38:$K38) -> 0 | AW38: =SUM(L38:Q38) -> 0 | AX38: =SUM(R38:W38) -> 0 | AY38: =SUM(X38:AC38) -> 0 | AZ38: =SUM(AD38:AI38) -> 0 | BA38: =SUM(AJ38:AO38) -> 0 | BB38: =SUM(AP38:AU38) -> 0 | BC38: {=MAX(IF(AV38:BB38>0,AV38:BB38))} -> 0 | BD38: {=MIN(IF(AV38:BB38>0,AV38:BB38))} -> 0 | BE38: =ROUND(AVERAGE((SUM(AV38:BB38)-BC38-BD38)/5),2) -> 0
A39: 37 | B39: =$BC$1&"号面试室"&A39&"号考生" -> 6号面试室37号考生 | C39: =INDEX(#REF!,MATCH(B39,#REF!,0)) -> #REF! | D39: =INDEX(#REF!,MATCH(B39,#REF!,0)) -> #REF! | E39: =INDEX(#REF!,MATCH(B39,#REF!,0)) -> #REF! | AV39: =SUM(F39:$K39) -> 0 | AW39: =SUM(L39:Q39) -> 0 | AX39: =SUM(R39:W39) -> 0 | AY39: =SUM(X39:AC39) -> 0 | AZ39: =SUM(AD39:AI39) -> 0 | BA39: =SUM(AJ39:AO39) -> 0 | BB39: =SUM(AP39:AU39) -> 0 | BC39: {=MAX(IF(AV39:BB39>0,AV39:BB39))} -> 0 | BD39: {=MIN(IF(AV39:BB39>0,AV39:BB39))} -> 0 | BE39: =ROUND(AVERAGE((SUM(AV39:BB39)-BC39-BD39)/5),2) -> 0
A40: 38 | B40: =$BC$1&"号面试室"&A40&"号考生" -> 6号面试室38号考生 | C40: =INDEX(#REF!,MATCH(B40,#REF!,0)) -> #REF! | D40: =INDEX(#REF!,MATCH(B40,#REF!,0)) -> #REF! | E40: =INDEX(#REF!,MATCH(B40,#REF!,0)) -> #REF! | AV40: =SUM(F40:$K40) -> 0 | AW40: =SUM(L40:Q40) -> 0 | AX40: =SUM(R40:W40) -> 0 | AY40: =SUM(X40:AC40) -> 0 | AZ40: =SUM(AD40:AI40) -> 0 | BA40: =SUM(AJ40:AO40) -> 0 | BB40: =SUM(AP40:AU40) -> 0 | BC40: {=MAX(IF(AV40:BB40>0,AV40:BB40))} -> 0 | BD40: {=MIN(IF(AV40:BB40>0,AV40:BB40))} -> 0 | BE40: =ROUND(AVERAGE((SUM(AV40:BB40)-BC40-BD40)/5),2) -> 0
A41: 39 | B41: =$BC$1&"号面试室"&A41&"号考生" -> 6号面试室39号考生 | C41: =INDEX(#REF!,MATCH(B41,#REF!,0)) -> #REF! | D41: =INDEX(#REF!,MATCH(B41,#REF!,0)) -> #REF! | E41: =INDEX(#REF!,MATCH(B41,#REF!,0)) -> #REF! | AV41: =SUM(F41:$K41) -> 0 | AW41: =SUM(L41:Q41) -> 0 | AX41: =SUM(R41:W41) -> 0 | AY41: =SUM(X41:AC41) -> 0 | AZ41: =SUM(AD41:AI41) -> 0 | BA41: =SUM(AJ41:AO41) -> 0 | BB41: =SUM(AP41:AU41) -> 0 | BC41: {=MAX(IF(AV41:BB41>0,AV41:BB41))} -> 0 | BD41: {=MIN(IF(AV41:BB41>0,AV41:BB41))} -> 0 | BE41: =ROUND(AVERAGE((SUM(AV41:BB41)-BC41-BD41)/5),2) -> 0
A42: 40 | B42: =$BC$1&"号面试室"&A42&"号考生" -> 6号面试室40号考生 | C42: =INDEX(#REF!,MATCH(B42,#REF!,0)) -> #REF! | D42: =INDEX(#REF!,MATCH(B42,#REF!,0)) -> #REF! | E42: =INDEX(#REF!,MATCH(B42,#REF!,0)) -> #REF! | AV42: =SUM(F42:$K42) -> 0 | AW42: =SUM(L42:Q42) -> 0 | AX42: =SUM(R42:W42) -> 0 | AY42: =SUM(X42:AC42) -> 0 | AZ42: =SUM(AD42:AI42) -> 0 | BA42: =SUM(AJ42:AO42) -> 0 | BB42: =SUM(AP42:AU42) -> 0 | BC42: {=MAX(IF(AV42:BB42>0,AV42:BB42))} -> 0 | BD42: {=MIN(IF(AV42:BB42>0,AV42:BB42))} -> 0 | BE42: =ROUND(AVERAGE((SUM(AV42:BB42)-BC42-BD42)/5),2) -> 0
A43: 41 | B43: =$BC$1&"号面试室"&A43&"号考生" -> 6号面试室41号考生 | C43: =INDEX(#REF!,MATCH(B43,#REF!,0)) -> #REF! | D43: =INDEX(#REF!,MATCH(B43,#REF!,0)) -> #REF! | E43: =INDEX(#REF!,MATCH(B43,#REF!,0)) -> #REF! | AV43: =SUM(F43:$K43) -> 0 | AW43: =SUM(L43:Q43) -> 0 | AX43: =SUM(R43:W43) -> 0 | AY43: =SUM(X43:AC43) -> 0 | AZ43: =SUM(AD43:AI43) -> 0 | BA43: =SUM(AJ43:AO43) -> 0 | BB43: =SUM(AP43:AU43) -> 0 | BC43: {=MAX(IF(AV43:BB43>0,AV43:BB43))} -> 0 | BD43: {=MIN(IF(AV43:BB43>0,AV43:BB43))} -> 0 | BE43: =ROUND(AVERAGE((SUM(AV43:BB43)-BC43-BD43)/5),2) -> 0
A44: 42 | B44: =$BC$1&"号面试室"&A44&"号考生" -> 6号面试室42号考生 | C44: =INDEX(#REF!,MATCH(B44,#REF!,0)) -> #REF! | D44: =INDEX(#REF!,MATCH(B44,#REF!,0)) -> #REF! | E44: =INDEX(#REF!,MATCH(B44,#REF!,0)) -> #REF! | AV44: =SUM(F44:$K44) -> 0 | AW44: =SUM(L44:Q44) -> 0 | AX44: =SUM(R44:W44) -> 0 | AY44: =SUM(X44:AC44) -> 0 | AZ44: =SUM(AD44:AI44) -> 0 | BA44: =SUM(AJ44:AO44) -> 0 | BB44: =SUM(AP44:AU44) -> 0 | BC44: {=MAX(IF(AV44:BB44>0,AV44:BB44))} -> 0 | BD44: {=MIN(IF(AV44:BB44>0,AV44:BB44))} -> 0 | BE44: =ROUND(AVERAGE((SUM(AV44:BB44)-BC44-BD44)/5),2) -> 0
A45: 43 | B45: =$BC$1&"号面试室"&A45&"号考生" -> 6号面试室43号考生 | C45: =INDEX(#REF!,MATCH(B45,#REF!,0)) -> #REF! | D45: =INDEX(#REF!,MATCH(B45,#REF!,0)) -> #REF! | E45: =INDEX(#REF!,MATCH(B45,#REF!,0)) -> #REF! | AV45: =SUM(F45:$K45) -> 0 | AW45: =SUM(L45:Q45) -> 0 | AX45: =SUM(R45:W45) -> 0 | AY45: =SUM(X45:AC45) -> 0 | AZ45: =SUM(AD45:AI45) -> 0 | BA45: =SUM(AJ45:AO45) -> 0 | BB45: =SUM(AP45:AU45) -> 0 | BC45: {=MAX(IF(AV45:BB45>0,AV45:BB45))} -> 0 | BD45: {=MIN(IF(AV45:BB45>0,AV45:BB45))} -> 0 | BE45: =ROUND(AVERAGE((SUM(AV45:BB45)-BC45-BD45)/5),2) -> 0
... A52: 50 | B52: =$BC$1&"号面试室"&A52&"号考生" -> 6号面试室50号考生 | C52: =INDEX(#REF!,MATCH(B52,#REF!,0)) -> #REF! | D52: =INDEX(#REF!,MATCH(B52,#REF!,0)) -> #REF! | E52: =INDEX(#REF!,MATCH(B52,#REF!,0)) -> #REF! | AV52: =SUM(F52:$K52) -> 0 | AW52: =SUM(L52:Q52) -> 0 | AX52: =SUM(R52:W52) -> 0 | AY52: =SUM(X52:AC52) -> 0 | AZ52: =SUM(AD52:AI52) -> 0 | BA52: =SUM(AJ52:AO52) -> 0 | BB52: =SUM(AP52:AU52) -> 0 | BC52: {=MAX(IF(AV52:BB52>0,AV52:BB52))} -> 0 | BD52: {=MIN(IF(AV52:BB52>0,AV52:BB52))} -> 0 | BE52: =ROUND(AVERAGE((SUM(AV52:BB52)-BC52-BD52)/5),2) -> 0

Sheet 第7面试室
B1: =#REF! -> #REF! | AH1: 面试室序号： | AO1: 7
A2: 序号 | B2: 辅助列 | C2: 姓名 | D2: 考试号 | E2: 准考证号 | F2: 一号面试官评分 | J2: 二号面试官评分 | N2: 三号面试官评分 | R2: 四号面试官评分 | V2: 五号面试官评分 | Z2: 六号面试官评分 | AD2: 七号面试官评分 | AH2: 1 | AI2: 2 | AJ2: 3 | AK2: 4 | AL2: 5 | AM2: 6 | AN2: 7 | AO2: 最高分 | AP2: 最低分 | AQ2: 最终评分
A3: 1 | B3: =$AO$1&"号面试室"&A3&"号考生" -> 7号面试室1号考生 | C3: =INDEX(#REF!,MATCH(B3,#REF!,0)) -> #REF! | D3: =INDEX(#REF!,MATCH(B3,#REF!,0)) -> #REF! | E3: =INDEX(#REF!,MATCH(B3,#REF!,0)) -> #REF! | AH3: =SUM(F3:$I3) -> 0 | AI3: =SUM(J3:M3) -> 0 | AJ3: =SUM(N3:Q3) -> 0 | AK3: =SUM(R3:U3) -> 0 | AL3: =SUM(V3:Y3) -> 0 | AM3: =SUM(Z3:AC3) -> 0 | AN3: =SUM(AD3:AG3) -> 0 | AO3: {=MAX(IF(AH3:AN3>0,AH3:AN3))} -> 0 | AP3: {=MIN(IF(AH3:AN3>0,AH3:AN3))} -> 0 | AQ3: =ROUND(AVERAGE((SUM(AH3:AN3)-AO3-AP3)/5),2) -> 0
A4: 2 | B4: =$AO$1&"号面试室"&A4&"号考生" -> 7号面试室2号考生 | C4: =INDEX(#REF!,MATCH(B4,#REF!,0)) -> #REF! | D4: =INDEX(#REF!,MATCH(B4,#REF!,0)) -> #REF! | E4: =INDEX(#REF!,MATCH(B4,#REF!,0)) -> #REF! | AH4: =SUM(F4:$I4) -> 0 | AI4: =SUM(J4:M4) -> 0 | AJ4: =SUM(N4:Q4) -> 0 | AK4: =SUM(R4:U4) -> 0 | AL4: =SUM(V4:Y4) -> 0 | AM4: =SUM(Z4:AC4) -> 0 | AN4: =SUM(AD4:AG4) -> 0 | AO4: {=MAX(IF(AH4:AN4>0,AH4:AN4))} -> 0 | AP4: {=MIN(IF(AH4:AN4>0,AH4:AN4))} -> 0 | AQ4: =ROUND(AVERAGE((SUM(AH4:AN4)-AO4-AP4)/5),2) -> 0
A5: 3 | B5: =$AO$1&"号面试室"&A5&"号考生" -> 7号面试室3号考生 | C5: =INDEX(#REF!,MATCH(B5,#REF!,0)) -> #REF! | D5: =INDEX(#REF!,MATCH(B5,#REF!,0)) -> #REF! | E5: =INDEX(#REF!,MATCH(B5,#REF!,0)) -> #REF! | AH5: =SUM(F5:$I5) -> 0 | AI5: =SUM(J5:M5) -> 0 | AJ5: =SUM(N5:Q5) -> 0 | AK5: =SUM(R5:U5) -> 0 | AL5: =SUM(V5:Y5) -> 0 | AM5: =SUM(Z5:AC5) -> 0 | AN5: =SUM(AD5:AG5) -> 0 | AO5: {=MAX(IF(AH5:AN5>0,AH5:AN5))} -> 0 | AP5: {=MIN(IF(AH5:AN5>0,AH5:AN5))} -> 0 | AQ5: =ROUND(AVERAGE((SUM(AH5:AN5)-AO5-AP5)/5),2) -> 0
A6: 4 | B6: =$AO$1&"号面试室"&A6&"号考生" -> 7号面试室4号考生 | C6: =INDEX(#REF!,MATCH(B6,#REF!,0)) -> #REF! | D6: =INDEX(#REF!,MATCH(B6,#REF!,0)) -> #REF! | E6: =INDEX(#REF!,MATCH(B6,#REF!,0)) -> #REF! | AH6: =SUM(F6:$I6) -> 0 | AI6: =SUM(J6:M6) -> 0 | AJ6: =SUM(N6:Q6) -> 0 | AK6: =SUM(R6:U6) -> 0 | AL6: =SUM(V6:Y6) -> 0 | AM6: =SUM(Z6:AC6) -> 0 | AN6: =SUM(AD6:AG6) -> 0 | AO6: {=MAX(IF(AH6:AN6>0,AH6:AN6))} -> 0 | AP6: {=MIN(IF(AH6:AN6>0,AH6:AN6))} -> 0 | AQ6: =ROUND(AVERAGE((SUM(AH6:AN6)-AO6-AP6)/5),2) -> 0
A7: 5 | B7: =$AO$1&"号面试室"&A7&"号考生" -> 7号面试室5号考生 | C7: =INDEX(#REF!,MATCH(B7,#REF!,0)) -> #REF! | D7: =INDEX(#REF!,MATCH(B7,#REF!,0)) -> #REF! | E7: =INDEX(#REF!,MATCH(B7,#REF!,0)) -> #REF! | AH7: =SUM(F7:$I7) -> 0 | AI7: =SUM(J7:M7) -> 0 | AJ7: =SUM(N7:Q7) -> 0 | AK7: =SUM(R7:U7) -> 0 | AL7: =SUM(V7:Y7) -> 0 | AM7: =SUM(Z7:AC7) -> 0 | AN7: =SUM(AD7:AG7) -> 0 | AO7: {=MAX(IF(AH7:AN7>0,AH7:AN7))} -> 0 | AP7: {=MIN(IF(AH7:AN7>0,AH7:AN7))} -> 0 | AQ7: =ROUND(AVERAGE((SUM(AH7:AN7)-AO7-AP7)/5),2) -> 0
A8: 6 | B8: =$AO$1&"号面试室"&A8&"号考生" -> 7号面试室6号考生 | C8: =INDEX(#REF!,MATCH(B8,#REF!,0)) -> #REF! | D8: =INDEX(#REF!,MATCH(B8,#REF!,0)) -> #REF! | E8: =INDEX(#REF!,MATCH(B8,#REF!,0)) -> #REF! | AH8: =SUM(F8:$I8) -> 0 | AI8: =SUM(J8:M8) -> 0 | AJ8: =SUM(N8:Q8) -> 0 | AK8: =SUM(R8:U8) -> 0 | AL8: =SUM(V8:Y8) -> 0 | AM8: =SUM(Z8:AC8) -> 0 | AN8: =SUM(AD8:AG8) -> 0 | AO8: {=MAX(IF(AH8:AN8>0,AH8:AN8))} -> 0 | AP8: {=MIN(IF(AH8:AN8>0,AH8:AN8))} -> 0 | AQ8: =ROUND(AVERAGE((SUM(AH8:AN8)-AO8-AP8)/5),2) -> 0
A9: 7 | B9: =$AO$1&"号面试室"&A9&"号考生" -> 7号面试室7号考生 | C9: =INDEX(#REF!,MATCH(B9,#REF!,0)) -> #REF! | D9: =INDEX(#REF!,MATCH(B9,#REF!,0)) -> #REF! | E9: =INDEX(#REF!,MATCH(B9,#REF!,0)) -> #REF! | AH9: =SUM(F9:$I9) -> 0 | AI9: =SUM(J9:M9) -> 0 | AJ9: =SUM(N9:Q9) -> 0 | AK9: =SUM(R9:U9) -> 0 | AL9: =SUM(V9:Y9) -> 0 | AM9: =SUM(Z9:AC9) -> 0 | AN9: =SUM(AD9:AG9) -> 0 | AO9: {=MAX(IF(AH9:AN9>0,AH9:AN9))} -> 0 | AP9: {=MIN(IF(AH9:AN9>0,AH9:AN9))} -> 0 | AQ9: =ROUND(AVERAGE((SUM(AH9:AN9)-AO9-AP9)/5),2) -> 0
A10: 8 | B10: =$AO$1&"号面试室"&A10&"号考生" -> 7号面试室8号考生 | C10: =INDEX(#REF!,MATCH(B10,#REF!,0)) -> #REF! | D10: =INDEX(#REF!,MATCH(B10,#REF!,0)) -> #REF! | E10: =INDEX(#REF!,MATCH(B10,#REF!,0)) -> #REF! | AH10: =SUM(F10:$I10) -> 0 | AI10: =SUM(J10:M10) -> 0 | AJ10: =SUM(N10:Q10) -> 0 | AK10: =SUM(R10:U10) -> 0 | AL10: =SUM(V10:Y10) -> 0 | AM10: =SUM(Z10:AC10) -> 0 | AN10: =SUM(AD10:AG10) -> 0 | AO10: {=MAX(IF(AH10:AN10>0,AH10:AN10))} -> 0 | AP10: {=MIN(IF(AH10:AN10>0,AH10:AN10))} -> 0 | AQ10: =ROUND(AVERAGE((SUM(AH10:AN10)-AO10-AP10)/5),2) -> 0
A11: 9 | B11: =$AO$1&"号面试室"&A11&"号考生" -> 7号面试室9号考生 | C11: =INDEX(#REF!,MATCH(B11,#REF!,0)) -> #REF! | D11: =INDEX(#REF!,MATCH(B11,#REF!,0)) -> #REF! | E11: =INDEX(#REF!,MATCH(B11,#REF!,0)) -> #REF! | AH11: =SUM(F11:$I11) -> 0 | AI11: =SUM(J11:M11) -> 0 | AJ11: =SUM(N11:Q11) -> 0 | AK11: =SUM(R11:U11) -> 0 | AL11: =SUM(V11:Y11) -> 0 | AM11: =SUM(Z11:AC11) -> 0 | AN11: =SUM(AD11:AG11) -> 0 | AO11: {=MAX(IF(AH11:AN11>0,AH11:AN11))} -> 0 | AP11: {=MIN(IF(AH11:AN11>0,AH11:AN11))} -> 0 | AQ11: =ROUND(AVERAGE((SUM(AH11:AN11)-AO11-AP11)/5),2) -> 0
A12: 10 | B12: =$AO$1&"号面试室"&A12&"号考生" -> 7号面试室10号考生 | C12: =INDEX(#REF!,MATCH(B12,#REF!,0)) -> #REF! | D12: =INDEX(#REF!,MATCH(B12,#REF!,0)) -> #REF! | E12: =INDEX(#REF!,MATCH(B12,#REF!,0)) -> #REF! | AH12: =SUM(F12:$I12) -> 0 | AI12: =SUM(J12:M12) -> 0 | AJ12: =SUM(N12:Q12) -> 0 | AK12: =SUM(R12:U12) -> 0 | AL12: =SUM(V12:Y12) -> 0 | AM12: =SUM(Z12:AC12) -> 0 | AN12: =SUM(AD12:AG12) -> 0 | AO12: {=MAX(IF(AH12:AN12>0,AH12:AN12))} -> 0 | AP12: {=MIN(IF(AH12:AN12>0,AH12:AN12))} -> 0 | AQ12: =ROUND(AVERAGE((SUM(AH12:AN12)-AO12-AP12)/5),2) -> 0
A13: 11 | B13: =$AO$1&"号面试室"&A13&"号考生" -> 7号面试室11号考生 | C13: =INDEX(#REF!,MATCH(B13,#REF!,0)) -> #REF! | D13: =INDEX(#REF!,MATCH(B13,#REF!,0)) -> #REF! | E13: =INDEX(#REF!,MATCH(B13,#REF!,0)) -> #REF! | AH13: =SUM(F13:$I13) -> 0 | AI13: =SUM(J13:M13) -> 0 | AJ13: =SUM(N13:Q13) -> 0 | AK13: =SUM(R13:U13) -> 0 | AL13: =SUM(V13:Y13) -> 0 | AM13: =SUM(Z13:AC13) -> 0 | AN13: =SUM(AD13:AG13) -> 0 | AO13: {=MAX(IF(AH13:AN13>0,AH13:AN13))} -> 0 | AP13: {=MIN(IF(AH13:AN13>0,AH13:AN13))} -> 0 | AQ13: =ROUND(AVERAGE((SUM(AH13:AN13)-AO13-AP13)/5),2) -> 0
A14: 12 | B14: =$AO$1&"号面试室"&A14&"号考生" -> 7号面试室12号考生 | C14: =INDEX(#REF!,MATCH(B14,#REF!,0)) -> #REF! | D14: =INDEX(#REF!,MATCH(B14,#REF!,0)) -> #REF! | E14: =INDEX(#REF!,MATCH(B14,#REF!,0)) -> #REF! | AH14: =SUM(F14:$I14) -> 0 | AI14: =SUM(J14:M14) -> 0 | AJ14: =SUM(N14:Q14) -> 0 | AK14: =SUM(R14:U14) -> 0 | AL14: =SUM(V14:Y14) -> 0 | AM14: =SUM(Z14:AC14) -> 0 | AN14: =SUM(AD14:AG14) -> 0 | AO14: {=MAX(IF(AH14:AN14>0,AH14:AN14))} -> 0 | AP14: {=MIN(IF(AH14:AN14>0,AH14:AN14))} -> 0 | AQ14: =ROUND(AVERAGE((SUM(AH14:AN14)-AO14-AP14)/5),2) -> 0
... A52: 50 | B52: =$AO$1&"号面试室"&A52&"号考生" -> 7号面试室50号考生 | C52: =INDEX(#REF!,MATCH(B52,#REF!,0)) -> #REF! | D52: =INDEX(#REF!,MATCH(B52,#REF!,0)) -> #REF! | E52: =INDEX(#REF!,MATCH(B52,#REF!,0)) -> #REF! | AH52: =SUM(F52:$I52) -> 0 | AI52: =SUM(J52:M52) -> 0 | AJ52: =SUM(N52:Q52) -> 0 | AK52: =SUM(R52:U52) -> 0 | AL52: =SUM(V52:Y52) -> 0 | AM52: =SUM(Z52:AC52) -> 0 | AN52: =SUM(AD52:AG52) -> 0 | AO52: {=MAX(IF(AH52:AN52>0,AH52:AN52))} -> 0 | AP52: {=MIN(IF(AH52:AN52>0,AH52:AN52))} -> 0 | AQ52: =ROUND(AVERAGE((SUM(AH52:AN52)-AO52-AP52)/5),2) -> 0

Sheet 第8面试室
B1: =#REF! -> #REF! | AH1: 面试室序号： | AO1: 8
A2: 序号 | B2: 辅助列 | C2: 姓名 | D2: 考试号 | E2: 准考证号 | F2: 一号面试官评分 | J2: 二号面试官评分 | N2: 三号面试官评分 | R2: 四号面试官评分 | V2: 五号面试官评分 | Z2: 六号面试官评分 | AD2: 七号面试官评分 | AH2: 1 | AI2: 2 | AJ2: 3 | AK2: 4 | AL2: 5 | AM2: 6 | AN2: 7 | AO2: 最高分 | AP2: 最低分 | AQ2: 最终评分
A3: 1 | B3: =$AO$1&"号面试室"&A3&"号考生" -> 8号面试室1号考生 | C3: =INDEX(#REF!,MATCH(B3,#REF!,0)) -> #REF! | D3: =INDEX(#REF!,MATCH(B3,#REF!,0)) -> #REF! | E3: =INDEX(#REF!,MATCH(B3,#REF!,0)) -> #REF! | AH3: =SUM(F3:$I3) -> 0 | AI3: =SUM(J3:M3) -> 0 | AJ3: =SUM(N3:Q3) -> 0 | AK3: =SUM(R3:U3) -> 0 | AL3: =SUM(V3:Y3) -> 0 | AM3: =SUM(Z3:AC3) -> 0 | AN3: =SUM(AD3:AG3) -> 0 | AO3: {=MAX(IF(AH3:AN3>0,AH3:AN3))} -> 0 | AP3: {=MIN(IF(AH3:AN3>0,AH3:AN3))} -> 0 | AQ3: =ROUND(AVERAGE((SUM(AH3:AN3)-AO3-AP3)/5),2) -> 0
A4: 2 | B4: =$AO$1&"号面试室"&A4&"号考生" -> 8号面试室2号考生 | C4: =INDEX(#REF!,MATCH(B4,#REF!,0)) -> #REF! | D4: =INDEX(#REF!,MATCH(B4,#REF!,0)) -> #REF! | E4: =INDEX(#REF!,MATCH(B4,#REF!,0)) -> #REF! | AH4: =SUM(F4:$I4) -> 0 | AI4: =SUM(J4:M4) -> 0 | AJ4: =SUM(N4:Q4) -> 0 | AK4: =SUM(R4:U4) -> 0 | AL4: =SUM(V4:Y4) -> 0 | AM4: =SUM(Z4:AC4) -> 0 | AN4: =SUM(AD4:AG4) -> 0 | AO4: {=MAX(IF(AH4:AN4>0,AH4:AN4))} -> 0 | AP4: {=MIN(IF(AH4:AN4>0,AH4:AN4))} -> 0 | AQ4: =ROUND(AVERAGE((SUM(AH4:AN4)-AO4-AP4)/5),2) -> 0
A5: 3 | B5: =$AO$1&"号面试室"&A5&"号考生" -> 8号面试室3号考生 | C5: =INDEX(#REF!,MATCH(B5,#REF!,0)) -> #REF! | D5: =INDEX(#REF!,MATCH(B5,#REF!,0)) -> #REF! | E5: =INDEX(#REF!,MATCH(B5,#REF!,0)) -> #REF! | AH5: =SUM(F5:$I5) -> 0 | AI5: =SUM(J5:M5) -> 0 | AJ5: =SUM(N5:Q5) -> 0 | AK5: =SUM(R5:U5) -> 0 | AL5: =SUM(V5:Y5) -> 0 | AM5: =SUM(Z5:AC5) -> 0 | AN5: =SUM(AD5:AG5) -> 0 | AO5: {=MAX(IF(AH5:AN5>0,AH5:AN5))} -> 0 | AP5: {=MIN(IF(AH5:AN5>0,AH5:AN5))} -> 0 | AQ5: =ROUND(AVERAGE((SUM(AH5:AN5)-AO5-AP5)/5),2) -> 0
A6: 4 | B6: =$AO$1&"号面试室"&A6&"号考生" -> 8号面试室4号考生 | C6: =INDEX(#REF!,MATCH(B6,#REF!,0)) -> #REF! | D6: =INDEX(#REF!,MATCH(B6,#REF!,0)) -> #REF! | E6: =INDEX(#REF!,MATCH(B6,#REF!,0)) -> #REF! | AH6: =SUM(F6:$I6) -> 0 | AI6: =SUM(J6:M6) -> 0 | AJ6: =SUM(N6:Q6) -> 0 | AK6: =SUM(R6:U6) -> 0 | AL6: =SUM(V6:Y6) -> 0 | AM6: =SUM(Z6:AC6) -> 0 | AN6: =SUM(AD6:AG6) -> 0 | AO6: {=MAX(IF(AH6:AN6>0,AH6:AN6))} -> 0 | AP6: {=MIN(IF(AH6:AN6>0,AH6:AN6))} -> 0 | AQ6: =ROUND(AVERAGE((SUM(AH6:AN6)-AO6-AP6)/5),2) -> 0
A7: 5 | B7: =$AO$1&"号面试室"&A7&"号考生" -> 8号面试室5号考生 | C7: =INDEX(#REF!,MATCH(B7,#REF!,0)) -> #REF! | D7: =INDEX(#REF!,MATCH(B7,#REF!,0)) -> #REF! | E7: =INDEX(#REF!,MATCH(B7,#REF!,0)) -> #REF! | AH7: =SUM(F7:$I7) -> 0 | AI7: =SUM(J7:M7) -> 0 | AJ7: =SUM(N7:Q7) -> 0 | AK7: =SUM(R7:U7) -> 0 | AL7: =SUM(V7:Y7) -> 0 | AM7: =SUM(Z7:AC7) -> 0 | AN7: =SUM(AD7:AG7) -> 0 | AO7: {=MAX(IF(AH7:AN7>0,AH7:AN7))} -> 0 | AP7: {=MIN(IF(AH7:AN7>0,AH7:AN7))} -> 0 | AQ7: =ROUND(AVERAGE((SUM(AH7:AN7)-AO7-AP7)/5),2) -> 0
A8: 6 | B8: =$AO$1&"号面试室"&A8&"号考生" -> 8号面试室6号考生 | C8: =INDEX(#REF!,MATCH(B8,#REF!,0)) -> #REF! | D8: =INDEX(#REF!,MATCH(B8,#REF!,0)) -> #REF! | E8: =INDEX(#REF!,MATCH(B8,#REF!,0)) -> #REF! | AH8: =SUM(F8:$I8) -> 0 | AI8: =SUM(J8:M8) -> 0 | AJ8: =SUM(N8:Q8) -> 0 | AK8: =SUM(R8:U8) -> 0 | AL8: =SUM(V8:Y8) -> 0 | AM8: =SUM(Z8:AC8) -> 0 | AN8: =SUM(AD8:AG8) -> 0 | AO8: {=MAX(IF(AH8:AN8>0,AH8:AN8))} -> 0 | AP8: {=MIN(IF(AH8:AN8>0,AH8:AN8))} -> 0 | AQ8: =ROUND(AVERAGE((SUM(AH8:AN8)-AO8-AP8)/5),2) -> 0
A9: 7 | B9: =$AO$1&"号面试室"&A9&"号考生" -> 8号面试室7号考生 | C9: =INDEX(#REF!,MATCH(B9,#REF!,0)) -> #REF! | D9: =INDEX(#REF!,MATCH(B9,#REF!,0)) -> #REF! | E9: =INDEX(#REF!,MATCH(B9,#REF!,0)) -> #REF! | AH9: =SUM(F9:$I9) -> 0 | AI9: =SUM(J9:M9) -> 0 | AJ9: =SUM(N9:Q9) -> 0 | AK9: =SUM(R9:U9) -> 0 | AL9: =SUM(V9:Y9) -> 0 | AM9: =SUM(Z9:AC9) -> 0 | AN9: =SUM(AD9:AG9) -> 0 | AO9: {=MAX(IF(AH9:AN9>0,AH9:AN9))} -> 0 | AP9: {=MIN(IF(AH9:AN9>0,AH9:AN9))} -> 0 | AQ9: =ROUND(AVERAGE((SUM(AH9:AN9)-AO9-AP9)/5),2) -> 0
A10: 8 | B10: =$AO$1&"号面试室"&A10&"号考生" -> 8号面试室8号考生 | C10: =INDEX(#REF!,MATCH(B10,#REF!,0)) -> #REF! | D10: =INDEX(#REF!,MATCH(B10,#REF!,0)) -> #REF! | E10: =INDEX(#REF!,MATCH(B10,#REF!,0)) -> #REF! | AH10: =SUM(F10:$I10) -> 0 | AI10: =SUM(J10:M10) -> 0 | AJ10: =SUM(N10:Q10) -> 0 | AK10: =SUM(R10:U10) -> 0 | AL10: =SUM(V10:Y10) -> 0 | AM10: =SUM(Z10:AC10) -> 0 | AN10: =SUM(AD10:AG10) -> 0 | AO10: {=MAX(IF(AH10:AN10>0,AH10:AN10))} -> 0 | AP10: {=MIN(IF(AH10:AN10>0,AH10:AN10))} -> 0 | AQ10: =ROUND(AVERAGE((SUM(AH10:AN10)-AO10-AP10)/5),2) -> 0
A11: 9 | B11: =$AO$1&"号面试室"&A11&"号考生" -> 8号面试室9号考生 | C11: =INDEX(#REF!,MATCH(B11,#REF!,0)) -> #REF! | D11: =INDEX(#REF!,MATCH(B11,#REF!,0)) -> #REF! | E11: =INDEX(#REF!,MATCH(B11,#REF!,0)) -> #REF! | AH11: =SUM(F11:$I11) -> 0 | AI11: =SUM(J11:M11) -> 0 | AJ11: =SUM(N11:Q11) -> 0 | AK11: =SUM(R11:U11) -> 0 | AL11: =SUM(V11:Y11) -> 0 | AM11: =SUM(Z11:AC11) -> 0 | AN11: =SUM(AD11:AG11) -> 0 | AO11: {=MAX(IF(AH11:AN11>0,AH11:AN11))} -> 0 | AP11: {=MIN(IF(AH11:AN11>0,AH11:AN11))} -> 0 | AQ11: =ROUND(AVERAGE((SUM(AH11:AN11)-AO11-AP11)/5),2) -> 0
A12: 10 | B12: =$AO$1&"号面试室"&A12&"号考生" -> 8号面试室10号考生 | C12: =INDEX(#REF!,MATCH(B12,#REF!,0)) -> #REF! | D12: =INDEX(#REF!,MATCH(B12,#REF!,0)) -> #REF! | E12: =INDEX(#REF!,MATCH(B12,#REF!,0)) -> #REF! | AH12: =SUM(F12:$I12) -> 0 | AI12: =SUM(J12:M12) -> 0 | AJ12: =SUM(N12:Q12) -> 0 | AK12: =SUM(R12:U12) -> 0 | AL12: =SUM(V12:Y12) -> 0 | AM12: =SUM(Z12:AC12) -> 0 | AN12: =SUM(AD12:AG12) -> 0 | AO12: {=MAX(IF(AH12:AN12>0,AH12:AN12))} -> 0 | AP12: {=MIN(IF(AH12:AN12>0,AH12:AN12))} -> 0 | AQ12: =ROUND(AVERAGE((SUM(AH12:AN12)-AO12-AP12)/5),2) -> 0
A13: 11 | B13: =$AO$1&"号面试室"&A13&"号考生" -> 8号面试室11号考生 | C13: =INDEX(#REF!,MATCH(B13,#REF!,0)) -> #REF! | D13: =INDEX(#REF!,MATCH(B13,#REF!,0)) -> #REF! | E13: =INDEX(#REF!,MATCH(B13,#REF!,0)) -> #REF! | AH13: =SUM(F13:$I13) -> 0 | AI13: =SUM(J13:M13) -> 0 | AJ13: =SUM(N13:Q13) -> 0 | AK13: =SUM(R13:U13) -> 0 | AL13: =SUM(V13:Y13) -> 0 | AM13: =SUM(Z13:AC13) -> 0 | AN13: =SUM(AD13:AG13) -> 0 | AO13: {=MAX(IF(AH13:AN13>0,AH13:AN13))} -> 0 | AP13: {=MIN(IF(AH13:AN13>0,AH13:AN13))} -> 0 | AQ13: =ROUND(AVERAGE((SUM(AH13:AN13)-AO13-AP13)/5),2) -> 0
A14: 12 | B14: =$AO$1&"号面试室"&A14&"号考生" -> 8号面试室12号考生 | C14: =INDEX(#REF!,MATCH(B14,#REF!,0)) -> #REF! | D14: =INDEX(#REF!,MATCH(B14,#REF!,0)) -> #REF! | E14: =INDEX(#REF!,MATCH(B14,#REF!,0)) -> #REF! | AH14: =SUM(F14:$I14) -> 0 | AI14: =SUM(J14:M14) -> 0 | AJ14: =SUM(N14:Q14) -> 0 | AK14: =SUM(R14:U14) -> 0 | AL14: =SUM(V14:Y14) -> 0 | AM14: =SUM(Z14:AC14) -> 0 | AN14: =SUM(AD14:AG14) -> 0 | AO14: {=MAX(IF(AH14:AN14>0,AH14:AN14))} -> 0 | AP14: {=MIN(IF(AH14:AN14>0,AH14:AN14))} -> 0 | AQ14: =ROUND(AVERAGE((SUM(AH14:AN14)-AO14-AP14)/5),2) -> 0
... A52: 50 | B52: =$AO$1&"号面试室"&A52&"号考生" -> 8号面试室50号考生 | C52: =INDEX(#REF!,MATCH(B52,#REF!,0)) -> #REF! | D52: =INDEX(#REF!,MATCH(B52,#REF!,0)) -> #REF! | E52: =INDEX(#REF!,MATCH(B52,#REF!,0)) -> #REF! | AH52: =SUM(F52:$I52) -> 0 | AI52: =SUM(J52:M52) -> 0 | AJ52: =SUM(N52:Q52) -> 0 | AK52: =SUM(R52:U52) -> 0 | AL52: =SUM(V52:Y52) -> 0 | AM52: =SUM(Z52:AC52) -> 0 | AN52: =SUM(AD52:AG52) -> 0 | AO52: {=MAX(IF(AH52:AN52>0,AH52:AN52))} -> 0 | AP52: {=MIN(IF(AH52:AN52>0,AH52:AN52))} -> 0 | AQ52: =ROUND(AVERAGE((SUM(AH52:AN52)-AO52-AP52)/5),2) -> 0

Sheet 第9面试室
B1: =#REF! -> #REF! | AH1: 面试室序号： | AO1: 9
A2: 序号 | B2: 辅助列 | C2: 姓名 | D2: 考试号 | E2: 准考证号 | F2: 一号面试官评分 | J2: 二号面试官评分 | N2: 三号面试官评分 | R2: 四号面试官评分 | V2: 五号面试官评分 | Z2: 六号面试官评分 | AD2: 七号面试官评分 | AH2: 1 | AI2: 2 | AJ2: 3 | AK2: 4 | AL2: 5 | AM2: 6 | AN2: 7 | AO2: 最高分 | AP2: 最低分 | AQ2: 最终评分
A3: 1 | B3: =$AO$1&"号面试室"&A3&"号考生" -> 9号面试室1号考生 | C3: =INDEX(#REF!,MATCH(B3,#REF!,0)) -> #REF! | D3: =INDEX(#REF!,MATCH(B3,#REF!,0)) -> #REF! | E3: =INDEX(#REF!,MATCH(B3,#REF!,0)) -> #REF! | AH3: =SUM(F3:$I3) -> 0 | AI3: =SUM(J3:M3) -> 0 | AJ3: =SUM(N3:Q3) -> 0 | AK3: =SUM(R3:U3) -> 0 | AL3: =SUM(V3:Y3) -> 0 | AM3: =SUM(Z3:AC3) -> 0 | AN3: =SUM(AD3:AG3) -> 0 | AO3: {=MAX(IF(AH3:AN3>0,AH3:AN3))} -> 0 | AP3: {=MIN(IF(AH3:AN3>0,AH3:AN3))} -> 0 | AQ3: =ROUND(AVERAGE((SUM(AH3:AN3)-AO3-AP3)/5),2) -> 0
A4: 2 | B4: =$AO$1&"号面试室"&A4&"号考生" -> 9号面试室2号考生 | C4: =INDEX(#REF!,MATCH(B4,#REF!,0)) -> #REF! | D4: =INDEX(#REF!,MATCH(B4,#REF!,0)) -> #REF! | E4: =INDEX(#REF!,MATCH(B4,#REF!,0)) -> #REF! | AH4: =SUM(F4:$I4) -> 0 | AI4: =SUM(J4:M4) -> 0 | AJ4: =SUM(N4:Q4) -> 0 | AK4: =SUM(R4:U4) -> 0 | AL4: =SUM(V4:Y4) -> 0 | AM4: =SUM(Z4:AC4) -> 0 | AN4: =SUM(AD4:AG4) -> 0 | AO4: {=MAX(IF(AH4:AN4>0,AH4:AN4))} -> 0 | AP4: {=MIN(IF(AH4:AN4>0,AH4:AN4))} -> 0 | AQ4: =ROUND(AVERAGE((SUM(AH4:AN4)-AO4-AP4)/5),2) -> 0
A5: 3 | B5: =$AO$1&"号面试室"&A5&"号考生" -> 9号面试室3号考生 | C5: =INDEX(#REF!,MATCH(B5,#REF!,0)) -> #REF! | D5: =INDEX(#REF!,MATCH(B5,#REF!,0)) -> #REF! | E5: =INDEX(#REF!,MATCH(B5,#REF!,0)) -> #REF! | AH5: =SUM(F5:$I5) -> 0 | AI5: =SUM(J5:M5) -> 0 | AJ5: =SUM(N5:Q5) -> 0 | AK5: =SUM(R5:U5) -> 0 | AL5: =SUM(V5:Y5) -> 0 | AM5: =SUM(Z5:AC5) -> 0 | AN5: =SUM(AD5:AG5) -> 0 | AO5: {=MAX(IF(AH5:AN5>0,AH5:AN5))} -> 0 | AP5: {=MIN(IF(AH5:AN5>0,AH5:AN5))} -> 0 | AQ5: =ROUND(AVERAGE((SUM(AH5:AN5)-AO5-AP5)/5),2) -> 0
A6: 4 | B6: =$AO$1&"号面试室"&A6&"号考生" -> 9号面试室4号考生 | C6: =INDEX(#REF!,MATCH(B6,#REF!,0)) -> #REF! | D6: =INDEX(#REF!,MATCH(B6,#REF!,0)) -> #REF! | E6: =INDEX(#REF!,MATCH(B6,#REF!,0)) -> #REF! | AH6: =SUM(F6:$I6) -> 0 | AI6: =SUM(J6:M6) -> 0 | AJ6: =SUM(N6:Q6) -> 0 | AK6: =SUM(R6:U6) -> 0 | AL6: =SUM(V6:Y6) -> 0 | AM6: =SUM(Z6:AC6) -> 0 | AN6: =SUM(AD6:AG6) -> 0 | AO6: {=MAX(IF(AH6:AN6>0,AH6:AN6))} -> 0 | AP6: {=MIN(IF(AH6:AN6>0,AH6:AN6))} -> 0 | AQ6: =ROUND(AVERAGE((SUM(AH6:AN6)-AO6-AP6)/5),2) -> 0
A7: 5 | B7: =$AO$1&"号面试室"&A7&"号考生" -> 9号面试室5号考生 | C7: =INDEX(#REF!,MATCH(B7,#REF!,0)) -> #REF! | D7: =INDEX(#REF!,MATCH(B7,#REF!,0)) -> #REF! | E7: =INDEX(#REF!,MATCH(B7,#REF!,0)) -> #REF! | AH7: =SUM(F7:$I7) -> 0 | AI7: =SUM(J7:M7) -> 0 | AJ7: =SUM(N7:Q7) -> 0 | AK7: =SUM(R7:U7) -> 0 | AL7: =SUM(V7:Y7) -> 0 | AM7: =SUM(Z7:AC7) -> 0 | AN7: =SUM(AD7:AG7) -> 0 | AO7: {=MAX(IF(AH7:AN7>0,AH7:AN7))} -> 0 | AP7: {=MIN(IF(AH7:AN7>0,AH7:AN7))} -> 0 | AQ7: =ROUND(AVERAGE((SUM(AH7:AN7)-AO7-AP7)/5),2) -> 0
A8: 6 | B8: =$AO$1&"号面试室"&A8&"号考生" -> 9号面试室6号考生 | C8: =INDEX(#REF!,MATCH(B8,#REF!,0)) -> #REF! | D8: =INDEX(#REF!,MATCH(B8,#REF!,0)) -> #REF! | E8: =INDEX(#REF!,MATCH(B8,#REF!,0)) -> #REF! | AH8: =SUM(F8:$I8) -> 0 | AI8: =SUM(J8:M8) -> 0 | AJ8: =SUM(N8:Q8) -> 0 | AK8: =SUM(R8:U8) -> 0 | AL8: =SUM(V8:Y8) -> 0 | AM8: =SUM(Z8:AC8) -> 0 | AN8: =SUM(AD8:AG8) -> 0 | AO8: {=MAX(IF(AH8:AN8>0,AH8:AN8))} -> 0 | AP8: {=MIN(IF(AH8:AN8>0,AH8:AN8))} -> 0 | AQ8: =ROUND(AVERAGE((SUM(AH8:AN8)-AO8-AP8)/5),2) -> 0
A9: 7 | B9: =$AO$1&"号面试室"&A9&"号考生" -> 9号面试室7号考生 | C9: =INDEX(#REF!,MATCH(B9,#REF!,0)) -> #REF! | D9: =INDEX(#REF!,MATCH(B9,#REF!,0)) -> #REF! | E9: =INDEX(#REF!,MATCH(B9,#REF!,0)) -> #REF! | AH9: =SUM(F9:$I9) -> 0 | AI9: =SUM(J9:M9) -> 0 | AJ9: =SUM(N9:Q9) -> 0 | AK9: =SUM(R9:U9) -> 0 | AL9: =SUM(V9:Y9) -> 0 | AM9: =SUM(Z9:AC9) -> 0 | AN9: =SUM(AD9:AG9) -> 0 | AO9: {=MAX(IF(AH9:AN9>0,AH9:AN9))} -> 0 | AP9: {=MIN(IF(AH9:AN9>0,AH9:AN9))} -> 0 | AQ9: =ROUND(AVERAGE((SUM(AH9:AN9)-AO9-AP9)/5),2) -> 0
A10: 8 | B10: =$AO$1&"号面试室"&A10&"号考生" -> 9号面试室8号考生 | C10: =INDEX(#REF!,MATCH(B10,#REF!,0)) -> #REF! | D10: =INDEX(#REF!,MATCH(B10,#REF!,0)) -> #REF! | E10: =INDEX(#REF!,MATCH(B10,#REF!,0)) -> #REF! | AH10: =SUM(F10:$I10) -> 0 | AI10: =SUM(J10:M10) -> 0 | AJ10: =SUM(N10:Q10) -> 0 | AK10: =SUM(R10:U10) -> 0 | AL10: =SUM(V10:Y10) -> 0 | AM10: =SUM(Z10:AC10) -> 0 | AN10: =SUM(AD10:AG10) -> 0 | AO10: {=MAX(IF(AH10:AN10>0,AH10:AN10))} -> 0 | AP10: {=MIN(IF(AH10:AN10>0,AH10:AN10))} -> 0 | AQ10: =ROUND(AVERAGE((SUM(AH10:AN10)-AO10-AP10)/5),2) -> 0
A11: 9 | B11: =$AO$1&"号面试室"&A11&"号考生" -> 9号面试室9号考生 | C11: =INDEX(#REF!,MATCH(B11,#REF!,0)) -> #REF! | D11: =INDEX(#REF!,MATCH(B11,#REF!,0)) -> #REF! | E11: =INDEX(#REF!,MATCH(B11,#REF!,0)) -> #REF! | AH11: =SUM(F11:$I11) -> 0 | AI11: =SUM(J11:M11) -> 0 | AJ11: =SUM(N11:Q11) -> 0 | AK11: =SUM(R11:U11) -> 0 | AL11: =SUM(V11:Y11) -> 0 | AM11: =SUM(Z11:AC11) -> 0 | AN11: =SUM(AD11:AG11) -> 0 | AO11: {=MAX(IF(AH11:AN11>0,AH11:AN11))} -> 0 | AP11: {=MIN(IF(AH11:AN11>0,AH11:AN11))} -> 0 | AQ11: =ROUND(AVERAGE((SUM(AH11:AN11)-AO11-AP11)/5),2) -> 0
A12: 10 | B12: =$AO$1&"号面试室"&A12&"号考生" -> 9号面试室10号考生 | C12: =INDEX(#REF!,MATCH(B12,#REF!,0)) -> #REF! | D12: =INDEX(#REF!,MATCH(B12,#REF!,0)) -> #REF! | E12: =INDEX(#REF!,MATCH(B12,#REF!,0)) -> #REF! | AH12: =SUM(F12:$I12) -> 0 | AI12: =SUM(J12:M12) -> 0 | AJ12: =SUM(N12:Q12) -> 0 | AK12: =SUM(R12:U12) -> 0 | AL12: =SUM(V12:Y12) -> 0 | AM12: =SUM(Z12:AC12) -> 0 | AN12: =SUM(AD12:AG12) -> 0 | AO12: {=MAX(IF(AH12:AN12>0,AH12:AN12))} -> 0 | AP12: {=MIN(IF(AH12:AN12>0,AH12:AN12))} -> 0 | AQ12: =ROUND(AVERAGE((SUM(AH12:AN12)-AO12-AP12)/5),2) -> 0
A13: 11 | B13: =$AO$1&"号面试室"&A13&"号考生" -> 9号面试室11号考生 | C13: =INDEX(#REF!,MATCH(B13,#REF!,0)) -> #REF! | D13: =INDEX(#REF!,MATCH(B13,#REF!,0)) -> #REF! | E13: =INDEX(#REF!,MATCH(B13,#REF!,0)) -> #REF! | AH13: =SUM(F13:$I13) -> 0 | AI13: =SUM(J13:M13) -> 0 | AJ13: =SUM(N13:Q13) -> 0 | AK13: =SUM(R13:U13) -> 0 | AL13: =SUM(V13:Y13) -> 0 | AM13: =SUM(Z13:AC13) -> 0 | AN13: =SUM(AD13:AG13) -> 0 | AO13: {=MAX(IF(AH13:AN13>0,AH13:AN13))} -> 0 | AP13: {=MIN(IF(AH13:AN13>0,AH13:AN13))} -> 0 | AQ13: =ROUND(AVERAGE((SUM(AH13:AN13)-AO13-AP13)/5),2) -> 0
A14: 12 | B14: =$AO$1&"号面试室"&A14&"号考生" -> 9号面试室12号考生 | C14: =INDEX(#REF!,MATCH(B14,#REF!,0)) -> #REF! | D14: =INDEX(#REF!,MATCH(B14,#REF!,0)) -> #REF! | E14: =INDEX(#REF!,MATCH(B14,#REF!,0)) -> #REF! | AH14: =SUM(F14:$I14) -> 0 | AI14: =SUM(J14:M14) -> 0 | AJ14: =SUM(N14:Q14) -> 0 | AK14: =SUM(R14:U14) -> 0 | AL14: =SUM(V14:Y14) -> 0 | AM14: =SUM(Z14:AC14) -> 0 | AN14: =SUM(AD14:AG14) -> 0 | AO14: {=MAX(IF(AH14:AN14>0,AH14:AN14))} -> 0 | AP14: {=MIN(IF(AH14:AN14>0,AH14:AN14))} -> 0 | AQ14: =ROUND(AVERAGE((SUM(AH14:AN14)-AO14-AP14)/5),2) -> 0
... A52: 50 | B52: =$AO$1&"号面试室"&A52&"号考生" -> 9号面试室50号考生 | C52: =INDEX(#REF!,MATCH(B52,#REF!,0)) -> #REF! | D52: =INDEX(#REF!,MATCH(B52,#REF!,0)) -> #REF! | E52: =INDEX(#REF!,MATCH(B52,#REF!,0)) -> #REF! | AH52: =SUM(F52:$I52) -> 0 | AI52: =SUM(J52:M52) -> 0 | AJ52: =SUM(N52:Q52) -> 0 | AK52: =SUM(R52:U52) -> 0 | AL52: =SUM(V52:Y52) -> 0 | AM52: =SUM(Z52:AC52) -> 0 | AN52: =SUM(AD52:AG52) -> 0 | AO52: {=MAX(IF(AH52:AN52>0,AH52:AN52))} -> 0 | AP52: {=MIN(IF(AH52:AN52>0,AH52:AN52))} -> 0 | AQ52: =ROUND(AVERAGE((SUM(AH52:AN52)-AO52-AP52)/5),2) -> 0

Sheet 第10面试室
B1: =#REF! -> #REF! | AH1: 面试室序号： | AO1: 10
A2: 序号 | B2: 辅助列 | C2: 姓名 | D2: 考试号 | E2: 准考证号 | F2: 一号面试官评分 | J2: 二号面试官评分 | N2: 三号面试官评分 | R2: 四号面试官评分 | V2: 五号面试官评分 | Z2: 六号面试官评分 | AD2: 七号面试官评分 | AH2: 1 | AI2: 2 | AJ2: 3 | AK2: 4 | AL2: 5 | AM2: 6 | AN2: 7 | AO2: 最高分 | AP2: 最低分 | AQ2: 最终评分
A3: 1 | B3: =$AO$1&"号面试室"&A3&"号考生" -> 10号面试室1号考生 | C3: =INDEX(#REF!,MATCH(B3,#REF!,0)) -> #REF! | D3: =INDEX(#REF!,MATCH(B3,#REF!,0)) -> #REF! | E3: =INDEX(#REF!,MATCH(B3,#REF!,0)) -> #REF! | AH3: =SUM(F3:$I3) -> 0 | AI3: =SUM(J3:M3) -> 0 | AJ3: =SUM(N3:Q3) -> 0 | AK3: =SUM(R3:U3) -> 0 | AL3: =SUM(V3:Y3) -> 0 | AM3: =SUM(Z3:AC3) -> 0 | AN3: =SUM(AD3:AG3) -> 0 | AO3: {=MAX(IF(AH3:AN3>0,AH3:AN3))} -> 0 | AP3: {=MIN(IF(AH3:AN3>0,AH3:AN3))} -> 0 | AQ3: =ROUND(AVERAGE((SUM(AH3:AN3)-AO3-AP3)/5),2) -> 0
A4: 2 | B4: =$AO$1&"号面试室"&A4&"号考生" -> 10号面试室2号考生 | C4: =INDEX(#REF!,MATCH(B4,#REF!,0)) -> #REF! | D4: =INDEX(#REF!,MATCH(B4,#REF!,0)) -> #REF! | E4: =INDEX(#REF!,MATCH(B4,#REF!,0)) -> #REF! | AH4: =SUM(F4:$I4) -> 0 | AI4: =SUM(J4:M4) -> 0 | AJ4: =SUM(N4:Q4) -> 0 | AK4: =SUM(R4:U4) -> 0 | AL4: =SUM(V4:Y4) -> 0 | AM4: =SUM(Z4:AC4) -> 0 | AN4: =SUM(AD4:AG4) -> 0 | AO4: {=MAX(IF(AH4:AN4>0,AH4:AN4))} -> 0 | AP4: {=MIN(IF(AH4:AN4>0,AH4:AN4))} -> 0 | AQ4: =ROUND(AVERAGE((SUM(AH4:AN4)-AO4-AP4)/5),2) -> 0
A5: 3 | B5: =$AO$1&"号面试室"&A5&"号考生" -> 10号面试室3号考生 | C5: =INDEX(#REF!,MATCH(B5,#REF!,0)) -> #REF! | D5: =INDEX(#REF!,MATCH(B5,#REF!,0)) -> #REF! | E5: =INDEX(#REF!,MATCH(B5,#REF!,0)) -> #REF! | AH5: =SUM(F5:$I5) -> 0 | AI5: =SUM(J5:M5) -> 0 | AJ5: =SUM(N5:Q5) -> 0 | AK5: =SUM(R5:U5) -> 0 | AL5: =SUM(V5:Y5) -> 0 | AM5: =SUM(Z5:AC5) -> 0 | AN5: =SUM(AD5:AG5) -> 0 | AO5: {=MAX(IF(AH5:AN5>0,AH5:AN5))} -> 0 | AP5: {=MIN(IF(AH5:AN5>0,AH5:AN5))} -> 0 | AQ5: =ROUND(AVERAGE((SUM(AH5:AN5)-AO5-AP5)/5),2) -> 0
A6: 4 | B6: =$AO$1&"号面试室"&A6&"号考生" -> 10号面试室4号考生 | C6: =INDEX(#REF!,MATCH(B6,#REF!,0)) -> #REF! | D6: =INDEX(#REF!,MATCH(B6,#REF!,0)) -> #REF! | E6: =INDEX(#REF!,MATCH(B6,#REF!,0)) -> #REF! | AH6: =SUM(F6:$I6) -> 0 | AI6: =SUM(J6:M6) -> 0 | AJ6: =SUM(N6:Q6) -> 0 | AK6: =SUM(R6:U6) -> 0 | AL6: =SUM(V6:Y6) -> 0 | AM6: =SUM(Z6:AC6) -> 0 | AN6: =SUM(AD6:AG6) -> 0 | AO6: {=MAX(IF(AH6:AN6>0,AH6:AN6))} -> 0 | AP6: {=MIN(IF(AH6:AN6>0,AH6:AN6))} -> 0 | AQ6: =ROUND(AVERAGE((SUM(AH6:AN6)-AO6-AP6)/5),2) -> 0
A7: 5 | B7: =$AO$1&"号面试室"&A7&"号考生" -> 10号面试室5号考生 | C7: =INDEX(#REF!,MATCH(B7,#REF!,0)) -> #REF! | D7: =INDEX(#REF!,MATCH(B7,#REF!,0)) -> #REF! | E7: =INDEX(#REF!,MATCH(B7,#REF!,0)) -> #REF! | AH7: =SUM(F7:$I7) -> 0 | AI7: =SUM(J7:M7) -> 0 | AJ7: =SUM(N7:Q7) -> 0 | AK7: =SUM(R7:U7) -> 0 | AL7: =SUM(V7:Y7) -> 0 | AM7: =SUM(Z7:AC7) -> 0 | AN7: =SUM(AD7:AG7) -> 0 | AO7: {=MAX(IF(AH7:AN7>0,AH7:AN7))} -> 0 | AP7: {=MIN(IF(AH7:AN7>0,AH7:AN7))} -> 0 | AQ7: =ROUND(AVERAGE((SUM(AH7:AN7)-AO7-AP7)/5),2) -> 0
A8: 6 | B8: =$AO$1&"号面试室"&A8&"号考生" -> 10号面试室6号考生 | C8: =INDEX(#REF!,MATCH(B8,#REF!,0)) -> #REF! | D8: =INDEX(#REF!,MATCH(B8,#REF!,0)) -> #REF! | E8: =INDEX(#REF!,MATCH(B8,#REF!,0)) -> #REF! | AH8: =SUM(F8:$I8) -> 0 | AI8: =SUM(J8:M8) -> 0 | AJ8: =SUM(N8:Q8) -> 0 | AK8: =SUM(R8:U8) -> 0 | AL8: =SUM(V8:Y8) -> 0 | AM8: =SUM(Z8:AC8) -> 0 | AN8: =SUM(AD8:AG8) -> 0 | AO8: {=MAX(IF(AH8:AN8>0,AH8:AN8))} -> 0 | AP8: {=MIN(IF(AH8:AN8>0,AH8:AN8))} -> 0 | AQ8: =ROUND(AVERAGE((SUM(AH8:AN8)-AO8-AP8)/5),2) -> 0
A9: 7 | B9: =$AO$1&"号面试室"&A9&"号考生" -> 10号面试室7号考生 | C9: =INDEX(#REF!,MATCH(B9,#REF!,0)) -> #REF! | D9: =INDEX(#REF!,MATCH(B9,#REF!,0)) -> #REF! | E9: =INDEX(#REF!,MATCH(B9,#REF!,0)) -> #REF! | AH9: =SUM(F9:$I9) -> 0 | AI9: =SUM(J9:M9) -> 0 | AJ9: =SUM(N9:Q9) -> 0 | AK9: =SUM(R9:U9) -> 0 | AL9: =SUM(V9:Y9) -> 0 | AM9: =SUM(Z9:AC9) -> 0 | AN9: =SUM(AD9:AG9) -> 0 | AO9: {=MAX(IF(AH9:AN9>0,AH9:AN9))} -> 0 | AP9: {=MIN(IF(AH9:AN9>0,AH9:AN9))} -> 0 | AQ9: =ROUND(AVERAGE((SUM(AH9:AN9)-AO9-AP9)/5),2) -> 0
A10: 8 | B10: =$AO$1&"号面试室"&A10&"号考生" -> 10号面试室8号考生 | C10: =INDEX(#REF!,MATCH(B10,#REF!,0)) -> #REF! | D10: =INDEX(#REF!,MATCH(B10,#REF!,0)) -> #REF! | E10: =INDEX(#REF!,MATCH(B10,#REF!,0)) -> #REF! | AH10: =SUM(F10:$I10) -> 0 | AI10: =SUM(J10:M10) -> 0 | AJ10: =SUM(N10:Q10) -> 0 | AK10: =SUM(R10:U10) -> 0 | AL10: =SUM(V10:Y10) -> 0 | AM10: =SUM(Z10:AC10) -> 0 | AN10: =SUM(AD10:AG10) -> 0 | AO10: {=MAX(IF(AH10:AN10>0,AH10:AN10))} -> 0 | AP10: {=MIN(IF(AH10:AN10>0,AH10:AN10))} -> 0 | AQ10: =ROUND(AVERAGE((SUM(AH10:AN10)-AO10-AP10)/5),2) -> 0
A11: 9 | B11: =$AO$1&"号面试室"&A11&"号考生" -> 10号面试室9号考生 | C11: =INDEX(#REF!,MATCH(B11,#REF!,0)) -> #REF! | D11: =INDEX(#REF!,MATCH(B11,#REF!,0)) -> #REF! | E11: =INDEX(#REF!,MATCH(B11,#REF!,0)) -> #REF! | AH11: =SUM(F11:$I11) -> 0 | AI11: =SUM(J11:M11) -> 0 | AJ11: =SUM(N11:Q11) -> 0 | AK11: =SUM(R11:U11) -> 0 | AL11: =SUM(V11:Y11) -> 0 | AM11: =SUM(Z11:AC11) -> 0 | AN11: =SUM(AD11:AG11) -> 0 | AO11: {=MAX(IF(AH11:AN11>0,AH11:AN11))} -> 0 | AP11: {=MIN(IF(AH11:AN11>0,AH11:AN11))} -> 0 | AQ11: =ROUND(AVERAGE((SUM(AH11:AN11)-AO11-AP11)/5),2) -> 0
A12: 10 | B12: =$AO$1&"号面试室"&A12&"号考生" -> 10号面试室10号考生 | C12: =INDEX(#REF!,MATCH(B12,#REF!,0)) -> #REF! | D12: =INDEX(#REF!,MATCH(B12,#REF!,0)) -> #REF! | E12: =INDEX(#REF!,MATCH(B12,#REF!,0)) -> #REF! | AH12: =SUM(F12:$I12) -> 0 | AI12: =SUM(J12:M12) -> 0 | AJ12: =SUM(N12:Q12) -> 0 | AK12: =SUM(R12:U12) -> 0 | AL12: =SUM(V12:Y12) -> 0 | AM12: =SUM(Z12:AC12) -> 0 | AN12: =SUM(AD12:AG12) -> 0 | AO12: {=MAX(IF(AH12:AN12>0,AH12:AN12))} -> 0 | AP12: {=MIN(IF(AH12:AN12>0,AH12:AN12))} -> 0 | AQ12: =ROUND(AVERAGE((SUM(AH12:AN12)-AO12-AP12)/5),2) -> 0
A13: 11 | B13: =$AO$1&"号面试室"&A13&"号考生" -> 10号面试室11号考生 | C13: =INDEX(#REF!,MATCH(B13,#REF!,0)) -> #REF! | D13: =INDEX(#REF!,MATCH(B13,#REF!,0)) -> #REF! | E13: =INDEX(#REF!,MATCH(B13,#REF!,0)) -> #REF! | AH13: =SUM(F13:$I13) -> 0 | AI13: =SUM(J13:M13) -> 0 | AJ13: =SUM(N13:Q13) -> 0 | AK13: =SUM(R13:U13) -> 0 | AL13: =SUM(V13:Y13) -> 0 | AM13: =SUM(Z13:AC13) -> 0 | AN13: =SUM(AD13:AG13) -> 0 | AO13: {=MAX(IF(AH13:AN13>0,AH13:AN13))} -> 0 | AP13: {=MIN(IF(AH13:AN13>0,AH13:AN13))} -> 0 | AQ13: =ROUND(AVERAGE((SUM(AH13:AN13)-AO13-AP13)/5),2) -> 0
A14: 12 | B14: =$AO$1&"号面试室"&A14&"号考生" -> 10号面试室12号考生 | C14: =INDEX(#REF!,MATCH(B14,#REF!,0)) -> #REF! | D14: =INDEX(#REF!,MATCH(B14,#REF!,0)) -> #REF! | E14: =INDEX(#REF!,MATCH(B14,#REF!,0)) -> #REF! | AH14: =SUM(F14:$I14) -> 0 | AI14: =SUM(J14:M14) -> 0 | AJ14: =SUM(N14:Q14) -> 0 | AK14: =SUM(R14:U14) -> 0 | AL14: =SUM(V14:Y14) -> 0 | AM14: =SUM(Z14:AC14) -> 0 | AN14: =SUM(AD14:AG14) -> 0 | AO14: {=MAX(IF(AH14:AN14>0,AH14:AN14))} -> 0 | AP14: {=MIN(IF(AH14:AN14>0,AH14:AN14))} -> 0 | AQ14: =ROUND(AVERAGE((SUM(AH14:AN14)-AO14-AP14)/5),2) -> 0
... A52: 50 | B52: =$AO$1&"号面试室"&A52&"号考生" -> 10号面试室50号考生 | C52: =INDEX(#REF!,MATCH(B52,#REF!,0)) -> #REF! | D52: =INDEX(#REF!,MATCH(B52,#REF!,0)) -> #REF! | E52: =INDEX(#REF!,MATCH(B52,#REF!,0)) -> #REF! | AH52: =SUM(F52:$I52) -> 0 | AI52: =SUM(J52:M52) -> 0 | AJ52: =SUM(N52:Q52) -> 0 | AK52: =SUM(R52:U52) -> 0 | AL52: =SUM(V52:Y52) -> 0 | AM52: =SUM(Z52:AC52) -> 0 | AN52: =SUM(AD52:AG52) -> 0 | AO52: {=MAX(IF(AH52:AN52>0,AH52:AN52))} -> 0 | AP52: {=MIN(IF(AH52:AN52>0,AH52:AN52))} -> 0 | AQ52: =ROUND(AVERAGE((SUM(AH52:AN52)-AO52-AP52)/5),2) -> 0

Sheet 考核招聘-含招聘人数
A1: 序号 | B1: 姓名 | C1: 准考证号 | D1: 报考岗位 | E1: 招聘人数 | F1: 笔试成绩 | G1: 笔试排名 | H1: 备注 | J1: 报考岗位 | K1: 招聘人数
A2: 1 | D2: 【11】琼中县融媒体中心 | E2: 1 | F2: — | G2: — | H2: 直接入围面试 | J2: 【11】琼中县融媒体中心 | K2: 1
A3: 2 | D3: 【11】琼中县融媒体中心 | E3: 1 | F3: — | G3: — | H3: 直接入围面试 | J3: 【12】琼中县融媒体中心 | K3: 1
A4: 3 | D4: 【11】琼中县融媒体中心 | E4: 1 | F4: — | G4: — | H4: 直接入围面试 | J4: 【17】琼中县农业技术研究推广中心 | K4: 1
A5: 4 | D5: 【11】琼中县融媒体中心 | E5: 1 | F5: — | G5: — | H5: 直接入围面试
A6: 5 | D6: 【11】琼中县融媒体中心 | E6: 1 | F6: — | G6: — | H6: 直接入围面试
A7: 6 | D7: 【11】琼中县融媒体中心 | E7: 1 | F7: — | G7: — | H7: 直接入围面试
A8: 7 | D8: 【11】琼中县融媒体中心 | E8: 1 | F8: — | G8: — | H8: 直接入围面试
A9: 8 | D9: 【11】琼中县融媒体中心 | E9: 1 | F9: — | G9: — | H9: 直接入围面试
A10: 9 | D10: 【12】琼中县融媒体中心 | E10: 1 | F10: — | G10: — | H10: 直接入围面试
A11: 10 | D11: 【12】琼中县融媒体中心 | E11: 1 | F11: — | G11: — | H11: 直接入围面试
A12: 11 | D12: 【17】琼中县农业技术研究推广中心 | E12: 1 | F12: — | G12: — | H12: 直接入围面试
A13: 12 | D13: 【17】琼中县农业技术研究推广中心 | E13: 1 | F13: — | G13: — | H13: 直接入围面试
A14: 13 | D14: 【17】琼中县农业技术研究推广中心 | E14: 1 | F14: — | G14: — | H14: 直接入围面试
A15: 14 | D15: 【17】琼中县农业技术研究推广中心 | E15: 1 | F15: — | G15: — | H15: 直接入围面试
A16: 15 | D16: 【17】琼中县农业技术研究推广中心 | E16: 1 | F16: — | G16: — | H16: 直接入围面试
... A44: 43 | D44: 【17】琼中县农业技术研究推广中心 | E44: 1 | F44: — | G44: — | H44: 直接入围面试

Sheet 面试成绩及入围考察人员
A1: 昌江昌粮储备有限公司2025年公开招聘工作人员 面试成绩及入围考察人员名单
A2: 序号 | B2: 姓名 | C2: 准考证号 | D2: 报考岗位 | E2: 面试成绩 | F2: 面试成绩排名 | G2: 是否入围考察 | H2: 备注
A3: 1 | B3: 陈艳 | C3: 250419010120 | D3: 财务室【会计】 | E3: 75.33 | F3: 1 | G3: 是
A4: 2 | B4: 陈厚宏 | C4: 250419010116 | D4: 财务室【会计】 | E4: 75 | F4: 2
A5: 3 | B5: 郑余权 | C5: 250419010113 | D5: 财务室【会计】 | E5: 73 | F5: 3
A6: 4 | B6: 谢琼昊 | C6: 250419010126 | D6: 财务室【会计】 | E6: 63 | F6: 4
A7: 5 | B7: 崔经玥 | C7: 250419010124 | D7: 财务室【会计】 | E7: 62 | F7: 5
A8: 6 | B8: 李星 | C8: 250419010118 | D8: 财务室【会计】 | E8: 61 | F8: 6
A9: 7 | B9: 兰明强 | C9: 250419010103 | D9: 财务室【会计】 | E9: 缺考 | F9: —
A10: 8 | B10: 倪小硕 | C10: 250419010104 | D10: 财务室【会计】 | E10: 缺考 | F10: —
A11: 9 | B11: 黄方心 | C11: 250419010105 | D11: 财务室【会计】 | E11: 缺考 | F11: —
A12: 10 | B12: 黄照斌 | C12: 250419010106 | D12: 财务室【会计】 | E12: 缺考 | F12: —
A13: 11 | B13: 陈家志 | C13: 250419010107 | D13: 财务室【会计】 | E13: 缺考 | F13: —
A14: 12 | B14: 何柳莹 | C14: 250419010109 | D14: 财务室【会计】 | E14: 缺考 | F14: —
A15: 13 | B15: 许慧霞 | C15: 250419010110 | D15: 财务室【会计】 | E15: 缺考 | F15: —
A16: 14 | B16: 张江凤 | C16: 250419010112 | D16: 财务室【会计】 | E16: 缺考 | F16: —
A17: 15 | B17: 吴永强 | C17: 250419010117 | D17: 财务室【会计】 | E17: 缺考 | F17: —
A18: 16 | B18: 赵光凤 | C18: 250419010125 | D18: 仓储室【检验员】 | E18: 68.33 | F18: 1 | G18: 是
A19: 17 | B19: 王崇旭 | C19: 250419010111 | D19: 仓储室【检验员】 | E19: 66.33 | F19: 2
A20: 18 | B20: 辜祖明 | C20: 250419010121 | D20: 仓储室【检验员】 | E20: 64.67 | F20: 3
A21: 19 | B21: 林华嗣 | C21: 250419010101 | D21: 仓储室【检验员】 | E21: 缺考 | F21: —
A22: 20 | B22: 莫永康 | C22: 250419010102 | D22: 仓储室【检验员】 | E22: 缺考 | F22: —
A23: 21 | B23: 林钰雯 | C23: 250419010108 | D23: 仓储室【检验员】 | E23: 缺考 | F23: —
A24: 22 | B24: 周诗莹 | C24: 250419010115 | D24: 仓储室【检验员】 | E24: 缺考 | F24: —
A25: 23 | B25: 柳刚 | C25: 250419010119 | D25: 仓储室【检验员】 | E25: 缺考 | F25: —
A26: 24 | B26: 李天赵 | C26: 250419010122 | D26: 仓储室【检验员】 | E26: 缺考 | F26: —
A27: 25 | B27: 林先兴 | C27: 250419010123 | D27: 仓储室【检验员】 | E27: 缺考 | F27: —
A28: 26 | B28: 曾祖琴 | C28: 250419010114 | D28: 综合办公室【党务工作人员】 | E28: 缺考 | F28: —

Sheet 考核招聘成绩
A1: 琼中黎族苗族自治县2024年下半年面向社会公开招聘事业单位工作人员 面试成绩【考核招聘】
A2: 序号 | B2: 辅助列 | C2: 姓名 | D2: 准考证号 | E2: 身份证号 | F2: 报考岗位 | G2: 岗位招聘 人数 | H2: 面试成绩 | I2: 面试成绩排名 | J2: 是否入围体检 | K2: 备注
A3: 1 | B3: =INDEX(#REF!,MATCH(考核招聘成绩!D3,#REF!,0)) -> #REF! | C3: 潘丽 | D3: 250104010210 | E3: 460036198812297523 | F3: 【11】琼中县融媒体中心 | G3: =INDEX('考核招聘-含招聘人数'!$K:$K,MATCH(考核招聘成绩!F3,'考核招聘-含招聘人数'!$J:$J,0)) -> 1 | H3: =IFERROR(INDEX(#REF!,MATCH($B3,#REF!,0)),IFERROR(INDEX(第2面试室!$BE:$BE,MATCH($B3,第2面试室!$B:$B,0)),IFERROR(INDEX(第3面试室!$BE:$BE,MATCH($B3,第3面试室!$B:$B,0)),IFERROR(INDEX(第4面试室!$BE:$BE,MATCH($B3,第4面试室!$B:$B,0)),IFERROR(INDEX(第5面试室!$BE:$BE,MATCH($B3,第5面试室!$B:$B,0)),IFERROR(INDEX(第6面试室!$BE:$BE,MATCH($B3,第6面试室!$B:$B,0)),IFERROR(INDEX(第7面试室!$AQ:$AQ,MATCH($B3,第7面试室!$B:$B,0)),IFERROR(INDEX(第8面试室!$AQ:$AQ,MATCH($B3,第8面试室!$B:$B,0)),IFERROR(INDEX(第9面试室!$AQ:$AQ,MATCH($B3,第9面试室!$B:$B,0)),IFERROR(INDEX(第10面试室!$AQ:$AQ,MATCH($B3,第10面试室!$B:$B,0)),0)))))))))) -> 0 | I3: =SUMPRODUCT(($H$3:$H$45>H3)*($F$3:$F$45=F3))+1 -> 1 | J3: =IF(H3=0,"",IF(I3<=G3,"是",""))
A4: 2 | B4: =INDEX(#REF!,MATCH(考核招聘成绩!D4,#REF!,0)) -> #REF! | C4: 邓恺芊 | D4: 250104010211 | E4: 460036199903130029 | F4: 【11】琼中县融媒体中心 | G4: =INDEX('考核招聘-含招聘人数'!$K:$K,MATCH(考核招聘成绩!F4,'考核招聘-含招聘人数'!$J:$J,0)) -> 1 | H4: =IFERROR(INDEX(#REF!,MATCH($B4,#REF!,0)),IFERROR(INDEX(第2面试室!$BE:$BE,MATCH($B4,第2面试室!$B:$B,0)),IFERROR(INDEX(第3面试室!$BE:$BE,MATCH($B4,第3面试室!$B:$B,0)),IFERROR(INDEX(第4面试室!$BE:$BE,MATCH($B4,第4面试室!$B:$B,0)),IFERROR(INDEX(第5面试室!$BE:$BE,MATCH($B4,第5面试室!$B:$B,0)),IFERROR(INDEX(第6面试室!$BE:$BE,MATCH($B4,第6面试室!$B:$B,0)),IFERROR(INDEX(第7面试室!$AQ:$AQ,MATCH($B4,第7面试室!$B:$B,0)),IFERROR(INDEX(第8面试室!$AQ:$AQ,MATCH($B4,第8面试室!$B:$B,0)),IFERROR(INDEX(第9面试室!$AQ:$AQ,MATCH($B4,第9面试室!$B:$B,0)),IFERROR(INDEX(第10面试室!$AQ:$AQ,MATCH($B4,第10面试室!$B:$B,0)),0)))))))))) -> 0 | I4: =SUMPRODUCT(($H$3:$H$45>H4)*($F$3:$F$45=F4))+1 -> 1 | J4: =IF(H4=0,"",IF(I4<=G4,"是",""))
A5: 3 | B5: =INDEX(#REF!,MATCH(考核招聘成绩!D5,#REF!,0)) -> #REF! | C5: 卓小月 | D5: 250104010212 | E5: 460036199702130428 | F5: 【11】琼中县融媒体中心 | G5: =INDEX('考核招聘-含招聘人数'!$K:$K,MATCH(考核招聘成绩!F5,'考核招聘-含招聘人数'!$J:$J,0)) -> 1 | H5: =IFERROR(INDEX(#REF!,MATCH($B5,#REF!,0)),IFERROR(INDEX(第2面试室!$BE:$BE,MATCH($B5,第2面试室!$B:$B,0)),IFERROR(INDEX(第3面试室!$BE:$BE,MATCH($B5,第3面试室!$B:$B,0)),IFERROR(INDEX(第4面试室!$BE:$BE,MATCH($B5,第4面试室!$B:$B,0)),IFERROR(INDEX(第5面试室!$BE:$BE,MATCH($B5,第5面试室!$B:$B,0)),IFERROR(INDEX(第6面试室!$BE:$BE,MATCH($B5,第6面试室!$B:$B,0)),IFERROR(INDEX(第7面试室!$AQ:$AQ,MATCH($B5,第7面试室!$B:$B,0)),IFERROR(INDEX(第8面试室!$AQ:$AQ,MATCH($B5,第8面试室!$B:$B,0)),IFERROR(INDEX(第9面试室!$AQ:$AQ,MATCH($B5,第9面试室!$B:$B,0)),IFERROR(INDEX(第10面试室!$AQ:$AQ,MATCH($B5,第10面试室!$B:$B,0)),0)))))))))) -> 0 | I5: =SUMPRODUCT(($H$3:$H$45>H5)*($F$3:$F$45=F5))+1 -> 1 | J5: =IF(H5=0,"",IF(I5<=G5,"是",""))
A6: 4 | B6: =INDEX(#REF!,MATCH(考核招聘成绩!D6,#REF!,0)) -> #REF! | C6: 李红 | D6: 250104010213 | E6: 460030199709090045 | F6: 【11】琼中县融媒体中心 | G6: =INDEX('考核招聘-含招聘人数'!$K:$K,MATCH(考核招聘成绩!F6,'考核招聘-含招聘人数'!$J:$J,0)) -> 1 | H6: =IFERROR(INDEX(#REF!,MATCH($B6,#REF!,0)),IFERROR(INDEX(第2面试室!$BE:$BE,MATCH($B6,第2面试室!$B:$B,0)),IFERROR(INDEX(第3面试室!$BE:$BE,MATCH($B6,第3面试室!$B:$B,0)),IFERROR(INDEX(第4面试室!$BE:$BE,MATCH($B6,第4面试室!$B:$B,0)),IFERROR(INDEX(第5面试室!$BE:$BE,MATCH($B6,第5面试室!$B:$B,0)),IFERROR(INDEX(第6面试室!$BE:$BE,MATCH($B6,第6面试室!$B:$B,0)),IFERROR(INDEX(第7面试室!$AQ:$AQ,MATCH($B6,第7面试室!$B:$B,0)),IFERROR(INDEX(第8面试室!$AQ:$AQ,MATCH($B6,第8面试室!$B:$B,0)),IFERROR(INDEX(第9面试室!$AQ:$AQ,MATCH($B6,第9面试室!$B:$B,0)),IFERROR(INDEX(第10面试室!$AQ:$AQ,MATCH($B6,第10面试室!$B:$B,0)),0)))))))))) -> 0 | I6: =SUMPRODUCT(($H$3:$H$45>H6)*($F$3:$F$45=F6))+1 -> 1 | J6: =IF(H6=0,"",IF(I6<=G6,"是",""))
A7: 5 | B7: =INDEX(#REF!,MATCH(考核招聘成绩!D7,#REF!,0)) -> #REF! | C7: 郑茹月 | D7: 250104010214 | E7: 460036199510070029 | F7: 【11】琼中县融媒体中心 | G7: =INDEX('考核招聘-含招聘人数'!$K:$K,MATCH(考核招聘成绩!F7,'考核招聘-含招聘人数'!$J:$J,0)) -> 1 | H7: =IFERROR(INDEX(#REF!,MATCH($B7,#REF!,0)),IFERROR(INDEX(第2面试室!$BE:$BE,MATCH($B7,第2面试室!$B:$B,0)),IFERROR(INDEX(第3面试室!$BE:$BE,MATCH($B7,第3面试室!$B:$B,0)),IFERROR(INDEX(第4面试室!$BE:$BE,MATCH($B7,第4面试室!$B:$B,0)),IFERROR(INDEX(第5面试室!$BE:$BE,MATCH($B7,第5面试室!$B:$B,0)),IFERROR(INDEX(第6面试室!$BE:$BE,MATCH($B7,第6面试室!$B:$B,0)),IFERROR(INDEX(第7面试室!$AQ:$AQ,MATCH($B7,第7面试室!$B:$B,0)),IFERROR(INDEX(第8面试室!$AQ:$AQ,MATCH($B7,第8面试室!$B:$B,0)),IFERROR(INDEX(第9面试室!$AQ:$AQ,MATCH($B7,第9面试室!$B:$B,0)),IFERROR(INDEX(第10面试室!$AQ:$AQ,MATCH($B7,第10面试室!$B:$B,0)),0)))))))))) -> 0 | I7: =SUMPRODUCT(($H$3:$H$45>H7)*($F$3:$F$45=F7))+1 -> 1 | J7: =IF(H7=0,"",IF(I7<=G7,"是",""))
A8: 6 | B8: =INDEX(#REF!,MATCH(考核招聘成绩!D8,#REF!,0)) -> #REF! | C8: 杨宇莉 | D8: 250104010215 | E8: 460036199904297023 | F8: 【11】琼中县融媒体中心 | G8: =INDEX('考核招聘-含招聘人数'!$K:$K,MATCH(考核招聘成绩!F8,'考核招聘-含招聘人数'!$J:$J,0)) -> 1 | H8: =IFERROR(INDEX(#REF!,MATCH($B8,#REF!,0)),IFERROR(INDEX(第2面试室!$BE:$BE,MATCH($B8,第2面试室!$B:$B,0)),IFERROR(INDEX(第3面试室!$BE:$BE,MATCH($B8,第3面试室!$B:$B,0)),IFERROR(INDEX(第4面试室!$BE:$BE,MATCH($B8,第4面试室!$B:$B,0)),IFERROR(INDEX(第5面试室!$BE:$BE,MATCH($B8,第5面试室!$B:$B,0)),IFERROR(INDEX(第6面试室!$BE:$BE,MATCH($B8,第6面试室!$B:$B,0)),IFERROR(INDEX(第7面试室!$AQ:$AQ,MATCH($B8,第7面试室!$B:$B,0)),IFERROR(INDEX(第8面试室!$AQ:$AQ,MATCH($B8,第8面试室!$B:$B,0)),IFERROR(INDEX(第9面试室!$AQ:$AQ,MATCH($B8,第9面试室!$B:$B,0)),IFERROR(INDEX(第10面试室!$AQ:$AQ,MATCH($B8,第10面试室!$B:$B,0)),0)))))))))) -> 0 | I8: =SUMPRODUCT(($H$3:$H$45>H8)*($F$3:$F$45=F8))+1 -> 1 | J8: =IF(H8=0,"",IF(I8<=G8,"是",""))
A9: 7 | B9: =INDEX(#REF!,MATCH(考核招聘成绩!D9,#REF!,0)) -> #REF! | C9: 符丽婕 | D9: 250104010216 | E9: 460030199706190323 | F9: 【11】琼中县融媒体中心 | G9: =INDEX('考核招聘-含招聘人数'!$K:$K,MATCH(考核招聘成绩!F9,'考核招聘-含招聘人数'!$J:$J,0)) -> 1 | H9: =IFERROR(INDEX(#REF!,MATCH($B9,#REF!,0)),IFERROR(INDEX(第2面试室!$BE:$BE,MATCH($B9,第2面试室!$B:$B,0)),IFERROR(INDEX(第3面试室!$BE:$BE,MATCH($B9,第3面试室!$B:$B,0)),IFERROR(INDEX(第4面试室!$BE:$BE,MATCH($B9,第4面试室!$B:$B,0)),IFERROR(INDEX(第5面试室!$BE:$BE,MATCH($B9,第5面试室!$B:$B,0)),IFERROR(INDEX(第6面试室!$BE:$BE,MATCH($B9,第6面试室!$B:$B,0)),IFERROR(INDEX(第7面试室!$AQ:$AQ,MATCH($B9,第7面试室!$B:$B,0)),IFERROR(INDEX(第8面试室!$AQ:$AQ,MATCH($B9,第8面试室!$B:$B,0)),IFERROR(INDEX(第9面试室!$AQ:$AQ,MATCH($B9,第9面试室!$B:$B,0)),IFERROR(INDEX(第10面试室!$AQ:$AQ,MATCH($B9,第10面试室!$B:$B,0)),0)))))))))) -> 0 | I9: =SUMPRODUCT(($H$3:$H$45>H9)*($F$3:$F$45=F9))+1 -> 1 | J9: =IF(H9=0,"",IF(I9<=G9,"是",""))
A10: 8 | B10: =INDEX(#REF!,MATCH(考核招聘成绩!D10,#REF!,0)) -> #REF! | C10: 李运圣 | D10: 250104010217 | E10: 460036199610082115 | F10: 【11】琼中县融媒体中心 | G10: =INDEX('考核招聘-含招聘人数'!$K:$K,MATCH(考核招聘成绩!F10,'考核招聘-含招聘人数'!$J:$J,0)) -> 1 | H10: =IFERROR(INDEX(#REF!,MATCH($B10,#REF!,0)),IFERROR(INDEX(第2面试室!$BE:$BE,MATCH($B10,第2面试室!$B:$B,0)),IFERROR(INDEX(第3面试室!$BE:$BE,MATCH($B10,第3面试室!$B:$B,0)),IFERROR(INDEX(第4面试室!$BE:$BE,MATCH($B10,第4面试室!$B:$B,0)),IFERROR(INDEX(第5面试室!$BE:$BE,MATCH($B10,第5面试室!$B:$B,0)),IFERROR(INDEX(第6面试室!$BE:$BE,MATCH($B10,第6面试室!$B:$B,0)),IFERROR(INDEX(第7面试室!$AQ:$AQ,MATCH($B10,第7面试室!$B:$B,0)),IFERROR(INDEX(第8面试室!$AQ:$AQ,MATCH($B10,第8面试室!$B:$B,0)),IFERROR(INDEX(第9面试室!$AQ:$AQ,MATCH($B10,第9面试室!$B:$B,0)),IFERROR(INDEX(第10面试室!$AQ:$AQ,MATCH($B10,第10面试室!$B:$B,0)),0)))))))))) -> 0 | I10: =SUMPRODUCT(($H$3:$H$45>H10)*($F$3:$F$45=F10))+1 -> 1 | J10: =IF(H10=0,"",IF(I10<=G10,"是",""))
A11: 9 | B11: =INDEX(#REF!,MATCH(考核招聘成绩!D11,#REF!,0)) -> #REF! | C11: 王家伟 | D11: 250104010218 | E11: 460026198507170013 | F11: 【12】琼中县融媒体中心 | G11: =INDEX('考核招聘-含招聘人数'!$K:$K,MATCH(考核招聘成绩!F11,'考核招聘-含招聘人数'!$J:$J,0)) -> 1 | H11: =IFERROR(INDEX(#REF!,MATCH($B11,#REF!,0)),IFERROR(INDEX(第2面试室!$BE:$BE,MATCH($B11,第2面试室!$B:$B,0)),IFERROR(INDEX(第3面试室!$BE:$BE,MATCH($B11,第3面试室!$B:$B,0)),IFERROR(INDEX(第4面试室!$BE:$BE,MATCH($B11,第4面试室!$B:$B,0)),IFERROR(INDEX(第5面试室!$BE:$BE,MATCH($B11,第5面试室!$B:$B,0)),IFERROR(INDEX(第6面试室!$BE:$BE,MATCH($B11,第6面试室!$B:$B,0)),IFERROR(INDEX(第7面试室!$AQ:$AQ,MATCH($B11,第7面试室!$B:$B,0)),IFERROR(INDEX(第8面试室!$AQ:$AQ,MATCH($B11,第8面试室!$B:$B,0)),IFERROR(INDEX(第9面试室!$AQ:$AQ,MATCH($B11,第9面试室!$B:$B,0)),IFERROR(INDEX(第10面试室!$AQ:$AQ,MATCH($B11,第10面试室!$B:$B,0)),0)))))))))) -> 0 | I11: =SUMPRODUCT(($H$3:$H$45>H11)*($F$3:$F$45=F11))+1 -> 1 | J11: =IF(H11=0,"",IF(I11<=G11,"是",""))
A12: 10 | B12: =INDEX(#REF!,MATCH(考核招聘成绩!D12,#REF!,0)) -> #REF! | C12: 符永强 | D12: 250104010219 | E12: 460002199104100516 | F12: 【12】琼中县融媒体中心 | G12: =INDEX('考核招聘-含招聘人数'!$K:$K,MATCH(考核招聘成绩!F12,'考核招聘-含招聘人数'!$J:$J,0)) -> 1 | H12: =IFERROR(INDEX(#REF!,MATCH($B12,#REF!,0)),IFERROR(INDEX(第2面试室!$BE:$BE,MATCH($B12,第2面试室!$B:$B,0)),IFERROR(INDEX(第3面试室!$BE:$BE,MATCH($B12,第3面试室!$B:$B,0)),IFERROR(INDEX(第4面试室!$BE:$BE,MATCH($B12,第4面试室!$B:$B,0)),IFERROR(INDEX(第5面试室!$BE:$BE,MATCH($B12,第5面试室!$B:$B,0)),IFERROR(INDEX(第6面试室!$BE:$BE,MATCH($B12,第6面试室!$B:$B,0)),IFERROR(INDEX(第7面试室!$AQ:$AQ,MATCH($B12,第7面试室!$B:$B,0)),IFERROR(INDEX(第8面试室!$AQ:$AQ,MATCH($B12,第8面试室!$B:$B,0)),IFERROR(INDEX(第9面试室!$AQ:$AQ,MATCH($B12,第9面试室!$B:$B,0)),IFERROR(INDEX(第10面试室!$AQ:$AQ,MATCH($B12,第10面试室!$B:$B,0)),0)))))))))) -> 0 | I12: =SUMPRODUCT(($H$3:$H$45>H12)*($F$3:$F$45=F12))+1 -> 1 | J12: =IF(H12=0,"",IF(I12<=G12,"是",""))
A13: 11 | B13: =INDEX(#REF!,MATCH(考核招聘成绩!D13,#REF!,0)) -> #REF! | C13: 丁宇 | D13: 250104010301 | E13: 460004199610210040 | F13: 【17】琼中县农业技术研究推广中心 | G13: =INDEX('考核招聘-含招聘人数'!$K:$K,MATCH(考核招聘成绩!F13,'考核招聘-含招聘人数'!$J:$J,0)) -> 1 | H13: =IFERROR(INDEX(#REF!,MATCH($B13,#REF!,0)),IFERROR(INDEX(第2面试室!$BE:$BE,MATCH($B13,第2面试室!$B:$B,0)),IFERROR(INDEX(第3面试室!$BE:$BE,MATCH($B13,第3面试室!$B:$B,0)),IFERROR(INDEX(第4面试室!$BE:$BE,MATCH($B13,第4面试室!$B:$B,0)),IFERROR(INDEX(第5面试室!$BE:$BE,MATCH($B13,第5面试室!$B:$B,0)),IFERROR(INDEX(第6面试室!$BE:$BE,MATCH($B13,第6面试室!$B:$B,0)),IFERROR(INDEX(第7面试室!$AQ:$AQ,MATCH($B13,第7面试室!$B:$B,0)),IFERROR(INDEX(第8面试室!$AQ:$AQ,MATCH($B13,第8面试室!$B:$B,0)),IFERROR(INDEX(第9面试室!$AQ:$AQ,MATCH($B13,第9面试室!$B:$B,0)),IFERROR(INDEX(第10面试室!$AQ:$AQ,MATCH($B13,第10面试室!$B:$B,0)),0)))))))))) -> 0 | I13: =SUMPRODUCT(($H$3:$H$45>H13)*($F$3:$F$45=F13))+1 -> 1 | J13: =IF(H13=0,"",IF(I13<=G13,"是",""))
A14: 12 | B14: =INDEX(#REF!,MATCH(考核招聘成绩!D14,#REF!,0)) -> #REF! | C14: 何颖 | D14: 250104010302 | E14: 460027199912255628 | F14: 【17】琼中县农业技术研究推广中心 | G14: =INDEX('考核招聘-含招聘人数'!$K:$K,MATCH(考核招聘成绩!F14,'考核招聘-含招聘人数'!$J:$J,0)) -> 1 | H14: =IFERROR(INDEX(#REF!,MATCH($B14,#REF!,0)),IFERROR(INDEX(第2面试室!$BE:$BE,MATCH($B14,第2面试室!$B:$B,0)),IFERROR(INDEX(第3面试室!$BE:$BE,MATCH($B14,第3面试室!$B:$B,0)),IFERROR(INDEX(第4面试室!$BE:$BE,MATCH($B14,第4面试室!$B:$B,0)),IFERROR(INDEX(第5面试室!$BE:$BE,MATCH($B14,第5面试室!$B:$B,0)),IFERROR(INDEX(第6面试室!$BE:$BE,MATCH($B14,第6面试室!$B:$B,0)),IFERROR(INDEX(第7面试室!$AQ:$AQ,MATCH($B14,第7面试室!$B:$B,0)),IFERROR(INDEX(第8面试室!$AQ:$AQ,MATCH($B14,第8面试室!$B:$B,0)),IFERROR(INDEX(第9面试室!$AQ:$AQ,MATCH($B14,第9面试室!$B:$B,0)),IFERROR(INDEX(第10面试室!$AQ:$AQ,MATCH($B14,第10面试室!$B:$B,0)),0)))))))))) -> 0 | I14: =SUMPRODUCT(($H$3:$H$45>H14)*($F$3:$F$45=F14))+1 -> 1 | J14: =IF(H14=0,"",IF(I14<=G14,"是",""))
... A45: 43 | B45: =INDEX(#REF!,MATCH(考核招聘成绩!D45,#REF!,0)) -> #REF! | C45: 周运露 | D45: 250104010333 | E45: 460033199804088348 | F45: 【17】琼中县农业技术研究推广中心 | G45: =INDEX('考核招聘-含招聘人数'!$K:$K,MATCH(考核招聘成绩!F45,'考核招聘-含招聘人数'!$J:$J,0)) -> 1 | H45: =IFERROR(INDEX(#REF!,MATCH($B45,#REF!,0)),IFERROR(INDEX(第2面试室!$BE:$BE,MATCH($B45,第2面试室!$B:$B,0)),IFERROR(INDEX(第3面试室!$BE:$BE,MATCH($B45,第3面试室!$B:$B,0)),IFERROR(INDEX(第4面试室!$BE:$BE,MATCH($B45,第4面试室!$B:$B,0)),IFERROR(INDEX(第5面试室!$BE:$BE,MATCH($B45,第5面试室!$B:$B,0)),IFERROR(INDEX(第6面试室!$BE:$BE,MATCH($B45,第6面试室!$B:$B,0)),IFERROR(INDEX(第7面试室!$AQ:$AQ,MATCH($B45,第7面试室!$B:$B,0)),IFERROR(INDEX(第8面试室!$AQ:$AQ,MATCH($B45,第8面试室!$B:$B,0)),IFERROR(INDEX(第9面试室!$AQ:$AQ,MATCH($B45,第9面试室!$B:$B,0)),IFERROR(INDEX(第10面试室!$AQ:$AQ,MATCH($B45,第10面试室!$B:$B,0)),0)))))))))) -> 0 | I45: =SUMPRODUCT(($H$3:$H$45>H45)*($F$3:$F$45=F45))+1 -> 1 | J45: =IF(H45=0,"",IF(I45<=G45,"是",""))
